BEGIN:VCALENDAR
VERSION:2.0
PRODID:-//Southeast Orthopedic Specialists - ECPv6.15.20//NONSGML v1.0//EN
CALSCALE:GREGORIAN
METHOD:PUBLISH
X-WR-CALNAME:Southeast Orthopedic Specialists
X-ORIGINAL-URL:https://se-ortho.com
X-WR-CALDESC:Events for Southeast Orthopedic Specialists
REFRESH-INTERVAL;VALUE=DURATION:PT1H
X-Robots-Tag:noindex
X-PUBLISHED-TTL:PT1H
BEGIN:VTIMEZONE
TZID:America/New_York
BEGIN:DAYLIGHT
TZOFFSETFROM:-0500
TZOFFSETTO:-0400
TZNAME:EDT
DTSTART:20180311T070000
END:DAYLIGHT
BEGIN:STANDARD
TZOFFSETFROM:-0400
TZOFFSETTO:-0500
TZNAME:EST
DTSTART:20181104T060000
END:STANDARD
BEGIN:DAYLIGHT
TZOFFSETFROM:-0500
TZOFFSETTO:-0400
TZNAME:EDT
DTSTART:20190310T070000
END:DAYLIGHT
BEGIN:STANDARD
TZOFFSETFROM:-0400
TZOFFSETTO:-0500
TZNAME:EST
DTSTART:20191103T060000
END:STANDARD
BEGIN:DAYLIGHT
TZOFFSETFROM:-0500
TZOFFSETTO:-0400
TZNAME:EDT
DTSTART:20200308T070000
END:DAYLIGHT
BEGIN:STANDARD
TZOFFSETFROM:-0400
TZOFFSETTO:-0500
TZNAME:EST
DTSTART:20201101T060000
END:STANDARD
END:VTIMEZONE
BEGIN:VEVENT
DTSTART;TZID=America/New_York:20190507T183000
DTEND;TZID=America/New_York:20190507T200000
DTSTAMP:20260423T050512
CREATED:20190426T131348Z
LAST-MODIFIED:20190426T131348Z
UID:3536-1557253800-1557259200@se-ortho.com
SUMMARY:Dr. Esser Healthy Living Seminar
DESCRIPTION:Learn why the foods you love don’t love you back!\nAre you eating because you are bored? Lonely? Celebrating?\nJoin Dr. Esser and Southeast Orthopedic Specialists for a free evening of learning! \nTopic: The Emotions of Eating\nRSVP to: Healthyliving@se-ortho.com
URL:https://se-ortho.com/event/dr-esser-healthy-living-seminar/
CATEGORIES:Health Living Seminars
END:VEVENT
BEGIN:VEVENT
DTSTART;TZID=America/New_York:20190507T183000
DTEND;TZID=America/New_York:20190507T200000
DTSTAMP:20260423T050512
CREATED:20190426T131348Z
LAST-MODIFIED:20190426T131348Z
UID:66970-1557253800-1557259200@se-ortho.com
SUMMARY:Dr. Esser Healthy Living Seminar
DESCRIPTION:Learn why the foods you love don’t love you back!\nAre you eating because you are bored? Lonely? Celebrating?\nJoin Dr. Esser and Southeast Orthopedic Specialists for a free evening of learning! \nTopic: The Emotions of Eating\nRSVP to: Healthyliving@se-ortho.com
URL:https://se-ortho.com/event/dr-esser-healthy-living-seminar-3/
CATEGORIES:Health Living Seminars
END:VEVENT
BEGIN:VEVENT
DTSTART;TZID=America/New_York:20190504T080000
DTEND;TZID=America/New_York:20190504T120000
DTSTAMP:20260423T050512
CREATED:20190426T131542Z
LAST-MODIFIED:20190426T131542Z
UID:66971-1556956800-1556971200@se-ortho.com
SUMMARY:Brady Kinder Superhero 5K Run
DESCRIPTION:Come join us for The Brady Kinder Foundation’s first annual Brady’s Superhero 5k and fun run! The Brady Kinder Foundation\, Inc is a 501(c) non-profit organization founded in memory of Brady Kinder.
URL:https://se-ortho.com/event/brady-kinder-run-2/
END:VEVENT
BEGIN:VEVENT
DTSTART;TZID=America/New_York:20190504T080000
DTEND;TZID=America/New_York:20190504T120000
DTSTAMP:20260423T050512
CREATED:20190426T131542Z
LAST-MODIFIED:20190426T131542Z
UID:3541-1556956800-1556971200@se-ortho.com
SUMMARY:Brady Kinder Superhero 5K Run
DESCRIPTION:Come join us for The Brady Kinder Foundation’s first annual Brady’s Superhero 5k and fun run! The Brady Kinder Foundation\, Inc is a 501(c) non-profit organization founded in memory of Brady Kinder.
URL:https://se-ortho.com/event/brady-kinder-run/
END:VEVENT
END:VCALENDAR