BEGIN:VCALENDAR
VERSION:2.0
PRODID:-//Southeast Orthopedic Specialists - ECPv6.15.18//NONSGML v1.0//EN
CALSCALE:GREGORIAN
METHOD:PUBLISH
X-WR-CALNAME:Southeast Orthopedic Specialists
X-ORIGINAL-URL:https://se-ortho.com
X-WR-CALDESC:Events for Southeast Orthopedic Specialists
REFRESH-INTERVAL;VALUE=DURATION:PT1H
X-Robots-Tag:noindex
X-PUBLISHED-TTL:PT1H
BEGIN:VTIMEZONE
TZID:America/New_York
BEGIN:DAYLIGHT
TZOFFSETFROM:-0500
TZOFFSETTO:-0400
TZNAME:EDT
DTSTART:20180311T070000
END:DAYLIGHT
BEGIN:STANDARD
TZOFFSETFROM:-0400
TZOFFSETTO:-0500
TZNAME:EST
DTSTART:20181104T060000
END:STANDARD
BEGIN:DAYLIGHT
TZOFFSETFROM:-0500
TZOFFSETTO:-0400
TZNAME:EDT
DTSTART:20190310T070000
END:DAYLIGHT
BEGIN:STANDARD
TZOFFSETFROM:-0400
TZOFFSETTO:-0500
TZNAME:EST
DTSTART:20191103T060000
END:STANDARD
BEGIN:DAYLIGHT
TZOFFSETFROM:-0500
TZOFFSETTO:-0400
TZNAME:EDT
DTSTART:20200308T070000
END:DAYLIGHT
BEGIN:STANDARD
TZOFFSETFROM:-0400
TZOFFSETTO:-0500
TZNAME:EST
DTSTART:20201101T060000
END:STANDARD
END:VTIMEZONE
BEGIN:VEVENT
DTSTART;TZID=America/New_York:20190903T080000
DTEND;TZID=America/New_York:20190904T170000
DTSTAMP:20260422T221403
CREATED:20190903T085415Z
LAST-MODIFIED:20190903T085415Z
UID:4252-1567497600-1567616400@se-ortho.com
SUMMARY:Closed | Hurricane Dorian
DESCRIPTION:We hope everyone stays safe during Hurricane Dorian \nDue to the current path of Dorian we have made some adjustments to our schedule. We apologize for any inconvenience but the safety of our patients and our team must be priority. Driving conditions are expected to become hazardous late Tuesday evening. \nCLINIC: \n\nWe will be open at three locations on Tuesday\, September 3rd until 12 NOON. Riverside\, CenterOne (Southside) and Fleming Island will be open for scheduled visits. \nPonte Vedra (Beaches) and Northside clinics will be closed Tuesday. \nThere is no need to call the office and reschedule\, we will reach out after the storm has cleared. \nAll Clinics\, MRI and PT locations will be closed on Wednesday\, September 4th. \nSURGERY: \nWe are currently working with facilities to determine when they will stop doing elective cases. Hospitals will be preparing for emergency issues that arise form the Hurricane so all ELECTIVE cases may be canceled. \nCenterOne Surgery Center will be closed on Tuesday September 3rd and Wednesday September 4th \nSt Vincent locations will only allow elective cases up to 11AM \nMemorial has canceled ALL elective surgeries for Tuesday and Wednesday \nParkside Surgery Center has canceled ALL elective surgeries for Tuesday and Wednesday
URL:https://se-ortho.com/event/closed-hurricane-dorian/
END:VEVENT
BEGIN:VEVENT
DTSTART;TZID=America/New_York:20190903T080000
DTEND;TZID=America/New_York:20190904T170000
DTSTAMP:20260422T221403
CREATED:20190903T085415Z
LAST-MODIFIED:20190903T085415Z
UID:67021-1567497600-1567616400@se-ortho.com
SUMMARY:Closed | Hurricane Dorian
DESCRIPTION:We hope everyone stays safe during Hurricane Dorian \nDue to the current path of Dorian we have made some adjustments to our schedule. We apologize for any inconvenience but the safety of our patients and our team must be priority. Driving conditions are expected to become hazardous late Tuesday evening. \nCLINIC: \n\nWe will be open at three locations on Tuesday\, September 3rd until 12 NOON. Riverside\, CenterOne (Southside) and Fleming Island will be open for scheduled visits. \nPonte Vedra (Beaches) and Northside clinics will be closed Tuesday. \nThere is no need to call the office and reschedule\, we will reach out after the storm has cleared. \nAll Clinics\, MRI and PT locations will be closed on Wednesday\, September 4th. \nSURGERY: \nWe are currently working with facilities to determine when they will stop doing elective cases. Hospitals will be preparing for emergency issues that arise form the Hurricane so all ELECTIVE cases may be canceled. \nCenterOne Surgery Center will be closed on Tuesday September 3rd and Wednesday September 4th \nSt Vincent locations will only allow elective cases up to 11AM \nMemorial has canceled ALL elective surgeries for Tuesday and Wednesday \nParkside Surgery Center has canceled ALL elective surgeries for Tuesday and Wednesday
URL:https://se-ortho.com/event/closed-hurricane-dorian-2/
END:VEVENT
BEGIN:VEVENT
DTSTART;TZID=America/New_York:20190831T090000
DTEND;TZID=America/New_York:20190831T100000
DTSTAMP:20260422T221403
CREATED:20190808T144442Z
LAST-MODIFIED:20190808T144442Z
UID:4190-1567242000-1567245600@se-ortho.com
SUMMARY:Bumps n' Bruises | Free Injury Evaluation Clinic
DESCRIPTION:Free injury evaluation clinic with our Sports Medicine Specialists every Saturday morning (during football season) \n\nFree injury assessment by an expert orthopedic specialist & physical therapist\nRecommended home treatment for simple injuries\nTreatment options and recovery information available for your coach & athletic trainer\nOpen to every school & athletic program\n\nFor additional information contact Amy Lane-Rosoff | amy@se-ortho.com \nBrooks Rehabilitation | Center for Sports Therapy \n10423 Centurion Pkwy N\, Jacksonville\, FL 32256 (inside the YMCA) \nAtlas Physical Therapy | 210 Location \n165 Hampton Point Dr\, Ste. 3\, St. Augustine\, FL 32092 \nPreferred Physical Therapy | Fleming Island Location \n1835 Eastwest Pkwy.\, Ste. 16\, Fleming Island\, FL 32003
URL:https://se-ortho.com/event/bumps-n-bruises-free-injury-evaluation-clinic/
END:VEVENT
BEGIN:VEVENT
DTSTART;TZID=America/New_York:20190831T090000
DTEND;TZID=America/New_York:20190831T100000
DTSTAMP:20260422T221403
CREATED:20190808T144442Z
LAST-MODIFIED:20190808T144442Z
UID:67010-1567242000-1567245600@se-ortho.com
SUMMARY:Bumps n' Bruises | Free Injury Evaluation Clinic
DESCRIPTION:Free injury evaluation clinic with our Sports Medicine Specialists every Saturday morning (during football season) \n\nFree injury assessment by an expert orthopedic specialist & physical therapist\nRecommended home treatment for simple injuries\nTreatment options and recovery information available for your coach & athletic trainer\nOpen to every school & athletic program\n\nFor additional information contact Amy Lane-Rosoff | amy@se-ortho.com \nBrooks Rehabilitation | Center for Sports Therapy \n10423 Centurion Pkwy N\, Jacksonville\, FL 32256 (inside the YMCA) \nAtlas Physical Therapy | 210 Location \n165 Hampton Point Dr\, Ste. 3\, St. Augustine\, FL 32092 \nPreferred Physical Therapy | Fleming Island Location \n1835 Eastwest Pkwy.\, Ste. 16\, Fleming Island\, FL 32003
URL:https://se-ortho.com/event/bumps-n-bruises-free-injury-evaluation-clinic-13/
END:VEVENT
BEGIN:VEVENT
DTSTART;TZID=America/New_York:20190829T190000
DTEND;TZID=America/New_York:20190829T190000
DTSTAMP:20260422T221403
CREATED:20190710T084313Z
LAST-MODIFIED:20190710T084313Z
UID:66992-1567105200-1567105200@se-ortho.com
SUMMARY:Jacksonville Jaguars vs. Atlanta Falcons
DESCRIPTION:Come tailgate with your favorite doctors & medical staff at every home Jaguars game! \nExact spots will be updated soon!
URL:https://se-ortho.com/event/jacksonville-jagurs-vs-atlanta-falcons-2/
END:VEVENT
BEGIN:VEVENT
DTSTART;TZID=America/New_York:20190829T190000
DTEND;TZID=America/New_York:20190829T190000
DTSTAMP:20260422T221403
CREATED:20190710T084313Z
LAST-MODIFIED:20190710T084313Z
UID:4096-1567105200-1567105200@se-ortho.com
SUMMARY:Jacksonville Jaguars vs. Atlanta Falcons
DESCRIPTION:Come tailgate with your favorite doctors & medical staff at every home Jaguars game! \nExact spots will be updated soon!
URL:https://se-ortho.com/event/jacksonville-jagurs-vs-atlanta-falcons/
END:VEVENT
BEGIN:VEVENT
DTSTART;TZID=America/New_York:20190822T183000
DTEND;TZID=America/New_York:20190822T193000
DTSTAMP:20260422T221403
CREATED:20190613T090008Z
LAST-MODIFIED:20190613T090008Z
UID:4030-1566498600-1566502200@se-ortho.com
SUMMARY:Stem Cell Seminar
DESCRIPTION:Join Stephan Esser\, MD to determine if Stem Cell Therapy is a treatment option for YOU! \nTopic: Stem Cell Therapy and Regenerative Medicine \nThis event is FREE but seating is limited\, reserve today by emailing Stemcells@brooksrehab.org \nFood and refreshments will be provided by Moe’s Southwest Grill
URL:https://se-ortho.com/event/stem-cell-seminar-2/
END:VEVENT
BEGIN:VEVENT
DTSTART;TZID=America/New_York:20190822T183000
DTEND;TZID=America/New_York:20190822T193000
DTSTAMP:20260422T221403
CREATED:20190613T090008Z
LAST-MODIFIED:20190613T090008Z
UID:66983-1566498600-1566502200@se-ortho.com
SUMMARY:Stem Cell Seminar
DESCRIPTION:Join Stephan Esser\, MD to determine if Stem Cell Therapy is a treatment option for YOU! \nTopic: Stem Cell Therapy and Regenerative Medicine \nThis event is FREE but seating is limited\, reserve today by emailing Stemcells@brooksrehab.org \nFood and refreshments will be provided by Moe’s Southwest Grill
URL:https://se-ortho.com/event/stem-cell-seminar-2-2/
END:VEVENT
BEGIN:VEVENT
DTSTART;TZID=America/New_York:20190815T190000
DTEND;TZID=America/New_York:20190815T190000
DTSTAMP:20260422T221403
CREATED:20190710T084026Z
LAST-MODIFIED:20190710T084026Z
UID:66991-1565895600-1565895600@se-ortho.com
SUMMARY:Jacksonville Jaguars vs. Philadelphia Eagles
DESCRIPTION:Come tailgate with your favorite doctors & medical staff at every home Jaguars game! \nExact spots will be updated soon!
URL:https://se-ortho.com/event/jacksonville-jaguars-vs-philadelphia-eagles-2/
END:VEVENT
BEGIN:VEVENT
DTSTART;TZID=America/New_York:20190815T190000
DTEND;TZID=America/New_York:20190815T190000
DTSTAMP:20260422T221403
CREATED:20190710T084026Z
LAST-MODIFIED:20190710T084026Z
UID:4091-1565895600-1565895600@se-ortho.com
SUMMARY:Jacksonville Jaguars vs. Philadelphia Eagles
DESCRIPTION:Come tailgate with your favorite doctors & medical staff at every home Jaguars game! \nExact spots will be updated soon!
URL:https://se-ortho.com/event/jacksonville-jaguars-vs-philadelphia-eagles/
END:VEVENT
BEGIN:VEVENT
DTSTART;TZID=America/New_York:20190808T180000
DTEND;TZID=America/New_York:20190808T190000
DTSTAMP:20260422T221403
CREATED:20190710T082802Z
LAST-MODIFIED:20190710T082802Z
UID:66990-1565287200-1565290800@se-ortho.com
SUMMARY:'The Knee That Lasts Forever!' Patient Seminar
DESCRIPTION:Have you or someone you know been experiencing knee pain? It is time to take a stand! \nJoin Dr. Gavan Duffy\, a joint replacement specialist for a seminar that will explore what could be causing your pain and the various options available to you for treating it! \nReserve your seat today by calling (800) 530-3244 then dial 3
URL:https://se-ortho.com/event/the-knee-that-lasts-forever-patient-seminar-2/
END:VEVENT
BEGIN:VEVENT
DTSTART;TZID=America/New_York:20190808T180000
DTEND;TZID=America/New_York:20190808T190000
DTSTAMP:20260422T221403
CREATED:20190710T082802Z
LAST-MODIFIED:20190710T082802Z
UID:4083-1565287200-1565290800@se-ortho.com
SUMMARY:'The Knee That Lasts Forever!' Patient Seminar
DESCRIPTION:Have you or someone you know been experiencing knee pain? It is time to take a stand! \nJoin Dr. Gavan Duffy\, a joint replacement specialist for a seminar that will explore what could be causing your pain and the various options available to you for treating it! \nReserve your seat today by calling (800) 530-3244 then dial 3
URL:https://se-ortho.com/event/the-knee-that-lasts-forever-patient-seminar/
END:VEVENT
BEGIN:VEVENT
DTSTART;TZID=America/New_York:20190808T080000
DTEND;TZID=America/New_York:20190808T170000
DTSTAMP:20260422T221403
CREATED:20190808T151149Z
LAST-MODIFIED:20190808T151149Z
UID:4219-1565251200-1565283600@se-ortho.com
SUMMARY:Beaches Healthy Living Seminar
DESCRIPTION:Join Stephan Esser\, MD and Southeast Orthopedic Specialists for a night of learning \nTopic: The Intersection of Nutrition and Orthopedic Medicine \nSeating is limited so please RSVP to Healthyliving@Brooksrehab.org \nAdmission is FREE \nLight food and refreshments will be provided
URL:https://se-ortho.com/event/beaches-healthy-living-seminar-4/
END:VEVENT
BEGIN:VEVENT
DTSTART;TZID=America/New_York:20190808T080000
DTEND;TZID=America/New_York:20190808T170000
DTSTAMP:20260422T221403
CREATED:20190808T151149Z
LAST-MODIFIED:20190808T151149Z
UID:67020-1565251200-1565283600@se-ortho.com
SUMMARY:Beaches Healthy Living Seminar
DESCRIPTION:Join Stephan Esser\, MD and Southeast Orthopedic Specialists for a night of learning \nTopic: The Intersection of Nutrition and Orthopedic Medicine \nSeating is limited so please RSVP to Healthyliving@Brooksrehab.org \nAdmission is FREE \nLight food and refreshments will be provided
URL:https://se-ortho.com/event/beaches-healthy-living-seminar-4-2/
END:VEVENT
BEGIN:VEVENT
DTSTART;TZID=America/New_York:20190807T183000
DTEND;TZID=America/New_York:20190807T193000
DTSTAMP:20260422T221403
CREATED:20190710T082043Z
LAST-MODIFIED:20190710T082043Z
UID:4081-1565202600-1565206200@se-ortho.com
SUMMARY:Podiatric Medicine Patient Seminar
DESCRIPTION:Have you met our Podiatrist and wound care specialist\, Dr. Gabriel Galan yet? If the answer is no\, then now is the perfect time! \nGrab your friends and reserve your seats today by emailing Marketing@se-ortho.com \nLight snacks & refreshments will be provided \nAttendance for this event is free
URL:https://se-ortho.com/event/podiatric-medicine-patient-seminar/
END:VEVENT
BEGIN:VEVENT
DTSTART;TZID=America/New_York:20190807T183000
DTEND;TZID=America/New_York:20190807T193000
DTSTAMP:20260422T221403
CREATED:20190710T082043Z
LAST-MODIFIED:20190710T082043Z
UID:66989-1565202600-1565206200@se-ortho.com
SUMMARY:Podiatric Medicine Patient Seminar
DESCRIPTION:Have you met our Podiatrist and wound care specialist\, Dr. Gabriel Galan yet? If the answer is no\, then now is the perfect time! \nGrab your friends and reserve your seats today by emailing Marketing@se-ortho.com \nLight snacks & refreshments will be provided \nAttendance for this event is free
URL:https://se-ortho.com/event/podiatric-medicine-patient-seminar-3/
END:VEVENT
BEGIN:VEVENT
DTSTART;TZID=America/New_York:20190731T120000
DTEND;TZID=America/New_York:20190731T130000
DTSTAMP:20260422T221403
CREATED:20190613T093059Z
LAST-MODIFIED:20190613T093059Z
UID:66987-1564574400-1564578000@se-ortho.com
SUMMARY:Hip Pain Seminar with Dr. Max Lincoln
DESCRIPTION:Dr. Max Lincoln is a double fellowship trained\, board-certified orthopedic surgeon \nAs one of our Joint Replacement Specialists he knows the in’s and out’s of hip and knee pain. Join him for an afternoon and learn what is causing your hip pain\, what you can do to prevent further pain and what your best next steps are. \nGrab a friend and we will see you in classroom 7!
URL:https://se-ortho.com/event/hip-pain-seminar-with-dr-max-lincoln-2/
END:VEVENT
BEGIN:VEVENT
DTSTART;TZID=America/New_York:20190731T120000
DTEND;TZID=America/New_York:20190731T130000
DTSTAMP:20260422T221403
CREATED:20190613T093059Z
LAST-MODIFIED:20190613T093059Z
UID:4051-1564574400-1564578000@se-ortho.com
SUMMARY:Hip Pain Seminar with Dr. Max Lincoln
DESCRIPTION:Dr. Max Lincoln is a double fellowship trained\, board-certified orthopedic surgeon \nAs one of our Joint Replacement Specialists he knows the in’s and out’s of hip and knee pain. Join him for an afternoon and learn what is causing your hip pain\, what you can do to prevent further pain and what your best next steps are. \nGrab a friend and we will see you in classroom 7!
URL:https://se-ortho.com/event/hip-pain-seminar-with-dr-max-lincoln/
END:VEVENT
BEGIN:VEVENT
DTSTART;TZID=America/New_York:20190724T183000
DTEND;TZID=America/New_York:20190724T193000
DTSTAMP:20260422T221403
CREATED:20190613T085806Z
LAST-MODIFIED:20190613T085806Z
UID:66982-1563993000-1563996600@se-ortho.com
SUMMARY:Stem Cell Seminar
DESCRIPTION:Join Stephan Esser\, MD to determine if Stem Cell Therapy is a treatment option for YOU! \nTopic: Stem Cell Therapy and Regenerative Medicine \nThis event is FREE but seating is limited\, reserve today by emailing Stemcells@brooksrehab.org \nFood and refreshments will be provided by Moe’s Southwest Grill
URL:https://se-ortho.com/event/stem-cell-seminar-5/
END:VEVENT
BEGIN:VEVENT
DTSTART;TZID=America/New_York:20190724T183000
DTEND;TZID=America/New_York:20190724T193000
DTSTAMP:20260422T221403
CREATED:20190613T085806Z
LAST-MODIFIED:20190613T085806Z
UID:4025-1563993000-1563996600@se-ortho.com
SUMMARY:Stem Cell Seminar
DESCRIPTION:Join Stephan Esser\, MD to determine if Stem Cell Therapy is a treatment option for YOU! \nTopic: Stem Cell Therapy and Regenerative Medicine \nThis event is FREE but seating is limited\, reserve today by emailing Stemcells@brooksrehab.org \nFood and refreshments will be provided by Moe’s Southwest Grill
URL:https://se-ortho.com/event/stem-cell-seminar/
END:VEVENT
BEGIN:VEVENT
DTSTART;TZID=America/New_York:20190710T080000
DTEND;TZID=America/New_York:20190710T170000
DTSTAMP:20260422T221403
CREATED:20190710T084600Z
LAST-MODIFIED:20190710T084600Z
UID:66993-1562745600-1562778000@se-ortho.com
SUMMARY:Labor Day
DESCRIPTION:We are closed today – We hope everyone enjoys this time with their friends and families
URL:https://se-ortho.com/event/labor-day-2/
END:VEVENT
BEGIN:VEVENT
DTSTART;TZID=America/New_York:20190710T080000
DTEND;TZID=America/New_York:20190710T170000
DTSTAMP:20260422T221403
CREATED:20190710T084600Z
LAST-MODIFIED:20190710T084600Z
UID:4101-1562745600-1562778000@se-ortho.com
SUMMARY:Labor Day
DESCRIPTION:We are closed today – We hope everyone enjoys this time with their friends and families
URL:https://se-ortho.com/event/labor-day/
END:VEVENT
BEGIN:VEVENT
DTSTART;TZID=America/New_York:20190709T183000
DTEND;TZID=America/New_York:20190709T193000
DTSTAMP:20260422T221403
CREATED:20190528T151249Z
LAST-MODIFIED:20190528T151249Z
UID:66980-1562697000-1562700600@se-ortho.com
SUMMARY:Beaches Healthy Living Seminar
DESCRIPTION:Join us at Brooks Rehabilitation San Pablo for a free seminar with Stephan Esser\, MD \nRSVP today to Healthyliving@brooksrehab.org \nThere is no cost for the event
URL:https://se-ortho.com/event/beaches-healthy-living-seminar-2/
END:VEVENT
BEGIN:VEVENT
DTSTART;TZID=America/New_York:20190709T183000
DTEND;TZID=America/New_York:20190709T193000
DTSTAMP:20260422T221403
CREATED:20190528T151249Z
LAST-MODIFIED:20190528T151249Z
UID:4016-1562697000-1562700600@se-ortho.com
SUMMARY:Beaches Healthy Living Seminar
DESCRIPTION:Join us at Brooks Rehabilitation San Pablo for a free seminar with Stephan Esser\, MD \nRSVP today to Healthyliving@brooksrehab.org \nThere is no cost for the event
URL:https://se-ortho.com/event/beaches-healthy-living-seminar/
END:VEVENT
BEGIN:VEVENT
DTSTART;VALUE=DATE:20190704
DTEND;VALUE=DATE:20190705
DTSTAMP:20260422T221403
CREATED:20190528T151354Z
LAST-MODIFIED:20190528T151354Z
UID:66981-1562198400-1562284799@se-ortho.com
SUMMARY:4th of July
DESCRIPTION:We are closed for the 4th of July\, we hope everyone enjoys their holiday!
URL:https://se-ortho.com/event/4th-of-july-2/
END:VEVENT
BEGIN:VEVENT
DTSTART;VALUE=DATE:20190704
DTEND;VALUE=DATE:20190705
DTSTAMP:20260422T221403
CREATED:20190528T151354Z
LAST-MODIFIED:20190528T151354Z
UID:4018-1562198400-1562284799@se-ortho.com
SUMMARY:4th of July
DESCRIPTION:We are closed for the 4th of July\, we hope everyone enjoys their holiday!
URL:https://se-ortho.com/event/4th-of-july/
END:VEVENT
BEGIN:VEVENT
DTSTART;TZID=America/New_York:20190615T080000
DTEND;TZID=America/New_York:20190616T160000
DTSTAMP:20260422T221403
CREATED:20190514T125956Z
LAST-MODIFIED:20190514T125956Z
UID:3988-1560585600-1560700800@se-ortho.com
SUMMARY:Rep Your Box Fitness Competition
DESCRIPTION:Join the Southeast Orthopedic Specialists doctors at the 8th Annual Rep Your Box Crossfit Competition as we work to keep athletes in the game! \n 
URL:https://se-ortho.com/event/rep-your-box-fitness-competition/
END:VEVENT
BEGIN:VEVENT
DTSTART;TZID=America/New_York:20190615T080000
DTEND;TZID=America/New_York:20190616T160000
DTSTAMP:20260422T221403
CREATED:20190514T125956Z
LAST-MODIFIED:20190514T125956Z
UID:66978-1560585600-1560700800@se-ortho.com
SUMMARY:Rep Your Box Fitness Competition
DESCRIPTION:Join the Southeast Orthopedic Specialists doctors at the 8th Annual Rep Your Box Crossfit Competition as we work to keep athletes in the game! \n 
URL:https://se-ortho.com/event/rep-your-box-fitness-competition-2/
END:VEVENT
BEGIN:VEVENT
DTSTART;TZID=America/New_York:20190613T183000
DTEND;TZID=America/New_York:20190613T193000
DTSTAMP:20260422T221403
CREATED:20190514T124056Z
LAST-MODIFIED:20190514T124056Z
UID:66977-1560450600-1560454200@se-ortho.com
SUMMARY:Southside Healthy Living Seminar
DESCRIPTION:Join Stephan Esser\, MD and Southeast Orthopedic Specialists for a night of learning about the basics of cancer and cancer prevention. \nTopic: Cancer 101\nRSVP to: Healthyliving@se-ortho.com \nAdmission is FREE
URL:https://se-ortho.com/event/cancer-101-healthy-living-seminar-2-2/
END:VEVENT
BEGIN:VEVENT
DTSTART;TZID=America/New_York:20190613T183000
DTEND;TZID=America/New_York:20190613T193000
DTSTAMP:20260422T221403
CREATED:20190514T124056Z
LAST-MODIFIED:20190514T124056Z
UID:3981-1560450600-1560454200@se-ortho.com
SUMMARY:Southside Healthy Living Seminar
DESCRIPTION:Join Stephan Esser\, MD and Southeast Orthopedic Specialists for a night of learning about the basics of cancer and cancer prevention. \nTopic: Cancer 101\nRSVP to: Healthyliving@se-ortho.com \nAdmission is FREE
URL:https://se-ortho.com/event/cancer-101-healthy-living-seminar-2/
END:VEVENT
END:VCALENDAR