BEGIN:VCALENDAR
VERSION:2.0
PRODID:-//Southeast Orthopedic Specialists - ECPv6.15.18//NONSGML v1.0//EN
CALSCALE:GREGORIAN
METHOD:PUBLISH
X-WR-CALNAME:Southeast Orthopedic Specialists
X-ORIGINAL-URL:https://se-ortho.com
X-WR-CALDESC:Events for Southeast Orthopedic Specialists
REFRESH-INTERVAL;VALUE=DURATION:PT1H
X-Robots-Tag:noindex
X-PUBLISHED-TTL:PT1H
BEGIN:VTIMEZONE
TZID:America/New_York
BEGIN:DAYLIGHT
TZOFFSETFROM:-0500
TZOFFSETTO:-0400
TZNAME:EDT
DTSTART:20180311T070000
END:DAYLIGHT
BEGIN:STANDARD
TZOFFSETFROM:-0400
TZOFFSETTO:-0500
TZNAME:EST
DTSTART:20181104T060000
END:STANDARD
BEGIN:DAYLIGHT
TZOFFSETFROM:-0500
TZOFFSETTO:-0400
TZNAME:EDT
DTSTART:20190310T070000
END:DAYLIGHT
BEGIN:STANDARD
TZOFFSETFROM:-0400
TZOFFSETTO:-0500
TZNAME:EST
DTSTART:20191103T060000
END:STANDARD
BEGIN:DAYLIGHT
TZOFFSETFROM:-0500
TZOFFSETTO:-0400
TZNAME:EDT
DTSTART:20200308T070000
END:DAYLIGHT
BEGIN:STANDARD
TZOFFSETFROM:-0400
TZOFFSETTO:-0500
TZNAME:EST
DTSTART:20201101T060000
END:STANDARD
END:VTIMEZONE
BEGIN:VEVENT
DTSTART;TZID=America/New_York:20190928T090000
DTEND;TZID=America/New_York:20190928T100000
DTSTAMP:20260422T191616
CREATED:20190808T145236Z
LAST-MODIFIED:20190808T145236Z
UID:67014-1569661200-1569664800@se-ortho.com
SUMMARY:Bumps n' Bruises | Free Injury Evaluation Clinic
DESCRIPTION:Free injury evaluation clinic with our Sports Medicine Specialists every Saturday morning (during football season\, thru November 2nd) \n\nFree injury assessment by an expert orthopedic specialist & physical therapist\nRecommended home treatment for simple injuries\nTreatment options and recovery information available for your coach & athletic trainer\nOpen to every school & athletic program\n\nFor additional information contact Amy Lane-Rosoff | amy@se-ortho.com \nBrooks Rehabilitation | Center for Sports Therapy \n10423 Centurion Pkwy N\, Jacksonville\, FL 32256 (inside the YMCA) \nAtlas Physical Therapy | 210 Location \n165 Hampton Point Dr\, Ste. 3\, St. Augustine\, FL 32092 \nPreferred Physical Therapy | Fleming Island Location \n1835 Eastwest Pkwy.\, Ste. 16\, Fleming Island\, FL 32003
URL:https://se-ortho.com/event/bumps-n-bruises-free-injury-evaluation-clinic-5-2/
CATEGORIES:Bumps n' Bruises
END:VEVENT
BEGIN:VEVENT
DTSTART;TZID=America/New_York:20190928T090000
DTEND;TZID=America/New_York:20190928T100000
DTSTAMP:20260422T191616
CREATED:20190808T145236Z
LAST-MODIFIED:20190808T145236Z
UID:4198-1569661200-1569664800@se-ortho.com
SUMMARY:Bumps n' Bruises | Free Injury Evaluation Clinic
DESCRIPTION:Free injury evaluation clinic with our Sports Medicine Specialists every Saturday morning (during football season\, thru November 2nd) \n\nFree injury assessment by an expert orthopedic specialist & physical therapist\nRecommended home treatment for simple injuries\nTreatment options and recovery information available for your coach & athletic trainer\nOpen to every school & athletic program\n\nFor additional information contact Amy Lane-Rosoff | amy@se-ortho.com \nBrooks Rehabilitation | Center for Sports Therapy \n10423 Centurion Pkwy N\, Jacksonville\, FL 32256 (inside the YMCA) \nAtlas Physical Therapy | 210 Location \n165 Hampton Point Dr\, Ste. 3\, St. Augustine\, FL 32092 \nPreferred Physical Therapy | Fleming Island Location \n1835 Eastwest Pkwy.\, Ste. 16\, Fleming Island\, FL 32003
URL:https://se-ortho.com/event/bumps-n-bruises-free-injury-evaluation-clinic-5/
CATEGORIES:Bumps n' Bruises
END:VEVENT
BEGIN:VEVENT
DTSTART;TZID=America/New_York:20190921T090000
DTEND;TZID=America/New_York:20190921T100000
DTSTAMP:20260422T191616
CREATED:20190808T145135Z
LAST-MODIFIED:20190808T145135Z
UID:4196-1569056400-1569060000@se-ortho.com
SUMMARY:Bumps n' Bruises | Free Injury Evaluation Clinic
DESCRIPTION:Free injury evaluation clinic with our Sports Medicine Specialists every Saturday morning (during football season\, thru November 2nd) \n\nFree injury assessment by an expert orthopedic specialist & physical therapist\nRecommended home treatment for simple injuries\nTreatment options and recovery information available for your coach & athletic trainer\nOpen to every school & athletic program\n\nFor additional information contact Amy Lane-Rosoff | amy@se-ortho.com \nBrooks Rehabilitation | Center for Sports Therapy \n10423 Centurion Pkwy N\, Jacksonville\, FL 32256 (inside the YMCA) \nAtlas Physical Therapy | 210 Location \n165 Hampton Point Dr\, Ste. 3\, St. Augustine\, FL 32092 \nPreferred Physical Therapy | Fleming Island Location \n1835 Eastwest Pkwy.\, Ste. 16\, Fleming Island\, FL 32003
URL:https://se-ortho.com/event/bumps-n-bruises-free-injury-evaluation-clinic-4/
CATEGORIES:Bumps n' Bruises
END:VEVENT
BEGIN:VEVENT
DTSTART;TZID=America/New_York:20190921T090000
DTEND;TZID=America/New_York:20190921T100000
DTSTAMP:20260422T191616
CREATED:20190808T145135Z
LAST-MODIFIED:20190808T145135Z
UID:67013-1569056400-1569060000@se-ortho.com
SUMMARY:Bumps n' Bruises | Free Injury Evaluation Clinic
DESCRIPTION:Free injury evaluation clinic with our Sports Medicine Specialists every Saturday morning (during football season\, thru November 2nd) \n\nFree injury assessment by an expert orthopedic specialist & physical therapist\nRecommended home treatment for simple injuries\nTreatment options and recovery information available for your coach & athletic trainer\nOpen to every school & athletic program\n\nFor additional information contact Amy Lane-Rosoff | amy@se-ortho.com \nBrooks Rehabilitation | Center for Sports Therapy \n10423 Centurion Pkwy N\, Jacksonville\, FL 32256 (inside the YMCA) \nAtlas Physical Therapy | 210 Location \n165 Hampton Point Dr\, Ste. 3\, St. Augustine\, FL 32092 \nPreferred Physical Therapy | Fleming Island Location \n1835 Eastwest Pkwy.\, Ste. 16\, Fleming Island\, FL 32003
URL:https://se-ortho.com/event/bumps-n-bruises-free-injury-evaluation-clinic-4-2/
CATEGORIES:Bumps n' Bruises
END:VEVENT
BEGIN:VEVENT
DTSTART;TZID=America/New_York:20190919T202000
DTEND;TZID=America/New_York:20190919T202000
DTSTAMP:20260422T191616
CREATED:20190710T090523Z
LAST-MODIFIED:20190710T090523Z
UID:4121-1568924400-1568924400@se-ortho.com
SUMMARY:Jacksonville Jaguars vs. Tennessee Titans
DESCRIPTION:Come tailgate with your favorite doctors & medical staff at every home Jaguars game! \nExact spots will be updated soon!
URL:https://se-ortho.com/event/jacksonville-jaguars-vs-tennessee-titans/
END:VEVENT
BEGIN:VEVENT
DTSTART;TZID=America/New_York:20190919T202000
DTEND;TZID=America/New_York:20190919T202000
DTSTAMP:20260422T191616
CREATED:20190710T090523Z
LAST-MODIFIED:20190710T090523Z
UID:66997-1568924400-1568924400@se-ortho.com
SUMMARY:Jacksonville Jaguars vs. Tennessee Titans
DESCRIPTION:Come tailgate with your favorite doctors & medical staff at every home Jaguars game! \nExact spots will be updated soon!
URL:https://se-ortho.com/event/jacksonville-jaguars-vs-tennessee-titans-2/
END:VEVENT
BEGIN:VEVENT
DTSTART;TZID=America/New_York:20190917T120000
DTEND;TZID=America/New_York:20190917T120000
DTSTAMP:20260422T191616
CREATED:20190710T090151Z
LAST-MODIFIED:20190710T090151Z
UID:66996-1568721600-1568721600@se-ortho.com
SUMMARY:Health To You
DESCRIPTION:Dr. Max Lincoln\, a double fellowship-trained joint replacement specialist\, will be presenting ‘Health To You’ at the Council on Aging \nPresentation will begin promptly at 12:00PM with a Q&A to follow
URL:https://se-ortho.com/event/health-to-you-2/
END:VEVENT
BEGIN:VEVENT
DTSTART;TZID=America/New_York:20190917T120000
DTEND;TZID=America/New_York:20190917T120000
DTSTAMP:20260422T191616
CREATED:20190710T090151Z
LAST-MODIFIED:20190710T090151Z
UID:4113-1568721600-1568721600@se-ortho.com
SUMMARY:Health To You
DESCRIPTION:Dr. Max Lincoln\, a double fellowship-trained joint replacement specialist\, will be presenting ‘Health To You’ at the Council on Aging \nPresentation will begin promptly at 12:00PM with a Q&A to follow
URL:https://se-ortho.com/event/health-to-you/
END:VEVENT
BEGIN:VEVENT
DTSTART;TZID=America/New_York:20190914T090000
DTEND;TZID=America/New_York:20190914T100000
DTSTAMP:20260422T191616
CREATED:20190808T145027Z
LAST-MODIFIED:20190808T145027Z
UID:67012-1568451600-1568455200@se-ortho.com
SUMMARY:Bumps n' Bruises | Free Injury Evaluation Clinic
DESCRIPTION:Free injury evaluation clinic with our Sports Medicine Specialists every Saturday morning (during football season\, thru November 2nd) \n\nFree injury assessment by an expert orthopedic specialist & physical therapist\nRecommended home treatment for simple injuries\nTreatment options and recovery information available for your coach & athletic trainer\nOpen to every school & athletic program\n\nFor additional information contact Amy Lane-Rosoff | amy@se-ortho.com \nBrooks Rehabilitation | Center for Sports Therapy \n10423 Centurion Pkwy N\, Jacksonville\, FL 32256 (inside the YMCA) \nAtlas Physical Therapy | 210 Location \n165 Hampton Point Dr\, Ste. 3\, St. Augustine\, FL 32092 \nPreferred Physical Therapy | Fleming Island Location \n1835 Eastwest Pkwy.\, Ste. 16\, Fleming Island\, FL 32003
URL:https://se-ortho.com/event/bumps-n-bruises-free-injury-evaluation-clinic-3-2/
CATEGORIES:Bumps n' Bruises
END:VEVENT
BEGIN:VEVENT
DTSTART;TZID=America/New_York:20190914T090000
DTEND;TZID=America/New_York:20190914T100000
DTSTAMP:20260422T191616
CREATED:20190808T145027Z
LAST-MODIFIED:20190808T145027Z
UID:4194-1568451600-1568455200@se-ortho.com
SUMMARY:Bumps n' Bruises | Free Injury Evaluation Clinic
DESCRIPTION:Free injury evaluation clinic with our Sports Medicine Specialists every Saturday morning (during football season\, thru November 2nd) \n\nFree injury assessment by an expert orthopedic specialist & physical therapist\nRecommended home treatment for simple injuries\nTreatment options and recovery information available for your coach & athletic trainer\nOpen to every school & athletic program\n\nFor additional information contact Amy Lane-Rosoff | amy@se-ortho.com \nBrooks Rehabilitation | Center for Sports Therapy \n10423 Centurion Pkwy N\, Jacksonville\, FL 32256 (inside the YMCA) \nAtlas Physical Therapy | 210 Location \n165 Hampton Point Dr\, Ste. 3\, St. Augustine\, FL 32092 \nPreferred Physical Therapy | Fleming Island Location \n1835 Eastwest Pkwy.\, Ste. 16\, Fleming Island\, FL 32003
URL:https://se-ortho.com/event/bumps-n-bruises-free-injury-evaluation-clinic-3/
CATEGORIES:Bumps n' Bruises
END:VEVENT
BEGIN:VEVENT
DTSTART;TZID=America/New_York:20190912T163000
DTEND;TZID=America/New_York:20190912T163000
DTSTAMP:20260422T191616
CREATED:20190710T085410Z
LAST-MODIFIED:20190710T085410Z
UID:66995-1568305800-1568305800@se-ortho.com
SUMMARY:What You Can Do About Hip Pain
DESCRIPTION:Dr. Max Lincoln\, a double fellowship-trained joint replacement specialist\, will be presenting on common causes of  hip pain and various treatment options that could be right for you. \nGrab your friends and we will see you there! \nDoors open at 4:30PM and the presentation begins at 5:00PM \nDinner will be served at 4:30PM for a cost of $5.00/individual \nYou can reserve your seat by calling (800) 889-3627
URL:https://se-ortho.com/event/what-you-can-do-about-knee-and-hip-pain-2/
END:VEVENT
BEGIN:VEVENT
DTSTART;TZID=America/New_York:20190912T163000
DTEND;TZID=America/New_York:20190912T163000
DTSTAMP:20260422T191616
CREATED:20190710T085410Z
LAST-MODIFIED:20190710T085410Z
UID:4105-1568305800-1568305800@se-ortho.com
SUMMARY:What You Can Do About Hip Pain
DESCRIPTION:Dr. Max Lincoln\, a double fellowship-trained joint replacement specialist\, will be presenting on common causes of  hip pain and various treatment options that could be right for you. \nGrab your friends and we will see you there! \nDoors open at 4:30PM and the presentation begins at 5:00PM \nDinner will be served at 4:30PM for a cost of $5.00/individual \nYou can reserve your seat by calling (800) 889-3627
URL:https://se-ortho.com/event/what-you-can-do-about-knee-and-hip-pain/
END:VEVENT
BEGIN:VEVENT
DTSTART;TZID=America/New_York:20190910T183000
DTEND;TZID=America/New_York:20190910T193000
DTSTAMP:20260422T191616
CREATED:20190613T090221Z
LAST-MODIFIED:20190613T090221Z
UID:66984-1568140200-1568143800@se-ortho.com
SUMMARY:Stem Cell Seminar
DESCRIPTION:Join Stephan Esser\, MD to determine if Stem Cell Therapy is a treatment option for YOU! \nTopic: Stem Cell Therapy and Regenerative Medicine \nThis event is FREE but seating is limited\, reserve today by emailing Stemcells@brooksrehab.org \nFood and refreshments will be provided by Moe’s Southwest Grill
URL:https://se-ortho.com/event/stem-cell-seminar-3-2/
END:VEVENT
BEGIN:VEVENT
DTSTART;TZID=America/New_York:20190910T183000
DTEND;TZID=America/New_York:20190910T193000
DTSTAMP:20260422T191616
CREATED:20190613T090221Z
LAST-MODIFIED:20190613T090221Z
UID:4034-1568140200-1568143800@se-ortho.com
SUMMARY:Stem Cell Seminar
DESCRIPTION:Join Stephan Esser\, MD to determine if Stem Cell Therapy is a treatment option for YOU! \nTopic: Stem Cell Therapy and Regenerative Medicine \nThis event is FREE but seating is limited\, reserve today by emailing Stemcells@brooksrehab.org \nFood and refreshments will be provided by Moe’s Southwest Grill
URL:https://se-ortho.com/event/stem-cell-seminar-3/
END:VEVENT
BEGIN:VEVENT
DTSTART;TZID=America/New_York:20190908T130000
DTEND;TZID=America/New_York:20190908T130000
DTSTAMP:20260422T191616
CREATED:20190710T084816Z
LAST-MODIFIED:20190710T084816Z
UID:66994-1567947600-1567947600@se-ortho.com
SUMMARY:Jacksonville Jaguars vs. Kansas City Chiefs
DESCRIPTION:Come tailgate with your favorite doctors & medical staff at every home Jaguars game! \nExact spots will be updated soon!
URL:https://se-ortho.com/event/jacksonville-jaguars-vs-kansas-city-chiefs-2/
END:VEVENT
BEGIN:VEVENT
DTSTART;TZID=America/New_York:20190908T130000
DTEND;TZID=America/New_York:20190908T130000
DTSTAMP:20260422T191616
CREATED:20190710T084816Z
LAST-MODIFIED:20190710T084816Z
UID:4103-1567947600-1567947600@se-ortho.com
SUMMARY:Jacksonville Jaguars vs. Kansas City Chiefs
DESCRIPTION:Come tailgate with your favorite doctors & medical staff at every home Jaguars game! \nExact spots will be updated soon!
URL:https://se-ortho.com/event/jacksonville-jaguars-vs-kansas-city-chiefs/
END:VEVENT
BEGIN:VEVENT
DTSTART;TZID=America/New_York:20190907T090000
DTEND;TZID=America/New_York:20190907T100000
DTSTAMP:20260422T191616
CREATED:20190808T144929Z
LAST-MODIFIED:20190808T144929Z
UID:67011-1567846800-1567850400@se-ortho.com
SUMMARY:Bumps n' Bruises | Free Injury Evaluation Clinic
DESCRIPTION:Free injury evaluation clinic with our Sports Medicine Specialists every Saturday morning (during football season) \n\nFree injury assessment by an expert orthopedic specialist & physical therapist\nRecommended home treatment for simple injuries\nTreatment options and recovery information available for your coach & athletic trainer\nOpen to every school & athletic program\n\nFor additional information contact Amy Lane-Rosoff | amy@se-ortho.com \nBrooks Rehabilitation | Center for Sports Therapy \n10423 Centurion Pkwy N\, Jacksonville\, FL 32256 (inside the YMCA) \nAtlas Physical Therapy | 210 Location \n165 Hampton Point Dr\, Ste. 3\, St. Augustine\, FL 32092 \nPreferred Physical Therapy | Fleming Island Location \n1835 Eastwest Pkwy.\, Ste. 16\, Fleming Island\, FL 32003
URL:https://se-ortho.com/event/bumps-n-bruises-free-injury-evaluation-clinic-2-2/
END:VEVENT
BEGIN:VEVENT
DTSTART;TZID=America/New_York:20190907T090000
DTEND;TZID=America/New_York:20190907T100000
DTSTAMP:20260422T191616
CREATED:20190808T144929Z
LAST-MODIFIED:20190808T144929Z
UID:4192-1567846800-1567850400@se-ortho.com
SUMMARY:Bumps n' Bruises | Free Injury Evaluation Clinic
DESCRIPTION:Free injury evaluation clinic with our Sports Medicine Specialists every Saturday morning (during football season) \n\nFree injury assessment by an expert orthopedic specialist & physical therapist\nRecommended home treatment for simple injuries\nTreatment options and recovery information available for your coach & athletic trainer\nOpen to every school & athletic program\n\nFor additional information contact Amy Lane-Rosoff | amy@se-ortho.com \nBrooks Rehabilitation | Center for Sports Therapy \n10423 Centurion Pkwy N\, Jacksonville\, FL 32256 (inside the YMCA) \nAtlas Physical Therapy | 210 Location \n165 Hampton Point Dr\, Ste. 3\, St. Augustine\, FL 32092 \nPreferred Physical Therapy | Fleming Island Location \n1835 Eastwest Pkwy.\, Ste. 16\, Fleming Island\, FL 32003
URL:https://se-ortho.com/event/bumps-n-bruises-free-injury-evaluation-clinic-2/
END:VEVENT
BEGIN:VEVENT
DTSTART;TZID=America/New_York:20190905T183000
DTEND;TZID=America/New_York:20190905T193000
DTSTAMP:20260422T191616
CREATED:20190613T094330Z
LAST-MODIFIED:20190613T094330Z
UID:66988-1567708200-1567711800@se-ortho.com
SUMMARY:Southside Healthy Living Seminar
DESCRIPTION:This event has been canceled due to Hurricane Dorian!
URL:https://se-ortho.com/event/southside-healthy-living-seminar-3/
END:VEVENT
BEGIN:VEVENT
DTSTART;TZID=America/New_York:20190905T183000
DTEND;TZID=America/New_York:20190905T193000
DTSTAMP:20260422T191616
CREATED:20190613T094330Z
LAST-MODIFIED:20190613T094330Z
UID:4060-1567708200-1567711800@se-ortho.com
SUMMARY:Southside Healthy Living Seminar
DESCRIPTION:This event has been canceled due to Hurricane Dorian!
URL:https://se-ortho.com/event/southside-healthy-living-seminar/
END:VEVENT
BEGIN:VEVENT
DTSTART;TZID=America/New_York:20190903T080000
DTEND;TZID=America/New_York:20190904T170000
DTSTAMP:20260422T191616
CREATED:20190903T085415Z
LAST-MODIFIED:20190903T085415Z
UID:67021-1567497600-1567616400@se-ortho.com
SUMMARY:Closed | Hurricane Dorian
DESCRIPTION:We hope everyone stays safe during Hurricane Dorian \nDue to the current path of Dorian we have made some adjustments to our schedule. We apologize for any inconvenience but the safety of our patients and our team must be priority. Driving conditions are expected to become hazardous late Tuesday evening. \nCLINIC: \n\nWe will be open at three locations on Tuesday\, September 3rd until 12 NOON. Riverside\, CenterOne (Southside) and Fleming Island will be open for scheduled visits. \nPonte Vedra (Beaches) and Northside clinics will be closed Tuesday. \nThere is no need to call the office and reschedule\, we will reach out after the storm has cleared. \nAll Clinics\, MRI and PT locations will be closed on Wednesday\, September 4th. \nSURGERY: \nWe are currently working with facilities to determine when they will stop doing elective cases. Hospitals will be preparing for emergency issues that arise form the Hurricane so all ELECTIVE cases may be canceled. \nCenterOne Surgery Center will be closed on Tuesday September 3rd and Wednesday September 4th \nSt Vincent locations will only allow elective cases up to 11AM \nMemorial has canceled ALL elective surgeries for Tuesday and Wednesday \nParkside Surgery Center has canceled ALL elective surgeries for Tuesday and Wednesday
URL:https://se-ortho.com/event/closed-hurricane-dorian-2/
END:VEVENT
BEGIN:VEVENT
DTSTART;TZID=America/New_York:20190903T080000
DTEND;TZID=America/New_York:20190904T170000
DTSTAMP:20260422T191616
CREATED:20190903T085415Z
LAST-MODIFIED:20190903T085415Z
UID:4252-1567497600-1567616400@se-ortho.com
SUMMARY:Closed | Hurricane Dorian
DESCRIPTION:We hope everyone stays safe during Hurricane Dorian \nDue to the current path of Dorian we have made some adjustments to our schedule. We apologize for any inconvenience but the safety of our patients and our team must be priority. Driving conditions are expected to become hazardous late Tuesday evening. \nCLINIC: \n\nWe will be open at three locations on Tuesday\, September 3rd until 12 NOON. Riverside\, CenterOne (Southside) and Fleming Island will be open for scheduled visits. \nPonte Vedra (Beaches) and Northside clinics will be closed Tuesday. \nThere is no need to call the office and reschedule\, we will reach out after the storm has cleared. \nAll Clinics\, MRI and PT locations will be closed on Wednesday\, September 4th. \nSURGERY: \nWe are currently working with facilities to determine when they will stop doing elective cases. Hospitals will be preparing for emergency issues that arise form the Hurricane so all ELECTIVE cases may be canceled. \nCenterOne Surgery Center will be closed on Tuesday September 3rd and Wednesday September 4th \nSt Vincent locations will only allow elective cases up to 11AM \nMemorial has canceled ALL elective surgeries for Tuesday and Wednesday \nParkside Surgery Center has canceled ALL elective surgeries for Tuesday and Wednesday
URL:https://se-ortho.com/event/closed-hurricane-dorian/
END:VEVENT
BEGIN:VEVENT
DTSTART;TZID=America/New_York:20190831T090000
DTEND;TZID=America/New_York:20190831T100000
DTSTAMP:20260422T191616
CREATED:20190808T144442Z
LAST-MODIFIED:20190808T144442Z
UID:67010-1567242000-1567245600@se-ortho.com
SUMMARY:Bumps n' Bruises | Free Injury Evaluation Clinic
DESCRIPTION:Free injury evaluation clinic with our Sports Medicine Specialists every Saturday morning (during football season) \n\nFree injury assessment by an expert orthopedic specialist & physical therapist\nRecommended home treatment for simple injuries\nTreatment options and recovery information available for your coach & athletic trainer\nOpen to every school & athletic program\n\nFor additional information contact Amy Lane-Rosoff | amy@se-ortho.com \nBrooks Rehabilitation | Center for Sports Therapy \n10423 Centurion Pkwy N\, Jacksonville\, FL 32256 (inside the YMCA) \nAtlas Physical Therapy | 210 Location \n165 Hampton Point Dr\, Ste. 3\, St. Augustine\, FL 32092 \nPreferred Physical Therapy | Fleming Island Location \n1835 Eastwest Pkwy.\, Ste. 16\, Fleming Island\, FL 32003
URL:https://se-ortho.com/event/bumps-n-bruises-free-injury-evaluation-clinic-13/
END:VEVENT
BEGIN:VEVENT
DTSTART;TZID=America/New_York:20190831T090000
DTEND;TZID=America/New_York:20190831T100000
DTSTAMP:20260422T191616
CREATED:20190808T144442Z
LAST-MODIFIED:20190808T144442Z
UID:4190-1567242000-1567245600@se-ortho.com
SUMMARY:Bumps n' Bruises | Free Injury Evaluation Clinic
DESCRIPTION:Free injury evaluation clinic with our Sports Medicine Specialists every Saturday morning (during football season) \n\nFree injury assessment by an expert orthopedic specialist & physical therapist\nRecommended home treatment for simple injuries\nTreatment options and recovery information available for your coach & athletic trainer\nOpen to every school & athletic program\n\nFor additional information contact Amy Lane-Rosoff | amy@se-ortho.com \nBrooks Rehabilitation | Center for Sports Therapy \n10423 Centurion Pkwy N\, Jacksonville\, FL 32256 (inside the YMCA) \nAtlas Physical Therapy | 210 Location \n165 Hampton Point Dr\, Ste. 3\, St. Augustine\, FL 32092 \nPreferred Physical Therapy | Fleming Island Location \n1835 Eastwest Pkwy.\, Ste. 16\, Fleming Island\, FL 32003
URL:https://se-ortho.com/event/bumps-n-bruises-free-injury-evaluation-clinic/
END:VEVENT
BEGIN:VEVENT
DTSTART;TZID=America/New_York:20190829T190000
DTEND;TZID=America/New_York:20190829T190000
DTSTAMP:20260422T191616
CREATED:20190710T084313Z
LAST-MODIFIED:20190710T084313Z
UID:4096-1567105200-1567105200@se-ortho.com
SUMMARY:Jacksonville Jaguars vs. Atlanta Falcons
DESCRIPTION:Come tailgate with your favorite doctors & medical staff at every home Jaguars game! \nExact spots will be updated soon!
URL:https://se-ortho.com/event/jacksonville-jagurs-vs-atlanta-falcons/
END:VEVENT
BEGIN:VEVENT
DTSTART;TZID=America/New_York:20190829T190000
DTEND;TZID=America/New_York:20190829T190000
DTSTAMP:20260422T191616
CREATED:20190710T084313Z
LAST-MODIFIED:20190710T084313Z
UID:66992-1567105200-1567105200@se-ortho.com
SUMMARY:Jacksonville Jaguars vs. Atlanta Falcons
DESCRIPTION:Come tailgate with your favorite doctors & medical staff at every home Jaguars game! \nExact spots will be updated soon!
URL:https://se-ortho.com/event/jacksonville-jagurs-vs-atlanta-falcons-2/
END:VEVENT
BEGIN:VEVENT
DTSTART;TZID=America/New_York:20190822T183000
DTEND;TZID=America/New_York:20190822T193000
DTSTAMP:20260422T191616
CREATED:20190613T090008Z
LAST-MODIFIED:20190613T090008Z
UID:66983-1566498600-1566502200@se-ortho.com
SUMMARY:Stem Cell Seminar
DESCRIPTION:Join Stephan Esser\, MD to determine if Stem Cell Therapy is a treatment option for YOU! \nTopic: Stem Cell Therapy and Regenerative Medicine \nThis event is FREE but seating is limited\, reserve today by emailing Stemcells@brooksrehab.org \nFood and refreshments will be provided by Moe’s Southwest Grill
URL:https://se-ortho.com/event/stem-cell-seminar-2-2/
END:VEVENT
BEGIN:VEVENT
DTSTART;TZID=America/New_York:20190822T183000
DTEND;TZID=America/New_York:20190822T193000
DTSTAMP:20260422T191616
CREATED:20190613T090008Z
LAST-MODIFIED:20190613T090008Z
UID:4030-1566498600-1566502200@se-ortho.com
SUMMARY:Stem Cell Seminar
DESCRIPTION:Join Stephan Esser\, MD to determine if Stem Cell Therapy is a treatment option for YOU! \nTopic: Stem Cell Therapy and Regenerative Medicine \nThis event is FREE but seating is limited\, reserve today by emailing Stemcells@brooksrehab.org \nFood and refreshments will be provided by Moe’s Southwest Grill
URL:https://se-ortho.com/event/stem-cell-seminar-2/
END:VEVENT
BEGIN:VEVENT
DTSTART;TZID=America/New_York:20190815T190000
DTEND;TZID=America/New_York:20190815T190000
DTSTAMP:20260422T191616
CREATED:20190710T084026Z
LAST-MODIFIED:20190710T084026Z
UID:4091-1565895600-1565895600@se-ortho.com
SUMMARY:Jacksonville Jaguars vs. Philadelphia Eagles
DESCRIPTION:Come tailgate with your favorite doctors & medical staff at every home Jaguars game! \nExact spots will be updated soon!
URL:https://se-ortho.com/event/jacksonville-jaguars-vs-philadelphia-eagles/
END:VEVENT
BEGIN:VEVENT
DTSTART;TZID=America/New_York:20190815T190000
DTEND;TZID=America/New_York:20190815T190000
DTSTAMP:20260422T191616
CREATED:20190710T084026Z
LAST-MODIFIED:20190710T084026Z
UID:66991-1565895600-1565895600@se-ortho.com
SUMMARY:Jacksonville Jaguars vs. Philadelphia Eagles
DESCRIPTION:Come tailgate with your favorite doctors & medical staff at every home Jaguars game! \nExact spots will be updated soon!
URL:https://se-ortho.com/event/jacksonville-jaguars-vs-philadelphia-eagles-2/
END:VEVENT
END:VCALENDAR