BEGIN:VCALENDAR
VERSION:2.0
PRODID:-//Southeast Orthopedic Specialists - ECPv6.15.18//NONSGML v1.0//EN
CALSCALE:GREGORIAN
METHOD:PUBLISH
X-WR-CALNAME:Southeast Orthopedic Specialists
X-ORIGINAL-URL:https://se-ortho.com
X-WR-CALDESC:Events for Southeast Orthopedic Specialists
REFRESH-INTERVAL;VALUE=DURATION:PT1H
X-Robots-Tag:noindex
X-PUBLISHED-TTL:PT1H
BEGIN:VTIMEZONE
TZID:America/New_York
BEGIN:DAYLIGHT
TZOFFSETFROM:-0500
TZOFFSETTO:-0400
TZNAME:EDT
DTSTART:20180311T070000
END:DAYLIGHT
BEGIN:STANDARD
TZOFFSETFROM:-0400
TZOFFSETTO:-0500
TZNAME:EST
DTSTART:20181104T060000
END:STANDARD
BEGIN:DAYLIGHT
TZOFFSETFROM:-0500
TZOFFSETTO:-0400
TZNAME:EDT
DTSTART:20190310T070000
END:DAYLIGHT
BEGIN:STANDARD
TZOFFSETFROM:-0400
TZOFFSETTO:-0500
TZNAME:EST
DTSTART:20191103T060000
END:STANDARD
BEGIN:DAYLIGHT
TZOFFSETFROM:-0500
TZOFFSETTO:-0400
TZNAME:EDT
DTSTART:20200308T070000
END:DAYLIGHT
BEGIN:STANDARD
TZOFFSETFROM:-0400
TZOFFSETTO:-0500
TZNAME:EST
DTSTART:20201101T060000
END:STANDARD
BEGIN:DAYLIGHT
TZOFFSETFROM:-0500
TZOFFSETTO:-0400
TZNAME:EDT
DTSTART:20210314T070000
END:DAYLIGHT
BEGIN:STANDARD
TZOFFSETFROM:-0400
TZOFFSETTO:-0500
TZNAME:EST
DTSTART:20211107T060000
END:STANDARD
END:VTIMEZONE
BEGIN:VEVENT
DTSTART;TZID=America/New_York:20200730T183000
DTEND;TZID=America/New_York:20200730T193000
DTSTAMP:20260422T093259
CREATED:20200727T145555Z
LAST-MODIFIED:20200727T145555Z
UID:67036-1596133800-1596137400@se-ortho.com
SUMMARY:Virtual Seminar- Latest Advancements and Treatment Options for Hip & Knee Arthritis with John Redmond\, MD
DESCRIPTION:Southeast Orthopedic Specialists is pleased to announce our Virtual Seminar series. Each month\, our expert team of orthopedic and spine specialists will be hosting live virtual events where they will discuss common orthopedic conditions\, research and treatments options.\n\n\n\nJoin Dr. John Redmond Thursday\, July 30\, 2020 at 6:30 PM for a live seminar where he will discuss the Latest Advancements and Treatment Options for Hip & Knee Arthritis.
URL:https://se-ortho.com/event/virtual-seminar-latest-advancements-and-treatment-options-for-hip-knee-arthritis-with-john-redmond-md-2/
END:VEVENT
BEGIN:VEVENT
DTSTART;TZID=America/New_York:20200730T183000
DTEND;TZID=America/New_York:20200730T193000
DTSTAMP:20260422T093259
CREATED:20200727T145555Z
LAST-MODIFIED:20200727T145555Z
UID:13939-1596133800-1596137400@se-ortho.com
SUMMARY:Virtual Seminar- Latest Advancements and Treatment Options for Hip & Knee Arthritis with John Redmond\, MD
DESCRIPTION:Southeast Orthopedic Specialists is pleased to announce our Virtual Seminar series. Each month\, our expert team of orthopedic and spine specialists will be hosting live virtual events where they will discuss common orthopedic conditions\, research and treatments options.\n\n\n\nJoin Dr. John Redmond Thursday\, July 30\, 2020 at 6:30 PM for a live seminar where he will discuss the Latest Advancements and Treatment Options for Hip & Knee Arthritis.
URL:https://se-ortho.com/event/virtual-seminar-latest-advancements-and-treatment-options-for-hip-knee-arthritis-with-john-redmond-md/
END:VEVENT
BEGIN:VEVENT
DTSTART;VALUE=DATE:20200703
DTEND;VALUE=DATE:20200704
DTSTAMP:20260422T093259
CREATED:20200615T133821Z
LAST-MODIFIED:20200615T133821Z
UID:67031-1593734400-1593820799@se-ortho.com
SUMMARY:Closed for the 4th of July
DESCRIPTION:Happy Independence Day to all! We hope you all have an awesome holiday weekend.
URL:https://se-ortho.com/event/closed-for-the-4th-of-july-2/
END:VEVENT
BEGIN:VEVENT
DTSTART;VALUE=DATE:20200703
DTEND;VALUE=DATE:20200704
DTSTAMP:20260422T093259
CREATED:20200615T133821Z
LAST-MODIFIED:20200615T133821Z
UID:9493-1593734400-1593820799@se-ortho.com
SUMMARY:Closed for the 4th of July
DESCRIPTION:Happy Independence Day to all! We hope you all have an awesome holiday weekend.
URL:https://se-ortho.com/event/closed-for-the-4th-of-july/
END:VEVENT
BEGIN:VEVENT
DTSTART;TZID=America/New_York:20200414T183000
DTEND;TZID=America/New_York:20200414T193000
DTSTAMP:20260422T093259
CREATED:20200310T193916Z
LAST-MODIFIED:20200310T193916Z
UID:4468-1586889000-1586892600@se-ortho.com
SUMMARY:Common Foot Problems with Dr. Arndt
DESCRIPTION:Please join Dr. Stephen Arndt for a fun\, entertaining and informative night on common foot problems that may be holding you back from enjoying the things you love! \nReserve your seat today by emailing us at RSVP@se-ortho.com (not a link).
URL:https://se-ortho.com/event/common-foot-problems-with-dr-arndt/
END:VEVENT
BEGIN:VEVENT
DTSTART;TZID=America/New_York:20200414T183000
DTEND;TZID=America/New_York:20200414T193000
DTSTAMP:20260422T093259
CREATED:20200310T193916Z
LAST-MODIFIED:20200310T193916Z
UID:67030-1586889000-1586892600@se-ortho.com
SUMMARY:Common Foot Problems with Dr. Arndt
DESCRIPTION:Please join Dr. Stephen Arndt for a fun\, entertaining and informative night on common foot problems that may be holding you back from enjoying the things you love! \nReserve your seat today by emailing us at RSVP@se-ortho.com (not a link).
URL:https://se-ortho.com/event/common-foot-problems-with-dr-arndt-2/
END:VEVENT
BEGIN:VEVENT
DTSTART;TZID=America/New_York:20200318T183000
DTEND;TZID=America/New_York:20200319T193000
DTSTAMP:20260422T093259
CREATED:20200224T180046Z
LAST-MODIFIED:20200224T180046Z
UID:4454-1584556200-1584646200@se-ortho.com
SUMMARY:Shoulder Injuries and Replacements Patient Seminar | Dr. Aaron Bates
DESCRIPTION:In light of the current COVID-19 precautions that have been implemented by the CDC\, we regret to inform you that we will be temporarily postponing all community events through the end of March 2020. As a healthcare provider\, our priority at Southeast Orthopedic Specialists is to provide an experience that promotes the health and well-being of our patients and associates.  We want to assure you that we are monitoring the COVID-19 situation closely and will keep you updated on all additional calendar changes.  \n \n 
URL:https://se-ortho.com/event/shoulder-injuries-and-replacements-dr-aaron-bates/
END:VEVENT
BEGIN:VEVENT
DTSTART;TZID=America/New_York:20200318T183000
DTEND;TZID=America/New_York:20200319T193000
DTSTAMP:20260422T093259
CREATED:20200224T180046Z
LAST-MODIFIED:20200224T180046Z
UID:67029-1584556200-1584646200@se-ortho.com
SUMMARY:Shoulder Injuries and Replacements Patient Seminar | Dr. Aaron Bates
DESCRIPTION:In light of the current COVID-19 precautions that have been implemented by the CDC\, we regret to inform you that we will be temporarily postponing all community events through the end of March 2020. As a healthcare provider\, our priority at Southeast Orthopedic Specialists is to provide an experience that promotes the health and well-being of our patients and associates.  We want to assure you that we are monitoring the COVID-19 situation closely and will keep you updated on all additional calendar changes.  \n \n 
URL:https://se-ortho.com/event/shoulder-injuries-and-replacements-dr-aaron-bates-2/
END:VEVENT
BEGIN:VEVENT
DTSTART;TZID=America/New_York:20200311T183000
DTEND;TZID=America/New_York:20200311T193000
DTSTAMP:20260422T093259
CREATED:20200214T092258Z
LAST-MODIFIED:20200214T092258Z
UID:67028-1583951400-1583955000@se-ortho.com
SUMMARY:Southside Healthy Living Seminar
DESCRIPTION:Join Stephan Esser\, MD and Southeast Orthopedic Specialists for a night of learning about Heart Disease. \nTopic: Heart Disease\nRSVP to: Healthyliving@se-ortho.com \nAdmission is FREE
URL:https://se-ortho.com/event/southside-healthy-living-seminar-2-2/
END:VEVENT
BEGIN:VEVENT
DTSTART;TZID=America/New_York:20200311T183000
DTEND;TZID=America/New_York:20200311T193000
DTSTAMP:20260422T093259
CREATED:20200214T092258Z
LAST-MODIFIED:20200214T092258Z
UID:4411-1583951400-1583955000@se-ortho.com
SUMMARY:Southside Healthy Living Seminar
DESCRIPTION:Join Stephan Esser\, MD and Southeast Orthopedic Specialists for a night of learning about Heart Disease. \nTopic: Heart Disease\nRSVP to: Healthyliving@se-ortho.com \nAdmission is FREE
URL:https://se-ortho.com/event/southside-healthy-living-seminar-2/
END:VEVENT
BEGIN:VEVENT
DTSTART;TZID=America/New_York:20200224T080000
DTEND;TZID=America/New_York:20200224T170000
DTSTAMP:20260422T093259
CREATED:20200124T133505Z
LAST-MODIFIED:20200124T133505Z
UID:67027-1582531200-1582563600@se-ortho.com
SUMMARY:Hayden Hurst Foundation Golf Tournament
DESCRIPTION:We are proud sponsors of the Hayden Hurst Foundation Golf Tournament! If you are around\, come by and say hello!
URL:https://se-ortho.com/event/hayden-hurst-foundation-golf-tournament-2/
END:VEVENT
BEGIN:VEVENT
DTSTART;TZID=America/New_York:20200224T080000
DTEND;TZID=America/New_York:20200224T170000
DTSTAMP:20260422T093259
CREATED:20200124T133505Z
LAST-MODIFIED:20200124T133505Z
UID:4379-1582531200-1582563600@se-ortho.com
SUMMARY:Hayden Hurst Foundation Golf Tournament
DESCRIPTION:We are proud sponsors of the Hayden Hurst Foundation Golf Tournament! If you are around\, come by and say hello!
URL:https://se-ortho.com/event/hayden-hurst-foundation-golf-tournament/
END:VEVENT
BEGIN:VEVENT
DTSTART;TZID=America/New_York:20200219T183000
DTEND;TZID=America/New_York:20200219T193000
DTSTAMP:20260422T093259
CREATED:20200124T131730Z
LAST-MODIFIED:20200124T131730Z
UID:4372-1582137000-1582140600@se-ortho.com
SUMMARY:Clinical Discussion on Lumbar Spine Surgery
DESCRIPTION:Join orthopedic spine surgeon\, Robert Hurford Jr.\, MD\, PhD for a clinical discussion on LUMBAR SPINE CONDITIONS\, TREATMENTS & SURGERY. \nThis is a free event hosted by Brooks Rehabilitation. Grab your friends and we will see you there! \nSeating is limited | RSVP by emailing RSVP@se-ortho.com or by clicking here.
URL:https://se-ortho.com/event/clinical-discussion-on-lumbar-spine-surgery/
END:VEVENT
BEGIN:VEVENT
DTSTART;TZID=America/New_York:20200219T183000
DTEND;TZID=America/New_York:20200219T193000
DTSTAMP:20260422T093259
CREATED:20200124T131730Z
LAST-MODIFIED:20200124T131730Z
UID:67025-1582137000-1582140600@se-ortho.com
SUMMARY:Clinical Discussion on Lumbar Spine Surgery
DESCRIPTION:Join orthopedic spine surgeon\, Robert Hurford Jr.\, MD\, PhD for a clinical discussion on LUMBAR SPINE CONDITIONS\, TREATMENTS & SURGERY. \nThis is a free event hosted by Brooks Rehabilitation. Grab your friends and we will see you there! \nSeating is limited | RSVP by emailing RSVP@se-ortho.com or by clicking here.
URL:https://se-ortho.com/event/clinical-discussion-on-lumbar-spine-surgery-2/
END:VEVENT
BEGIN:VEVENT
DTSTART;TZID=America/New_York:20200212T183000
DTEND;TZID=America/New_York:20200212T193000
DTSTAMP:20260422T093259
CREATED:20200124T133050Z
LAST-MODIFIED:20200124T133050Z
UID:67026-1581532200-1581535800@se-ortho.com
SUMMARY:Achilles Tendon & Ankle Sprain Discussion | Dr. Arndt
DESCRIPTION:Join orthopedic spine surgeon\, Stephen Arndt\, MD\, for a clinical discussion on ACHILLES CONDITIONS & ANKLE SPRAINS \nThis is a free event hosted at CORA Physical Therapy. Grab your friends and we will see you there! \nSeating is limited | RSVP by emailing RSVP@se-ortho.com or by clicking here.
URL:https://se-ortho.com/event/achilles-tendon-ankle-sprain-discussion-dr-arndt-2/
END:VEVENT
BEGIN:VEVENT
DTSTART;TZID=America/New_York:20200212T183000
DTEND;TZID=America/New_York:20200212T193000
DTSTAMP:20260422T093259
CREATED:20200124T133050Z
LAST-MODIFIED:20200124T133050Z
UID:4375-1581532200-1581535800@se-ortho.com
SUMMARY:Achilles Tendon & Ankle Sprain Discussion | Dr. Arndt
DESCRIPTION:Join orthopedic spine surgeon\, Stephen Arndt\, MD\, for a clinical discussion on ACHILLES CONDITIONS & ANKLE SPRAINS \nThis is a free event hosted at CORA Physical Therapy. Grab your friends and we will see you there! \nSeating is limited | RSVP by emailing RSVP@se-ortho.com or by clicking here.
URL:https://se-ortho.com/event/achilles-tendon-ankle-sprain-discussion-dr-arndt/
END:VEVENT
BEGIN:VEVENT
DTSTART;TZID=America/New_York:20200128T183000
DTEND;TZID=America/New_York:20200128T193000
DTSTAMP:20260422T093259
CREATED:20200115T094720Z
LAST-MODIFIED:20200115T094720Z
UID:4362-1580236200-1580239800@se-ortho.com
SUMMARY:Achilles Tendon Injuries with Dr. Arndt
DESCRIPTION:Now is not only the perfect time to take care of your nagging ACHILLES TENDON INJURY but also to meet our newest surgeon\, Dr. Stephen Arndt! \nJoin us at PT Solutions in Ponte Vedra Beach for a free and informative presentation followed by a Q&A for anything and everything achilles tendon related! \nSpread the word & reserve your seat today! Email us at RSVP@SE-ORTHO.COM (not a link)\n(Seating is limited)
URL:https://se-ortho.com/event/achilles-tendon-injuries-with-dr-arndt/
END:VEVENT
BEGIN:VEVENT
DTSTART;TZID=America/New_York:20200128T183000
DTEND;TZID=America/New_York:20200128T193000
DTSTAMP:20260422T093259
CREATED:20200115T094720Z
LAST-MODIFIED:20200115T094720Z
UID:67024-1580236200-1580239800@se-ortho.com
SUMMARY:Achilles Tendon Injuries with Dr. Arndt
DESCRIPTION:Now is not only the perfect time to take care of your nagging ACHILLES TENDON INJURY but also to meet our newest surgeon\, Dr. Stephen Arndt! \nJoin us at PT Solutions in Ponte Vedra Beach for a free and informative presentation followed by a Q&A for anything and everything achilles tendon related! \nSpread the word & reserve your seat today! Email us at RSVP@SE-ORTHO.COM (not a link)\n(Seating is limited)
URL:https://se-ortho.com/event/achilles-tendon-injuries-with-dr-arndt-2/
END:VEVENT
BEGIN:VEVENT
DTSTART;TZID=America/New_York:20200109T183000
DTEND;TZID=America/New_York:20200109T193000
DTSTAMP:20260422T093259
CREATED:20191223T111740Z
LAST-MODIFIED:20191223T111740Z
UID:67023-1578594600-1578598200@se-ortho.com
SUMMARY:New Year\, Same Foot Problems | Educational Seminar
DESCRIPTION:If you have not had a chance to meet our new Foot & Ankle surgeon\, you won’t want to miss this! Join Stephen Arndt\, MD\, board-certified and fellowship-trained orthopedic surgeon as he fills us in on dealing with and avoiding those lingering foot issues. \nIt is a new year – Stop dealing with those same old foot problems. Do you have arthritis or bunions that have been bothering you for years? It is time to get them taken care of! \nAdmission is FREE. \nEmail us at rsvp@se-ortho.com to reserve your seat.
URL:https://se-ortho.com/event/new-year-same-foot-problems-educational-seminar-2/
END:VEVENT
BEGIN:VEVENT
DTSTART;TZID=America/New_York:20200109T183000
DTEND;TZID=America/New_York:20200109T193000
DTSTAMP:20260422T093259
CREATED:20191223T111740Z
LAST-MODIFIED:20191223T111740Z
UID:4353-1578594600-1578598200@se-ortho.com
SUMMARY:New Year\, Same Foot Problems | Educational Seminar
DESCRIPTION:If you have not had a chance to meet our new Foot & Ankle surgeon\, you won’t want to miss this! Join Stephen Arndt\, MD\, board-certified and fellowship-trained orthopedic surgeon as he fills us in on dealing with and avoiding those lingering foot issues. \nIt is a new year – Stop dealing with those same old foot problems. Do you have arthritis or bunions that have been bothering you for years? It is time to get them taken care of! \nAdmission is FREE. \nEmail us at rsvp@se-ortho.com to reserve your seat.
URL:https://se-ortho.com/event/new-year-same-foot-problems-educational-seminar/
END:VEVENT
BEGIN:VEVENT
DTSTART;VALUE=DATE:20191225
DTEND;VALUE=DATE:20191226
DTSTAMP:20260422T093259
CREATED:20190710T093104Z
LAST-MODIFIED:20190710T093104Z
UID:4152-1577232000-1577318399@se-ortho.com
SUMMARY:Christmas Day
DESCRIPTION:We are closed today. We hope everyone enjoys their holiday!
URL:https://se-ortho.com/event/christmas-day/
END:VEVENT
BEGIN:VEVENT
DTSTART;VALUE=DATE:20191225
DTEND;VALUE=DATE:20191226
DTSTAMP:20260422T093259
CREATED:20190710T093104Z
LAST-MODIFIED:20190710T093104Z
UID:67008-1577232000-1577318399@se-ortho.com
SUMMARY:Christmas Day
DESCRIPTION:We are closed today. We hope everyone enjoys their holiday!
URL:https://se-ortho.com/event/christmas-day-2/
END:VEVENT
BEGIN:VEVENT
DTSTART;VALUE=DATE:20191224
DTEND;VALUE=DATE:20191225
DTSTAMP:20260422T093259
CREATED:20190710T093022Z
LAST-MODIFIED:20190710T093022Z
UID:67007-1577145600-1577231999@se-ortho.com
SUMMARY:Christmas Eve
DESCRIPTION:We are closed today. We hope everyone enjoys their holiday!
URL:https://se-ortho.com/event/christmas-eve-2/
END:VEVENT
BEGIN:VEVENT
DTSTART;VALUE=DATE:20191224
DTEND;VALUE=DATE:20191225
DTSTAMP:20260422T093259
CREATED:20190710T093022Z
LAST-MODIFIED:20190710T093022Z
UID:4150-1577145600-1577231999@se-ortho.com
SUMMARY:Christmas Eve
DESCRIPTION:We are closed today. We hope everyone enjoys their holiday!
URL:https://se-ortho.com/event/christmas-eve/
END:VEVENT
BEGIN:VEVENT
DTSTART;TZID=America/New_York:20191209T183000
DTEND;TZID=America/New_York:20191209T193000
DTSTAMP:20260422T093259
CREATED:20191115T120132Z
LAST-MODIFIED:20191115T120132Z
UID:67022-1575916200-1575919800@se-ortho.com
SUMMARY:Podiatric Medicine Seminar | Dr. Galan
DESCRIPTION:Join us for an informal seminar hosted by Southeast Orthopedic Specialists\, board-qualified Podiatrist\, Gabriel Galan\, DPM. Grab a friend and come find out what you can do to help alleviate foot pain and find a treatment option that works for you! \nFood & beverages will be provided | Admission is free \nRSVP to RSVP@se-ortho.com
URL:https://se-ortho.com/event/podiatric-medicine-seminar-dr-galan-2/
END:VEVENT
BEGIN:VEVENT
DTSTART;TZID=America/New_York:20191209T183000
DTEND;TZID=America/New_York:20191209T193000
DTSTAMP:20260422T093259
CREATED:20191115T120132Z
LAST-MODIFIED:20191115T120132Z
UID:4299-1575916200-1575919800@se-ortho.com
SUMMARY:Podiatric Medicine Seminar | Dr. Galan
DESCRIPTION:Join us for an informal seminar hosted by Southeast Orthopedic Specialists\, board-qualified Podiatrist\, Gabriel Galan\, DPM. Grab a friend and come find out what you can do to help alleviate foot pain and find a treatment option that works for you! \nFood & beverages will be provided | Admission is free \nRSVP to RSVP@se-ortho.com
URL:https://se-ortho.com/event/podiatric-medicine-seminar-dr-galan/
END:VEVENT
BEGIN:VEVENT
DTSTART;TZID=America/New_York:20191208T160500
DTEND;TZID=America/New_York:20191208T160500
DTSTAMP:20260422T093259
CREATED:20190710T092822Z
LAST-MODIFIED:20190710T092822Z
UID:67006-1575821100-1575821100@se-ortho.com
SUMMARY:Jacksonville Jaguars vs. Los Angeles Chargers
DESCRIPTION:Come tailgate with your favorite doctors & medical staff at every home Jaguars game! \nExact spots will be updated soon!
URL:https://se-ortho.com/event/jacksonville-jaguars-vs-los-angeles-chargers-2/
END:VEVENT
BEGIN:VEVENT
DTSTART;TZID=America/New_York:20191208T160500
DTEND;TZID=America/New_York:20191208T160500
DTSTAMP:20260422T093259
CREATED:20190710T092822Z
LAST-MODIFIED:20190710T092822Z
UID:4148-1575821100-1575821100@se-ortho.com
SUMMARY:Jacksonville Jaguars vs. Los Angeles Chargers
DESCRIPTION:Come tailgate with your favorite doctors & medical staff at every home Jaguars game! \nExact spots will be updated soon!
URL:https://se-ortho.com/event/jacksonville-jaguars-vs-los-angeles-chargers/
END:VEVENT
BEGIN:VEVENT
DTSTART;TZID=America/New_York:20191201T130000
DTEND;TZID=America/New_York:20191201T130000
DTSTAMP:20260422T093259
CREATED:20190710T092710Z
LAST-MODIFIED:20190710T092710Z
UID:67005-1575205200-1575205200@se-ortho.com
SUMMARY:Jacksonville Jaguars vs. Tampa Bay Buccaneers
DESCRIPTION:Come tailgate with your favorite doctors & medical staff at every home Jaguars game! \nExact spots will be updated soon!
URL:https://se-ortho.com/event/jacksonville-jaguars-vs-tampa-bay-buccaneers-2/
END:VEVENT
BEGIN:VEVENT
DTSTART;TZID=America/New_York:20191201T130000
DTEND;TZID=America/New_York:20191201T130000
DTSTAMP:20260422T093259
CREATED:20190710T092710Z
LAST-MODIFIED:20190710T092710Z
UID:4146-1575205200-1575205200@se-ortho.com
SUMMARY:Jacksonville Jaguars vs. Tampa Bay Buccaneers
DESCRIPTION:Come tailgate with your favorite doctors & medical staff at every home Jaguars game! \nExact spots will be updated soon!
URL:https://se-ortho.com/event/jacksonville-jaguars-vs-tampa-bay-buccaneers/
END:VEVENT
END:VCALENDAR