BEGIN:VCALENDAR
VERSION:2.0
PRODID:-//Southeast Orthopedic Specialists - ECPv6.15.18//NONSGML v1.0//EN
CALSCALE:GREGORIAN
METHOD:PUBLISH
X-WR-CALNAME:Southeast Orthopedic Specialists
X-ORIGINAL-URL:https://se-ortho.com
X-WR-CALDESC:Events for Southeast Orthopedic Specialists
REFRESH-INTERVAL;VALUE=DURATION:PT1H
X-Robots-Tag:noindex
X-PUBLISHED-TTL:PT1H
BEGIN:VTIMEZONE
TZID:America/New_York
BEGIN:DAYLIGHT
TZOFFSETFROM:-0500
TZOFFSETTO:-0400
TZNAME:EDT
DTSTART:20190310T070000
END:DAYLIGHT
BEGIN:STANDARD
TZOFFSETFROM:-0400
TZOFFSETTO:-0500
TZNAME:EST
DTSTART:20191103T060000
END:STANDARD
BEGIN:DAYLIGHT
TZOFFSETFROM:-0500
TZOFFSETTO:-0400
TZNAME:EDT
DTSTART:20200308T070000
END:DAYLIGHT
BEGIN:STANDARD
TZOFFSETFROM:-0400
TZOFFSETTO:-0500
TZNAME:EST
DTSTART:20201101T060000
END:STANDARD
BEGIN:DAYLIGHT
TZOFFSETFROM:-0500
TZOFFSETTO:-0400
TZNAME:EDT
DTSTART:20210314T070000
END:DAYLIGHT
BEGIN:STANDARD
TZOFFSETFROM:-0400
TZOFFSETTO:-0500
TZNAME:EST
DTSTART:20211107T060000
END:STANDARD
BEGIN:DAYLIGHT
TZOFFSETFROM:-0500
TZOFFSETTO:-0400
TZNAME:EDT
DTSTART:20220313T070000
END:DAYLIGHT
BEGIN:STANDARD
TZOFFSETFROM:-0400
TZOFFSETTO:-0500
TZNAME:EST
DTSTART:20221106T060000
END:STANDARD
END:VTIMEZONE
BEGIN:VEVENT
DTSTART;TZID=America/New_York:20210127T183000
DTEND;TZID=America/New_York:20210127T193000
DTSTAMP:20260422T043803
CREATED:20210114T144409Z
LAST-MODIFIED:20210114T144409Z
UID:27926-1611772200-1611775800@se-ortho.com
SUMMARY:Virtual Presentation with Dr. Robert Hurford
DESCRIPTION:Join Dr. Robert Hurford on Wednesday\, January 27th\, 2021 at 6:30 PM EST for a live virtual seminar where he will present on The Intracept Procedure for Chronic Low Back Pain. Attendance is limited\, reserve your spot today! \nREGISTER HERE \nAfter registering\, you will receive a confirmation email containing information about joining the webinar. \n 
URL:https://se-ortho.com/event/virtual-presentation-with-dr-robert-hurford/
CATEGORIES:Virtual Seminar
END:VEVENT
BEGIN:VEVENT
DTSTART;TZID=America/New_York:20210127T183000
DTEND;TZID=America/New_York:20210127T193000
DTSTAMP:20260422T043803
CREATED:20210114T144409Z
LAST-MODIFIED:20210114T144409Z
UID:67046-1611772200-1611775800@se-ortho.com
SUMMARY:Virtual Presentation with Dr. Robert Hurford
DESCRIPTION:Join Dr. Robert Hurford on Wednesday\, January 27th\, 2021 at 6:30 PM EST for a live virtual seminar where he will present on The Intracept Procedure for Chronic Low Back Pain. Attendance is limited\, reserve your spot today! \nREGISTER HERE \nAfter registering\, you will receive a confirmation email containing information about joining the webinar. \n 
URL:https://se-ortho.com/event/virtual-presentation-with-dr-robert-hurford-2/
CATEGORIES:Virtual Seminar
END:VEVENT
BEGIN:VEVENT
DTSTART;TZID=America/New_York:20210119T180000
DTEND;TZID=America/New_York:20210119T180000
DTSTAMP:20260422T043803
CREATED:20210118T091524Z
LAST-MODIFIED:20210118T091524Z
UID:67047-1611079200-1611079200@se-ortho.com
SUMMARY:Live Q&A with Dr. Max Lincoln
DESCRIPTION:Join Dr. Max Lincoln\, board-certified and fellowship-trained orthopedic surgeon for a live Q&A on all things hip and knee replacement! You can register for the even below. Once you are logged in you will be able to submit your questions\, or you can submit them ahead of time by emailing them to Schedule@se-ortho.com. \nREGISTER HERE!
URL:https://se-ortho.com/event/live-qa-with-dr-max-lincoln-2/
END:VEVENT
BEGIN:VEVENT
DTSTART;TZID=America/New_York:20210119T180000
DTEND;TZID=America/New_York:20210119T180000
DTSTAMP:20260422T043803
CREATED:20210118T091524Z
LAST-MODIFIED:20210118T091524Z
UID:28078-1611079200-1611079200@se-ortho.com
SUMMARY:Live Q&A with Dr. Max Lincoln
DESCRIPTION:Join Dr. Max Lincoln\, board-certified and fellowship-trained orthopedic surgeon for a live Q&A on all things hip and knee replacement! You can register for the even below. Once you are logged in you will be able to submit your questions\, or you can submit them ahead of time by emailing them to Schedule@se-ortho.com. \nREGISTER HERE!
URL:https://se-ortho.com/event/live-qa-with-dr-max-lincoln/
END:VEVENT
BEGIN:VEVENT
DTSTART;TZID=America/New_York:20210114T183000
DTEND;TZID=America/New_York:20210114T193000
DTSTAMP:20260422T043803
CREATED:20210104T093622Z
LAST-MODIFIED:20210104T093622Z
UID:26591-1610649000-1610652600@se-ortho.com
SUMMARY:Virtual Presentation with Dr. Max Lincoln
DESCRIPTION:Join Dr. Max Lincoln on Thursday\, January 14th\, 2020 at 6:30 PM EST for a live virtual seminar where he will present on Advances in Hip and Knee Surgery. Attendance is limited\, reserve your spot today. \nREGISTER HERE \nAfter registering\, you will receive a confirmation email containing information about joining the webinar. \nEvent Recording
URL:https://se-ortho.com/event/virtual-presentation-with-dr-max-lincoln/
CATEGORIES:Virtual Seminar
END:VEVENT
BEGIN:VEVENT
DTSTART;TZID=America/New_York:20210114T183000
DTEND;TZID=America/New_York:20210114T193000
DTSTAMP:20260422T043803
CREATED:20210104T093622Z
LAST-MODIFIED:20210104T093622Z
UID:67045-1610649000-1610652600@se-ortho.com
SUMMARY:Virtual Presentation with Dr. Max Lincoln
DESCRIPTION:Join Dr. Max Lincoln on Thursday\, January 14th\, 2020 at 6:30 PM EST for a live virtual seminar where he will present on Advances in Hip and Knee Surgery. Attendance is limited\, reserve your spot today. \nREGISTER HERE \nAfter registering\, you will receive a confirmation email containing information about joining the webinar. \nEvent Recording
URL:https://se-ortho.com/event/virtual-presentation-with-dr-max-lincoln-2/
CATEGORIES:Virtual Seminar
END:VEVENT
BEGIN:VEVENT
DTSTART;VALUE=DATE:20210101
DTEND;VALUE=DATE:20210102
DTSTAMP:20260422T043803
CREATED:20201229T091414Z
LAST-MODIFIED:20201229T091414Z
UID:67044-1609459200-1609545599@se-ortho.com
SUMMARY:Closed for New Year's Day
DESCRIPTION:Happy New Year to all! We will see you back in clinic on January 2nd\, 2021.
URL:https://se-ortho.com/event/closed-for-new-years-day-2/
END:VEVENT
BEGIN:VEVENT
DTSTART;VALUE=DATE:20210101
DTEND;VALUE=DATE:20210102
DTSTAMP:20260422T043803
CREATED:20201229T091414Z
LAST-MODIFIED:20201229T091414Z
UID:26588-1609459200-1609545599@se-ortho.com
SUMMARY:Closed for New Year's Day
DESCRIPTION:Happy New Year to all! We will see you back in clinic on January 2nd\, 2021.
URL:https://se-ortho.com/event/closed-for-new-years-day/
END:VEVENT
BEGIN:VEVENT
DTSTART;VALUE=DATE:20201231
DTEND;VALUE=DATE:20210101
DTSTAMP:20260422T043803
CREATED:20201229T091238Z
LAST-MODIFIED:20201229T091238Z
UID:67043-1609372800-1609459199@se-ortho.com
SUMMARY:Closed for New Year's Eve
DESCRIPTION:Happy New Year to all! We will see you back in clinic on January 2nd\, 2021.
URL:https://se-ortho.com/event/closed-for-new-years-eve-2/
END:VEVENT
BEGIN:VEVENT
DTSTART;VALUE=DATE:20201231
DTEND;VALUE=DATE:20210101
DTSTAMP:20260422T043803
CREATED:20201229T091238Z
LAST-MODIFIED:20201229T091238Z
UID:26586-1609372800-1609459199@se-ortho.com
SUMMARY:Closed for New Year's Eve
DESCRIPTION:Happy New Year to all! We will see you back in clinic on January 2nd\, 2021.
URL:https://se-ortho.com/event/closed-for-new-years-eve/
END:VEVENT
BEGIN:VEVENT
DTSTART;VALUE=DATE:20201225
DTEND;VALUE=DATE:20201226
DTSTAMP:20260422T043803
CREATED:20200615T134058Z
LAST-MODIFIED:20200615T134058Z
UID:67033-1608854400-1608940799@se-ortho.com
SUMMARY:Closed for Christmas
DESCRIPTION:Happy Holidays to all – We will see you back in the clinic on Monday\, December 28th.
URL:https://se-ortho.com/event/closed-for-christmas-2/
END:VEVENT
BEGIN:VEVENT
DTSTART;VALUE=DATE:20201225
DTEND;VALUE=DATE:20201226
DTSTAMP:20260422T043803
CREATED:20200615T134058Z
LAST-MODIFIED:20200615T134058Z
UID:9497-1608854400-1608940799@se-ortho.com
SUMMARY:Closed for Christmas
DESCRIPTION:Happy Holidays to all – We will see you back in the clinic on Monday\, December 28th.
URL:https://se-ortho.com/event/closed-for-christmas/
END:VEVENT
BEGIN:VEVENT
DTSTART;VALUE=DATE:20201224
DTEND;VALUE=DATE:20201225
DTSTAMP:20260422T043803
CREATED:20200615T134015Z
LAST-MODIFIED:20200615T134015Z
UID:67032-1608768000-1608854399@se-ortho.com
SUMMARY:Closed for Christmas Eve
DESCRIPTION:Happy Holidays to all – We will see you back in the clinic on Monday\, December 28th.
URL:https://se-ortho.com/event/closed-for-christmas-eve-2/
END:VEVENT
BEGIN:VEVENT
DTSTART;VALUE=DATE:20201224
DTEND;VALUE=DATE:20201225
DTSTAMP:20260422T043803
CREATED:20200615T134015Z
LAST-MODIFIED:20200615T134015Z
UID:9495-1608768000-1608854399@se-ortho.com
SUMMARY:Closed for Christmas Eve
DESCRIPTION:Happy Holidays to all – We will see you back in the clinic on Monday\, December 28th.
URL:https://se-ortho.com/event/closed-for-christmas-eve/
END:VEVENT
BEGIN:VEVENT
DTSTART;TZID=America/New_York:20201209T183000
DTEND;TZID=America/New_York:20201209T193000
DTSTAMP:20260422T043803
CREATED:20201113T155904Z
LAST-MODIFIED:20201113T155904Z
UID:67041-1607538600-1607542200@se-ortho.com
SUMMARY:Virtual Presentation with Dr. Aaron Bates
DESCRIPTION:Join Dr. Aaron Bates on Wednesday\, December 9th\, 2020 at 6:30 PM EST for a live virtual seminar where he will present on Shoulder Dislocations\, Instability & Labral Tears. Attendance is limited\, reserve your spot today. \nREGISTER HERE \nAfter registering\, you will receive a confirmation email containing information about joining the webinar.
URL:https://se-ortho.com/event/virtual-presentation-with-dr-aaron-bates-2/
END:VEVENT
BEGIN:VEVENT
DTSTART;TZID=America/New_York:20201209T183000
DTEND;TZID=America/New_York:20201209T193000
DTSTAMP:20260422T043803
CREATED:20201113T155904Z
LAST-MODIFIED:20201113T155904Z
UID:20353-1607538600-1607542200@se-ortho.com
SUMMARY:Virtual Presentation with Dr. Aaron Bates
DESCRIPTION:Join Dr. Aaron Bates on Wednesday\, December 9th\, 2020 at 6:30 PM EST for a live virtual seminar where he will present on Shoulder Dislocations\, Instability & Labral Tears. Attendance is limited\, reserve your spot today. \nREGISTER HERE \nAfter registering\, you will receive a confirmation email containing information about joining the webinar.
URL:https://se-ortho.com/event/virtual-presentation-with-dr-aaron-bates/
END:VEVENT
BEGIN:VEVENT
DTSTART;VALUE=DATE:20201127
DTEND;VALUE=DATE:20201128
DTSTAMP:20260422T043803
CREATED:20200615T134354Z
LAST-MODIFIED:20200615T134354Z
UID:9503-1606435200-1606521599@se-ortho.com
SUMMARY:Closed
DESCRIPTION:Happy Thanksgiving to all – We will see you back in the clinic on Monday\, November 30th.
URL:https://se-ortho.com/event/closed-2/
END:VEVENT
BEGIN:VEVENT
DTSTART;VALUE=DATE:20201127
DTEND;VALUE=DATE:20201128
DTSTAMP:20260422T043803
CREATED:20200615T134354Z
LAST-MODIFIED:20200615T134354Z
UID:67035-1606435200-1606521599@se-ortho.com
SUMMARY:Closed
DESCRIPTION:Happy Thanksgiving to all – We will see you back in the clinic on Monday\, November 30th.
URL:https://se-ortho.com/event/closed-2-2/
END:VEVENT
BEGIN:VEVENT
DTSTART;VALUE=DATE:20201126
DTEND;VALUE=DATE:20201127
DTSTAMP:20260422T043803
CREATED:20200615T134216Z
LAST-MODIFIED:20200615T134216Z
UID:9501-1606348800-1606435199@se-ortho.com
SUMMARY:Closed for Thanksgiving
DESCRIPTION:Happy Thanksgiving to all – We will see you back in the clinic on Monday\, November 30th.
URL:https://se-ortho.com/event/closed-for-thanksgiving/
END:VEVENT
BEGIN:VEVENT
DTSTART;VALUE=DATE:20201126
DTEND;VALUE=DATE:20201127
DTSTAMP:20260422T043803
CREATED:20200615T134216Z
LAST-MODIFIED:20200615T134216Z
UID:67034-1606348800-1606435199@se-ortho.com
SUMMARY:Closed for Thanksgiving
DESCRIPTION:Happy Thanksgiving to all – We will see you back in the clinic on Monday\, November 30th.
URL:https://se-ortho.com/event/closed-for-thanksgiving-2/
END:VEVENT
BEGIN:VEVENT
DTSTART;TZID=America/New_York:20201111T183000
DTEND;TZID=America/New_York:20201111T193000
DTSTAMP:20260422T043803
CREATED:20201019T092836Z
LAST-MODIFIED:20201019T092836Z
UID:19423-1605119400-1605123000@se-ortho.com
SUMMARY:Virtual Presentation with Dr. Jorge Acevedo
DESCRIPTION:Join Dr. Jorge Acevedo on Wednesday\, November 11\, 2020 at 6:30 PM EST for a live virtual seminar where he will present on Minimally Invasive Surgery of the Foot and Ankle: From Achilles to Bunions. Attendance is limited\, reserve your spot today. \nREGISTER HERE \nAfter registering\, you will receive a confirmation email containing information about joining the webinar.
URL:https://se-ortho.com/event/virtual-presentation-with-dr-jorge-acevedo/
END:VEVENT
BEGIN:VEVENT
DTSTART;TZID=America/New_York:20201111T183000
DTEND;TZID=America/New_York:20201111T193000
DTSTAMP:20260422T043803
CREATED:20201019T092836Z
LAST-MODIFIED:20201019T092836Z
UID:67040-1605119400-1605123000@se-ortho.com
SUMMARY:Virtual Presentation with Dr. Jorge Acevedo
DESCRIPTION:Join Dr. Jorge Acevedo on Wednesday\, November 11\, 2020 at 6:30 PM EST for a live virtual seminar where he will present on Minimally Invasive Surgery of the Foot and Ankle: From Achilles to Bunions. Attendance is limited\, reserve your spot today. \nREGISTER HERE \nAfter registering\, you will receive a confirmation email containing information about joining the webinar.
URL:https://se-ortho.com/event/virtual-presentation-with-dr-jorge-acevedo-2/
END:VEVENT
BEGIN:VEVENT
DTSTART;TZID=America/New_York:20201027T183000
DTEND;TZID=America/New_York:20201027T193000
DTSTAMP:20260422T043803
CREATED:20201019T094608Z
LAST-MODIFIED:20201019T094608Z
UID:67042-1603823400-1603827000@se-ortho.com
SUMMARY:Virtual Seminar with Dr. Brett Puckett
DESCRIPTION:Join Dr. Brett Puckett on Wednesday\, October 27th\, 2020 at 6:30 PM EST for a live virtual seminar where he will present on Minimally Invasive Surgery of the Foot and Ankle: From Achilles to Bunions. Attendance is limited\, reserve your spot today. \nREGISTER HERE \nAfter registering\, you will receive a confirmation email containing information about joining the webinar.
URL:https://se-ortho.com/event/virtual-seminar-with-dr-brett-puckett-3/
END:VEVENT
BEGIN:VEVENT
DTSTART;TZID=America/New_York:20201027T183000
DTEND;TZID=America/New_York:20201027T193000
DTSTAMP:20260422T043803
CREATED:20201019T094608Z
LAST-MODIFIED:20201019T094608Z
UID:20357-1603823400-1603827000@se-ortho.com
SUMMARY:Virtual Seminar with Dr. Brett Puckett
DESCRIPTION:Join Dr. Brett Puckett on Wednesday\, October 27th\, 2020 at 6:30 PM EST for a live virtual seminar where he will present on Minimally Invasive Surgery of the Foot and Ankle: From Achilles to Bunions. Attendance is limited\, reserve your spot today. \nREGISTER HERE \nAfter registering\, you will receive a confirmation email containing information about joining the webinar.
URL:https://se-ortho.com/event/virtual-seminar-with-dr-brett-puckett/
END:VEVENT
BEGIN:VEVENT
DTSTART;TZID=America/New_York:20201013T183000
DTEND;TZID=America/New_York:20201013T190000
DTSTAMP:20260422T043803
CREATED:20201005T145121Z
LAST-MODIFIED:20201005T145121Z
UID:67039-1602613800-1602615600@se-ortho.com
SUMMARY:Virtual Introduction: Dr. Michael Robinson
DESCRIPTION:Please join us while we introduce our newest team member\, Dr. Michael Robinson. Dr. Robinson is a board-certified\, fellowship-trained orthopedic surgeon who specializes in joint replacements. \nDr. Robinson is now seeing patients at our new Riverside clinic\, located at 2 Shircliff Way\, Suite 605\, Jackonville\, Fl 32204.  \nTo register click here. \nAfter registering\, you will receive a confirmation email containing information about joining the webinar. \nTo learn more or schedule an appointment with Dr. Robinson\, please visit our website at www.se-ortho.com or call us at (904)634-0640. \n 
URL:https://se-ortho.com/event/virtual-introduction-dr-michael-robinson-2/
END:VEVENT
BEGIN:VEVENT
DTSTART;TZID=America/New_York:20201013T183000
DTEND;TZID=America/New_York:20201013T190000
DTSTAMP:20260422T043803
CREATED:20201005T145121Z
LAST-MODIFIED:20201005T145121Z
UID:19420-1602613800-1602615600@se-ortho.com
SUMMARY:Virtual Introduction: Dr. Michael Robinson
DESCRIPTION:Please join us while we introduce our newest team member\, Dr. Michael Robinson. Dr. Robinson is a board-certified\, fellowship-trained orthopedic surgeon who specializes in joint replacements. \nDr. Robinson is now seeing patients at our new Riverside clinic\, located at 2 Shircliff Way\, Suite 605\, Jackonville\, Fl 32204.  \nTo register click here. \nAfter registering\, you will receive a confirmation email containing information about joining the webinar. \nTo learn more or schedule an appointment with Dr. Robinson\, please visit our website at www.se-ortho.com or call us at (904)634-0640. \n 
URL:https://se-ortho.com/event/virtual-introduction-dr-michael-robinson/
END:VEVENT
BEGIN:VEVENT
DTSTART;TZID=America/New_York:20200923T183000
DTEND;TZID=America/New_York:20200923T193000
DTSTAMP:20260422T043803
CREATED:20200908T103604Z
LAST-MODIFIED:20200908T103604Z
UID:67038-1600885800-1600889400@se-ortho.com
SUMMARY:Virtual Presentation with Dr. Rahul Deshmukh
DESCRIPTION:Join Dr. Rahul Deshmukh on Wednesday\, September 23\, 2020 at 6:30 PM EST for a live virtual seminar where he will present on Save Your Shoulders and Knees! Advances and Current Therapies in Sports Medicine. Attendance is limited\, reserve your spot today. \nREGISTER HERE! \nAfter registering\, you will receive a confirmation email containing information about joining the webinar.
URL:https://se-ortho.com/event/virtual-presentation-with-dr-rahul-deshmukh-2/
END:VEVENT
BEGIN:VEVENT
DTSTART;TZID=America/New_York:20200923T183000
DTEND;TZID=America/New_York:20200923T193000
DTSTAMP:20260422T043803
CREATED:20200908T103604Z
LAST-MODIFIED:20200908T103604Z
UID:17608-1600885800-1600889400@se-ortho.com
SUMMARY:Virtual Presentation with Dr. Rahul Deshmukh
DESCRIPTION:Join Dr. Rahul Deshmukh on Wednesday\, September 23\, 2020 at 6:30 PM EST for a live virtual seminar where he will present on Save Your Shoulders and Knees! Advances and Current Therapies in Sports Medicine. Attendance is limited\, reserve your spot today. \nREGISTER HERE! \nAfter registering\, you will receive a confirmation email containing information about joining the webinar.
URL:https://se-ortho.com/event/virtual-presentation-with-dr-rahul-deshmukh/
END:VEVENT
BEGIN:VEVENT
DTSTART;TZID=America/New_York:20200827T183000
DTEND;TZID=America/New_York:20200827T193000
DTSTAMP:20260422T043803
CREATED:20200727T151503Z
LAST-MODIFIED:20200727T151503Z
UID:67037-1598553000-1598556600@se-ortho.com
SUMMARY:Virtual Presentation-Common Causes of Back Pain with Frank Collier\, MD
DESCRIPTION:Southeast Orthopedic Specialists is pleased to announce our Virtual Seminar series. Each month\, our expert team of orthopedic and spine specialists will be hosting live virtual events where they will discuss common orthopedic conditions\, research and treatments options.\n\n\n\nJoin Dr. Frank Collier Thursday\, August 27th\, 2020 at 6:30 PM for a live seminar where he will discuss Common Causes of Back Pain.
URL:https://se-ortho.com/event/virtual-presentation-common-causes-of-back-pain-with-frank-collier-md-2/
END:VEVENT
BEGIN:VEVENT
DTSTART;TZID=America/New_York:20200827T183000
DTEND;TZID=America/New_York:20200827T193000
DTSTAMP:20260422T043803
CREATED:20200727T151503Z
LAST-MODIFIED:20200727T151503Z
UID:13943-1598553000-1598556600@se-ortho.com
SUMMARY:Virtual Presentation-Common Causes of Back Pain with Frank Collier\, MD
DESCRIPTION:Southeast Orthopedic Specialists is pleased to announce our Virtual Seminar series. Each month\, our expert team of orthopedic and spine specialists will be hosting live virtual events where they will discuss common orthopedic conditions\, research and treatments options.\n\n\n\nJoin Dr. Frank Collier Thursday\, August 27th\, 2020 at 6:30 PM for a live seminar where he will discuss Common Causes of Back Pain.
URL:https://se-ortho.com/event/virtual-presentation-common-causes-of-back-pain-with-frank-collier-md/
END:VEVENT
END:VCALENDAR