BEGIN:VCALENDAR
VERSION:2.0
PRODID:-//Southeast Orthopedic Specialists - ECPv6.15.18//NONSGML v1.0//EN
CALSCALE:GREGORIAN
METHOD:PUBLISH
X-WR-CALNAME:Southeast Orthopedic Specialists
X-ORIGINAL-URL:https://se-ortho.com
X-WR-CALDESC:Events for Southeast Orthopedic Specialists
REFRESH-INTERVAL;VALUE=DURATION:PT1H
X-Robots-Tag:noindex
X-PUBLISHED-TTL:PT1H
BEGIN:VTIMEZONE
TZID:America/New_York
BEGIN:DAYLIGHT
TZOFFSETFROM:-0500
TZOFFSETTO:-0400
TZNAME:EDT
DTSTART:20190310T070000
END:DAYLIGHT
BEGIN:STANDARD
TZOFFSETFROM:-0400
TZOFFSETTO:-0500
TZNAME:EST
DTSTART:20191103T060000
END:STANDARD
BEGIN:DAYLIGHT
TZOFFSETFROM:-0500
TZOFFSETTO:-0400
TZNAME:EDT
DTSTART:20200308T070000
END:DAYLIGHT
BEGIN:STANDARD
TZOFFSETFROM:-0400
TZOFFSETTO:-0500
TZNAME:EST
DTSTART:20201101T060000
END:STANDARD
BEGIN:DAYLIGHT
TZOFFSETFROM:-0500
TZOFFSETTO:-0400
TZNAME:EDT
DTSTART:20210314T070000
END:DAYLIGHT
BEGIN:STANDARD
TZOFFSETFROM:-0400
TZOFFSETTO:-0500
TZNAME:EST
DTSTART:20211107T060000
END:STANDARD
BEGIN:DAYLIGHT
TZOFFSETFROM:-0500
TZOFFSETTO:-0400
TZNAME:EDT
DTSTART:20220313T070000
END:DAYLIGHT
BEGIN:STANDARD
TZOFFSETFROM:-0400
TZOFFSETTO:-0500
TZNAME:EST
DTSTART:20221106T060000
END:STANDARD
END:VTIMEZONE
BEGIN:VEVENT
DTSTART;TZID=America/New_York:20210623T183000
DTEND;TZID=America/New_York:20210623T193000
DTSTAMP:20260422T011804
CREATED:20210622T140737Z
LAST-MODIFIED:20210622T140737Z
UID:67058-1624473000-1624476600@se-ortho.com
SUMMARY:Virtual Introduction with Dr. Pavel Balduyeu
DESCRIPTION:Please join our newest physician\, Dr. Pavel Balduyeu\, for a virtual introduction on June 23rd\, 2021 at 6:30 pm.  Dr. Balduyeu is a board-certified\, fellowship-trained Interventional Spine and Pain Management physician. Dr. Balduyeu will introduce himself\, shares his specialty and many other details and conclude with a Q&A session at the end of this seminar. \nREGISTER HERE \n\n 
URL:https://se-ortho.com/event/virtual-introduction-with-dr-pavel-balduyeu-2/
END:VEVENT
BEGIN:VEVENT
DTSTART;TZID=America/New_York:20210623T183000
DTEND;TZID=America/New_York:20210623T193000
DTSTAMP:20260422T011804
CREATED:20210622T140737Z
LAST-MODIFIED:20210622T140737Z
UID:38434-1624473000-1624476600@se-ortho.com
SUMMARY:Virtual Introduction with Dr. Pavel Balduyeu
DESCRIPTION:Please join our newest physician\, Dr. Pavel Balduyeu\, for a virtual introduction on June 23rd\, 2021 at 6:30 pm.  Dr. Balduyeu is a board-certified\, fellowship-trained Interventional Spine and Pain Management physician. Dr. Balduyeu will introduce himself\, shares his specialty and many other details and conclude with a Q&A session at the end of this seminar. \nREGISTER HERE \n\n 
URL:https://se-ortho.com/event/virtual-introduction-with-dr-pavel-balduyeu/
END:VEVENT
BEGIN:VEVENT
DTSTART;TZID=America/New_York:20210612T090000
DTEND;TZID=America/New_York:20210612T120000
DTSTAMP:20260422T011804
CREATED:20210603T124215Z
LAST-MODIFIED:20210603T124215Z
UID:67057-1623488400-1623499200@se-ortho.com
SUMMARY:Southeast Orthopedic Specialists Job Fair
DESCRIPTION:Are you interested in a career in the healthcare industry? \nCome check out Southeast Orthopedic Specialists’ onsite job fair at our Central Business Office on Saturday\, June 12th\, 2021 from 9 am- 12 pm. \nWe are currently hiring for the following positions:\nAuthorizations\nBilling\nBack Office (Scribe\, Orthotech\, Facilitator)\nFront Office (Check-in\, Check-out)\nMedical Office Scheduler \nPlease be prepared for an on the spot interview\, and have your resume handy. \nTo learn more about our open positions\, follow the link below:\nhttps://lnkd.in/eUacQBs \nTo learn more about Southeast Orthopedic Specialists\, call us at 904.634.0640 and visit our website at se-ortho.com.
URL:https://se-ortho.com/event/southeast-orthopedic-specialists-job-fair-2/
END:VEVENT
BEGIN:VEVENT
DTSTART;TZID=America/New_York:20210612T090000
DTEND;TZID=America/New_York:20210612T120000
DTSTAMP:20260422T011804
CREATED:20210603T124215Z
LAST-MODIFIED:20210603T124215Z
UID:37337-1623488400-1623499200@se-ortho.com
SUMMARY:Southeast Orthopedic Specialists Job Fair
DESCRIPTION:Are you interested in a career in the healthcare industry? \nCome check out Southeast Orthopedic Specialists’ onsite job fair at our Central Business Office on Saturday\, June 12th\, 2021 from 9 am- 12 pm. \nWe are currently hiring for the following positions:\nAuthorizations\nBilling\nBack Office (Scribe\, Orthotech\, Facilitator)\nFront Office (Check-in\, Check-out)\nMedical Office Scheduler \nPlease be prepared for an on the spot interview\, and have your resume handy. \nTo learn more about our open positions\, follow the link below:\nhttps://lnkd.in/eUacQBs \nTo learn more about Southeast Orthopedic Specialists\, call us at 904.634.0640 and visit our website at se-ortho.com.
URL:https://se-ortho.com/event/southeast-orthopedic-specialists-job-fair/
END:VEVENT
BEGIN:VEVENT
DTSTART;TZID=America/New_York:20210610T183000
DTEND;TZID=America/New_York:20210610T193000
DTSTAMP:20260422T011804
CREATED:20210602T142430Z
LAST-MODIFIED:20210602T142430Z
UID:33231-1623349800-1623353400@se-ortho.com
SUMMARY:Virtual Seminar with Dr. Gabriel Galan
DESCRIPTION:Join Dr. Gabriel Galan on Thursday\, June 10th\, 2021 at 6:30 PM EST for a live virtual seminar where he will present on Hammertoes: Deformity and Correction. Attendance is limited\, reserve your spot today! \nREGISTER HERE \nAfter registering\, you will receive a confirmation email containing information about joining the webinar.
URL:https://se-ortho.com/event/virtual-seminar-with-dr-gabriel-galan/
CATEGORIES:Virtual Seminar
END:VEVENT
BEGIN:VEVENT
DTSTART;TZID=America/New_York:20210610T183000
DTEND;TZID=America/New_York:20210610T193000
DTSTAMP:20260422T011804
CREATED:20210602T142430Z
LAST-MODIFIED:20210602T142430Z
UID:67055-1623349800-1623353400@se-ortho.com
SUMMARY:Virtual Seminar with Dr. Gabriel Galan
DESCRIPTION:Join Dr. Gabriel Galan on Thursday\, June 10th\, 2021 at 6:30 PM EST for a live virtual seminar where he will present on Hammertoes: Deformity and Correction. Attendance is limited\, reserve your spot today! \nREGISTER HERE \nAfter registering\, you will receive a confirmation email containing information about joining the webinar.
URL:https://se-ortho.com/event/virtual-seminar-with-dr-gabriel-galan-2/
CATEGORIES:Virtual Seminar
END:VEVENT
BEGIN:VEVENT
DTSTART;TZID=America/New_York:20210506T183000
DTEND;TZID=America/New_York:20210506T193000
DTSTAMP:20260422T011804
CREATED:20210413T101845Z
LAST-MODIFIED:20210413T101845Z
UID:67054-1620325800-1620329400@se-ortho.com
SUMMARY:Virtual Seminar with Dr. Christopher Goll
DESCRIPTION:Join Dr. Christopher Goll on Thursday\, May 6th\, 2021 at 6:30 PM EST for a live virtual seminar where he will present on Treatment Options for Thumb Pain and Arthritis. Attendance is limited\, reserve your spot today! \nREGISTER HERE \nAfter registering\, you will receive a confirmation email containing information about joining the webinar.
URL:https://se-ortho.com/event/virtual-seminar-with-dr-christopher-goll-2/
CATEGORIES:Virtual Seminar
END:VEVENT
BEGIN:VEVENT
DTSTART;TZID=America/New_York:20210506T183000
DTEND;TZID=America/New_York:20210506T193000
DTSTAMP:20260422T011804
CREATED:20210413T101845Z
LAST-MODIFIED:20210413T101845Z
UID:33222-1620325800-1620329400@se-ortho.com
SUMMARY:Virtual Seminar with Dr. Christopher Goll
DESCRIPTION:Join Dr. Christopher Goll on Thursday\, May 6th\, 2021 at 6:30 PM EST for a live virtual seminar where he will present on Treatment Options for Thumb Pain and Arthritis. Attendance is limited\, reserve your spot today! \nREGISTER HERE \nAfter registering\, you will receive a confirmation email containing information about joining the webinar.
URL:https://se-ortho.com/event/virtual-seminar-with-dr-christopher-goll/
CATEGORIES:Virtual Seminar
END:VEVENT
BEGIN:VEVENT
DTSTART;TZID=America/New_York:20210422T183000
DTEND;TZID=America/New_York:20210422T193000
DTSTAMP:20260422T011804
CREATED:20210301T162213Z
LAST-MODIFIED:20210301T162213Z
UID:67053-1619116200-1619119800@se-ortho.com
SUMMARY:Virtual Seminar with Dr. Michael Robinson
DESCRIPTION:Join Dr. Michael Robinson on Thursday\, April 22nd\, 2021 at 6:30 PM EST for a live virtual seminar where he will present on Joint Replacements of the Hip and Knee. Attendance is limited\, reserve your spot today! \nREGISTER HERE \nAfter registering\, you will receive a confirmation email containing information about joining the webinar.
URL:https://se-ortho.com/event/virtual-seminar-with-dr-michael-robinson-2/
CATEGORIES:Virtual Seminar
END:VEVENT
BEGIN:VEVENT
DTSTART;TZID=America/New_York:20210422T183000
DTEND;TZID=America/New_York:20210422T193000
DTSTAMP:20260422T011804
CREATED:20210301T162213Z
LAST-MODIFIED:20210301T162213Z
UID:30957-1619116200-1619119800@se-ortho.com
SUMMARY:Virtual Seminar with Dr. Michael Robinson
DESCRIPTION:Join Dr. Michael Robinson on Thursday\, April 22nd\, 2021 at 6:30 PM EST for a live virtual seminar where he will present on Joint Replacements of the Hip and Knee. Attendance is limited\, reserve your spot today! \nREGISTER HERE \nAfter registering\, you will receive a confirmation email containing information about joining the webinar.
URL:https://se-ortho.com/event/virtual-seminar-with-dr-michael-robinson/
CATEGORIES:Virtual Seminar
END:VEVENT
BEGIN:VEVENT
DTSTART;TZID=America/New_York:20210408T183000
DTEND;TZID=America/New_York:20210408T193000
DTSTAMP:20260422T011804
CREATED:20210301T161813Z
LAST-MODIFIED:20210301T161813Z
UID:67052-1617906600-1617910200@se-ortho.com
SUMMARY:Virtual Seminar with Dr. Stephen Arndt
DESCRIPTION:Join Dr. Stephen Arndt on Thursday\, April 8th\, 2021 at 6:30 PM EST for a live virtual seminar where he will present on Everything You Ever Wanted to Know About Bunions. Attendance is limited\, reserve your spot today! \nREGISTER HERE \nAfter registering\, you will receive a confirmation email containing information about joining the webinar.
URL:https://se-ortho.com/event/virtual-seminar-with-dr-stephen-arndt-3/
CATEGORIES:Virtual Seminar
END:VEVENT
BEGIN:VEVENT
DTSTART;TZID=America/New_York:20210408T183000
DTEND;TZID=America/New_York:20210408T193000
DTSTAMP:20260422T011804
CREATED:20210301T161813Z
LAST-MODIFIED:20210301T161813Z
UID:30955-1617906600-1617910200@se-ortho.com
SUMMARY:Virtual Seminar with Dr. Stephen Arndt
DESCRIPTION:Join Dr. Stephen Arndt on Thursday\, April 8th\, 2021 at 6:30 PM EST for a live virtual seminar where he will present on Everything You Ever Wanted to Know About Bunions. Attendance is limited\, reserve your spot today! \nREGISTER HERE \nAfter registering\, you will receive a confirmation email containing information about joining the webinar.
URL:https://se-ortho.com/event/virtual-seminar-with-dr-stephen-arndt/
CATEGORIES:Virtual Seminar
END:VEVENT
BEGIN:VEVENT
DTSTART;TZID=America/New_York:20210325T183000
DTEND;TZID=America/New_York:20210325T193000
DTSTAMP:20260422T011804
CREATED:20210128T153934Z
LAST-MODIFIED:20210128T153934Z
UID:28811-1616697000-1616700600@se-ortho.com
SUMMARY:Virtual Seminar with Dr. Stephan Esser
DESCRIPTION:Join Dr. Stephan Esser on Thursday\, March 25th\, 2021 at 6:30 PM EST for a live virtual seminar where he will present on Emotions and Eating. Attendance is limited\, reserve your spot today! \nREGISTER HERE \nAfter registering\, you will receive a confirmation email containing information about joining the webinar.
URL:https://se-ortho.com/event/virtual-seminar-with-dr-stephan-esser/
CATEGORIES:Virtual Seminar
END:VEVENT
BEGIN:VEVENT
DTSTART;TZID=America/New_York:20210325T183000
DTEND;TZID=America/New_York:20210325T193000
DTSTAMP:20260422T011804
CREATED:20210128T153934Z
LAST-MODIFIED:20210128T153934Z
UID:67051-1616697000-1616700600@se-ortho.com
SUMMARY:Virtual Seminar with Dr. Stephan Esser
DESCRIPTION:Join Dr. Stephan Esser on Thursday\, March 25th\, 2021 at 6:30 PM EST for a live virtual seminar where he will present on Emotions and Eating. Attendance is limited\, reserve your spot today! \nREGISTER HERE \nAfter registering\, you will receive a confirmation email containing information about joining the webinar.
URL:https://se-ortho.com/event/virtual-seminar-with-dr-stephan-esser-3/
CATEGORIES:Virtual Seminar
END:VEVENT
BEGIN:VEVENT
DTSTART;TZID=America/New_York:20210223T080000
DTEND;TZID=America/New_York:20210223T170000
DTSTAMP:20260422T011804
CREATED:20210128T153253Z
LAST-MODIFIED:20210128T153253Z
UID:28601-1614067200-1614099600@se-ortho.com
SUMMARY:Virtual Seminar with Dr. Frederick Moore
DESCRIPTION:Join Dr. Frederick Moore on Tuesday\, February 23rd\, 2021 at 6:30 PM EST for a live virtual seminar where he will present on All About Kyphoplasty. Attendance is limited\, reserve your spot today! \nREGISTER HERE \nAfter registering\, you will receive a confirmation email containing information about joining the webinar.
URL:https://se-ortho.com/event/virtual-seminar-with-dr-frederick-moore/
CATEGORIES:Virtual Seminar
END:VEVENT
BEGIN:VEVENT
DTSTART;TZID=America/New_York:20210223T080000
DTEND;TZID=America/New_York:20210223T170000
DTSTAMP:20260422T011804
CREATED:20210128T153253Z
LAST-MODIFIED:20210128T153253Z
UID:67050-1614067200-1614099600@se-ortho.com
SUMMARY:Virtual Seminar with Dr. Frederick Moore
DESCRIPTION:Join Dr. Frederick Moore on Tuesday\, February 23rd\, 2021 at 6:30 PM EST for a live virtual seminar where he will present on All About Kyphoplasty. Attendance is limited\, reserve your spot today! \nREGISTER HERE \nAfter registering\, you will receive a confirmation email containing information about joining the webinar.
URL:https://se-ortho.com/event/virtual-seminar-with-dr-frederick-moore-3/
CATEGORIES:Virtual Seminar
END:VEVENT
BEGIN:VEVENT
DTSTART;TZID=America/New_York:20210211T183000
DTEND;TZID=America/New_York:20210211T193000
DTSTAMP:20260422T011804
CREATED:20210125T164750Z
LAST-MODIFIED:20210125T164750Z
UID:67049-1613068200-1613071800@se-ortho.com
SUMMARY:Virtual Seminar with Dr. Christopher Swanson
DESCRIPTION:Join Dr. Christopher Swanson on Thursday\, February 11th\, 2021 at 6:30 PM EST for a live virtual seminar where he will present on Why Does My Shoulder Hurt?- The Truth About the Rotator Cuff. Attendance is limited\, reserve your spot today! \nREGISTER HERE \nAfter registering\, you will receive a confirmation email containing information about joining the webinar.
URL:https://se-ortho.com/event/virtual-seminar-with-dr-christopher-swanson-2/
CATEGORIES:Virtual Seminar
END:VEVENT
BEGIN:VEVENT
DTSTART;TZID=America/New_York:20210211T183000
DTEND;TZID=America/New_York:20210211T193000
DTSTAMP:20260422T011804
CREATED:20210125T164750Z
LAST-MODIFIED:20210125T164750Z
UID:28597-1613068200-1613071800@se-ortho.com
SUMMARY:Virtual Seminar with Dr. Christopher Swanson
DESCRIPTION:Join Dr. Christopher Swanson on Thursday\, February 11th\, 2021 at 6:30 PM EST for a live virtual seminar where he will present on Why Does My Shoulder Hurt?- The Truth About the Rotator Cuff. Attendance is limited\, reserve your spot today! \nREGISTER HERE \nAfter registering\, you will receive a confirmation email containing information about joining the webinar.
URL:https://se-ortho.com/event/virtual-seminar-with-dr-christopher-swanson/
CATEGORIES:Virtual Seminar
END:VEVENT
BEGIN:VEVENT
DTSTART;TZID=America/New_York:20210204T183000
DTEND;TZID=America/New_York:20210204T190000
DTSTAMP:20260422T011804
CREATED:20210125T085043Z
LAST-MODIFIED:20210125T085043Z
UID:67048-1612463400-1612465200@se-ortho.com
SUMMARY:Virtual Introduction with Dr. Jeffrey Burnette
DESCRIPTION:Join us in welcoming Dr. Jeffrey Burnette to the Southeast Orthopedic Specialists team!  Dr. Burnette is a board-certified\, fellowship-trained orthopedic surgeon specializing in Joint Replacement. He will be going live on Thursday\, February 4th 2021 at 6:30 PM EST for a virtual introduction where he will discuss his background and answer any questions you may have. Attendance is limited\, reserve your spot today! \nREGISTER HERE \nAfter registering\, you will receive a confirmation email containing information about joining the webinar.
URL:https://se-ortho.com/event/virtual-introduction-with-dr-jeffrey-burnette-2-2/
END:VEVENT
BEGIN:VEVENT
DTSTART;TZID=America/New_York:20210204T183000
DTEND;TZID=America/New_York:20210204T190000
DTSTAMP:20260422T011805
CREATED:20210125T085043Z
LAST-MODIFIED:20210125T085043Z
UID:28485-1612463400-1612465200@se-ortho.com
SUMMARY:Virtual Introduction with Dr. Jeffrey Burnette
DESCRIPTION:Join us in welcoming Dr. Jeffrey Burnette to the Southeast Orthopedic Specialists team!  Dr. Burnette is a board-certified\, fellowship-trained orthopedic surgeon specializing in Joint Replacement. He will be going live on Thursday\, February 4th 2021 at 6:30 PM EST for a virtual introduction where he will discuss his background and answer any questions you may have. Attendance is limited\, reserve your spot today! \nREGISTER HERE \nAfter registering\, you will receive a confirmation email containing information about joining the webinar.
URL:https://se-ortho.com/event/virtual-introduction-with-dr-jeffrey-burnette-2/
END:VEVENT
BEGIN:VEVENT
DTSTART;TZID=America/New_York:20210127T183000
DTEND;TZID=America/New_York:20210127T193000
DTSTAMP:20260422T011805
CREATED:20210114T144409Z
LAST-MODIFIED:20210114T144409Z
UID:67046-1611772200-1611775800@se-ortho.com
SUMMARY:Virtual Presentation with Dr. Robert Hurford
DESCRIPTION:Join Dr. Robert Hurford on Wednesday\, January 27th\, 2021 at 6:30 PM EST for a live virtual seminar where he will present on The Intracept Procedure for Chronic Low Back Pain. Attendance is limited\, reserve your spot today! \nREGISTER HERE \nAfter registering\, you will receive a confirmation email containing information about joining the webinar. \n 
URL:https://se-ortho.com/event/virtual-presentation-with-dr-robert-hurford-2/
CATEGORIES:Virtual Seminar
END:VEVENT
BEGIN:VEVENT
DTSTART;TZID=America/New_York:20210127T183000
DTEND;TZID=America/New_York:20210127T193000
DTSTAMP:20260422T011805
CREATED:20210114T144409Z
LAST-MODIFIED:20210114T144409Z
UID:27926-1611772200-1611775800@se-ortho.com
SUMMARY:Virtual Presentation with Dr. Robert Hurford
DESCRIPTION:Join Dr. Robert Hurford on Wednesday\, January 27th\, 2021 at 6:30 PM EST for a live virtual seminar where he will present on The Intracept Procedure for Chronic Low Back Pain. Attendance is limited\, reserve your spot today! \nREGISTER HERE \nAfter registering\, you will receive a confirmation email containing information about joining the webinar. \n 
URL:https://se-ortho.com/event/virtual-presentation-with-dr-robert-hurford/
CATEGORIES:Virtual Seminar
END:VEVENT
BEGIN:VEVENT
DTSTART;TZID=America/New_York:20210119T180000
DTEND;TZID=America/New_York:20210119T180000
DTSTAMP:20260422T011805
CREATED:20210118T091524Z
LAST-MODIFIED:20210118T091524Z
UID:67047-1611079200-1611079200@se-ortho.com
SUMMARY:Live Q&A with Dr. Max Lincoln
DESCRIPTION:Join Dr. Max Lincoln\, board-certified and fellowship-trained orthopedic surgeon for a live Q&A on all things hip and knee replacement! You can register for the even below. Once you are logged in you will be able to submit your questions\, or you can submit them ahead of time by emailing them to Schedule@se-ortho.com. \nREGISTER HERE!
URL:https://se-ortho.com/event/live-qa-with-dr-max-lincoln-2/
END:VEVENT
BEGIN:VEVENT
DTSTART;TZID=America/New_York:20210119T180000
DTEND;TZID=America/New_York:20210119T180000
DTSTAMP:20260422T011805
CREATED:20210118T091524Z
LAST-MODIFIED:20210118T091524Z
UID:28078-1611079200-1611079200@se-ortho.com
SUMMARY:Live Q&A with Dr. Max Lincoln
DESCRIPTION:Join Dr. Max Lincoln\, board-certified and fellowship-trained orthopedic surgeon for a live Q&A on all things hip and knee replacement! You can register for the even below. Once you are logged in you will be able to submit your questions\, or you can submit them ahead of time by emailing them to Schedule@se-ortho.com. \nREGISTER HERE!
URL:https://se-ortho.com/event/live-qa-with-dr-max-lincoln/
END:VEVENT
BEGIN:VEVENT
DTSTART;TZID=America/New_York:20210114T183000
DTEND;TZID=America/New_York:20210114T193000
DTSTAMP:20260422T011805
CREATED:20210104T093622Z
LAST-MODIFIED:20210104T093622Z
UID:26591-1610649000-1610652600@se-ortho.com
SUMMARY:Virtual Presentation with Dr. Max Lincoln
DESCRIPTION:Join Dr. Max Lincoln on Thursday\, January 14th\, 2020 at 6:30 PM EST for a live virtual seminar where he will present on Advances in Hip and Knee Surgery. Attendance is limited\, reserve your spot today. \nREGISTER HERE \nAfter registering\, you will receive a confirmation email containing information about joining the webinar. \nEvent Recording
URL:https://se-ortho.com/event/virtual-presentation-with-dr-max-lincoln/
CATEGORIES:Virtual Seminar
END:VEVENT
BEGIN:VEVENT
DTSTART;TZID=America/New_York:20210114T183000
DTEND;TZID=America/New_York:20210114T193000
DTSTAMP:20260422T011805
CREATED:20210104T093622Z
LAST-MODIFIED:20210104T093622Z
UID:67045-1610649000-1610652600@se-ortho.com
SUMMARY:Virtual Presentation with Dr. Max Lincoln
DESCRIPTION:Join Dr. Max Lincoln on Thursday\, January 14th\, 2020 at 6:30 PM EST for a live virtual seminar where he will present on Advances in Hip and Knee Surgery. Attendance is limited\, reserve your spot today. \nREGISTER HERE \nAfter registering\, you will receive a confirmation email containing information about joining the webinar. \nEvent Recording
URL:https://se-ortho.com/event/virtual-presentation-with-dr-max-lincoln-2/
CATEGORIES:Virtual Seminar
END:VEVENT
BEGIN:VEVENT
DTSTART;VALUE=DATE:20210101
DTEND;VALUE=DATE:20210102
DTSTAMP:20260422T011805
CREATED:20201229T091414Z
LAST-MODIFIED:20201229T091414Z
UID:67044-1609459200-1609545599@se-ortho.com
SUMMARY:Closed for New Year's Day
DESCRIPTION:Happy New Year to all! We will see you back in clinic on January 2nd\, 2021.
URL:https://se-ortho.com/event/closed-for-new-years-day-2/
END:VEVENT
BEGIN:VEVENT
DTSTART;VALUE=DATE:20210101
DTEND;VALUE=DATE:20210102
DTSTAMP:20260422T011805
CREATED:20201229T091414Z
LAST-MODIFIED:20201229T091414Z
UID:26588-1609459200-1609545599@se-ortho.com
SUMMARY:Closed for New Year's Day
DESCRIPTION:Happy New Year to all! We will see you back in clinic on January 2nd\, 2021.
URL:https://se-ortho.com/event/closed-for-new-years-day/
END:VEVENT
BEGIN:VEVENT
DTSTART;VALUE=DATE:20201231
DTEND;VALUE=DATE:20210101
DTSTAMP:20260422T011805
CREATED:20201229T091238Z
LAST-MODIFIED:20201229T091238Z
UID:67043-1609372800-1609459199@se-ortho.com
SUMMARY:Closed for New Year's Eve
DESCRIPTION:Happy New Year to all! We will see you back in clinic on January 2nd\, 2021.
URL:https://se-ortho.com/event/closed-for-new-years-eve-2/
END:VEVENT
BEGIN:VEVENT
DTSTART;VALUE=DATE:20201231
DTEND;VALUE=DATE:20210101
DTSTAMP:20260422T011805
CREATED:20201229T091238Z
LAST-MODIFIED:20201229T091238Z
UID:26586-1609372800-1609459199@se-ortho.com
SUMMARY:Closed for New Year's Eve
DESCRIPTION:Happy New Year to all! We will see you back in clinic on January 2nd\, 2021.
URL:https://se-ortho.com/event/closed-for-new-years-eve/
END:VEVENT
END:VCALENDAR