BEGIN:VCALENDAR
VERSION:2.0
PRODID:-//Southeast Orthopedic Specialists - ECPv6.15.18//NONSGML v1.0//EN
CALSCALE:GREGORIAN
METHOD:PUBLISH
X-WR-CALNAME:Southeast Orthopedic Specialists
X-ORIGINAL-URL:https://se-ortho.com
X-WR-CALDESC:Events for Southeast Orthopedic Specialists
REFRESH-INTERVAL;VALUE=DURATION:PT1H
X-Robots-Tag:noindex
X-PUBLISHED-TTL:PT1H
BEGIN:VTIMEZONE
TZID:America/New_York
BEGIN:DAYLIGHT
TZOFFSETFROM:-0500
TZOFFSETTO:-0400
TZNAME:EDT
DTSTART:20200308T070000
END:DAYLIGHT
BEGIN:STANDARD
TZOFFSETFROM:-0400
TZOFFSETTO:-0500
TZNAME:EST
DTSTART:20201101T060000
END:STANDARD
BEGIN:DAYLIGHT
TZOFFSETFROM:-0500
TZOFFSETTO:-0400
TZNAME:EDT
DTSTART:20210314T070000
END:DAYLIGHT
BEGIN:STANDARD
TZOFFSETFROM:-0400
TZOFFSETTO:-0500
TZNAME:EST
DTSTART:20211107T060000
END:STANDARD
BEGIN:DAYLIGHT
TZOFFSETFROM:-0500
TZOFFSETTO:-0400
TZNAME:EDT
DTSTART:20220313T070000
END:DAYLIGHT
BEGIN:STANDARD
TZOFFSETFROM:-0400
TZOFFSETTO:-0500
TZNAME:EST
DTSTART:20221106T060000
END:STANDARD
END:VTIMEZONE
BEGIN:VEVENT
DTSTART;TZID=America/New_York:20210909T183000
DTEND;TZID=America/New_York:20210909T193000
DTSTAMP:20260421T215927
CREATED:20210903T164257Z
LAST-MODIFIED:20210903T164257Z
UID:67077-1631212200-1631215800@se-ortho.com
SUMMARY:Minimally Invasive Bunion Repair Virtual Seminar
DESCRIPTION:Minimally invasive bunion repair – yes you read that right\, it can be minimally invasive!\nJoin Dr. Jorge Acevedo\, board-certified\, fellowship-trained orthopedic surgeon specializing in the area of foot and ankle for a virtual seminar on “Minimally Invasive Bunion Repair”.\nHe will be answering your questions live following the seminar. Attendance is limited\, so follow the link below and sign up today!\n\nWhen: Thursday\, September 9\, 2021\nWhere: Zoom (there is no excuse not to sign up!)\nTime: 6:30PM\n\nREGISTER HERE!\n\nAfter registering\, you will receive a confirmation email containing information about joining the webinar.\n\n\nIf you would like more information\, please visit our website at www.se-ortho.com or call us at (904) 634-0640 to schedule an evaluation with Dr. Acevedo today!\nLearn more about Dr. Acevedo here.
URL:https://se-ortho.com/event/minimally-invasive-bunion-repair-virtual-seminar-2/
CATEGORIES:Virtual Seminar
END:VEVENT
BEGIN:VEVENT
DTSTART;TZID=America/New_York:20210909T183000
DTEND;TZID=America/New_York:20210909T193000
DTSTAMP:20260421T215927
CREATED:20210903T164257Z
LAST-MODIFIED:20210903T164257Z
UID:42034-1631212200-1631215800@se-ortho.com
SUMMARY:Minimally Invasive Bunion Repair Virtual Seminar
DESCRIPTION:Minimally invasive bunion repair – yes you read that right\, it can be minimally invasive!\nJoin Dr. Jorge Acevedo\, board-certified\, fellowship-trained orthopedic surgeon specializing in the area of foot and ankle for a virtual seminar on “Minimally Invasive Bunion Repair”.\nHe will be answering your questions live following the seminar. Attendance is limited\, so follow the link below and sign up today!\n\nWhen: Thursday\, September 9\, 2021\nWhere: Zoom (there is no excuse not to sign up!)\nTime: 6:30PM\n\nREGISTER HERE!\n\nAfter registering\, you will receive a confirmation email containing information about joining the webinar.\n\n\nIf you would like more information\, please visit our website at www.se-ortho.com or call us at (904) 634-0640 to schedule an evaluation with Dr. Acevedo today!\nLearn more about Dr. Acevedo here.
URL:https://se-ortho.com/event/minimally-invasive-bunion-repair-virtual-seminar/
CATEGORIES:Virtual Seminar
END:VEVENT
BEGIN:VEVENT
DTSTART;TZID=America/New_York:20210908T183000
DTEND;TZID=America/New_York:20210908T183000
DTSTAMP:20260421T215927
CREATED:20210903T164056Z
LAST-MODIFIED:20210903T164056Z
UID:67076-1631125800-1631125800@se-ortho.com
SUMMARY:Virtual Introduction with Dr. Isaac Gooding
DESCRIPTION:Southeast Orthopedic Specialists is excited to introduce our newest interventional pain management specialist\, Dr. Isaac Gooding!  \nDr. Isaac Gooding is a board-certified and fellowship-trained interventional pain management specialist. He attended New York Medical College in Valhalla\, NY for his medical degree and then went on to complete an internship\, residency and an anesthesiology fellowship at the Naval Medical Center in San Diego\, CA. During his training\, Dr. Gooding also attended the Naval Aerospace Medical Institute in Pensacola\, FL to become a Naval Flight Surgeon. He is a decorated veteran with over 20 years of military and pain management experience. \nDr. Gooding treats a variety of patients and offers treatments such as interventional spinal procedures\, facet joint injections\, lumbar and sacral radiofrequency denervation\, epidural and sacroiliac steroid injections and many more. If you believe you or someone you know could benefit from these services register for our seminar below! \nDr. Gooding will be hosting a live virtual introduction on Wednesday\, September 8th at 6:30PM. \nFollowing the seminar he will be answering your questions! To register for the seminar\, click HERE! \nTo learn more about Dr. Gooding\, visit his website page here. \nCall our team now to schedule your consultation with Dr. Gooding at (904) 634-0640.
URL:https://se-ortho.com/event/virtual-introduction-with-dr-isaac-gooding-2/
END:VEVENT
BEGIN:VEVENT
DTSTART;TZID=America/New_York:20210908T183000
DTEND;TZID=America/New_York:20210908T183000
DTSTAMP:20260421T215927
CREATED:20210903T164056Z
LAST-MODIFIED:20210903T164056Z
UID:42031-1631125800-1631125800@se-ortho.com
SUMMARY:Virtual Introduction with Dr. Isaac Gooding
DESCRIPTION:Southeast Orthopedic Specialists is excited to introduce our newest interventional pain management specialist\, Dr. Isaac Gooding!  \nDr. Isaac Gooding is a board-certified and fellowship-trained interventional pain management specialist. He attended New York Medical College in Valhalla\, NY for his medical degree and then went on to complete an internship\, residency and an anesthesiology fellowship at the Naval Medical Center in San Diego\, CA. During his training\, Dr. Gooding also attended the Naval Aerospace Medical Institute in Pensacola\, FL to become a Naval Flight Surgeon. He is a decorated veteran with over 20 years of military and pain management experience. \nDr. Gooding treats a variety of patients and offers treatments such as interventional spinal procedures\, facet joint injections\, lumbar and sacral radiofrequency denervation\, epidural and sacroiliac steroid injections and many more. If you believe you or someone you know could benefit from these services register for our seminar below! \nDr. Gooding will be hosting a live virtual introduction on Wednesday\, September 8th at 6:30PM. \nFollowing the seminar he will be answering your questions! To register for the seminar\, click HERE! \nTo learn more about Dr. Gooding\, visit his website page here. \nCall our team now to schedule your consultation with Dr. Gooding at (904) 634-0640.
URL:https://se-ortho.com/event/virtual-introduction-with-dr-isaac-gooding/
END:VEVENT
BEGIN:VEVENT
DTSTART;TZID=America/New_York:20210904T090000
DTEND;TZID=America/New_York:20210904T100000
DTSTAMP:20260421T215927
CREATED:20210826T161431Z
LAST-MODIFIED:20210826T161431Z
UID:67065-1630746000-1630749600@se-ortho.com
SUMMARY:Bumps n' Bruises | Injury Evaluation Clinic
DESCRIPTION:Bumps n’ Bruises is back starting Saturday\, August 28th! \nOur sports medicine physicians will be available every Saturday morning through November for – \n\nFree injury assessment by an expert orthopedic specialist and physical therapist\nRecommended home treatment for simple injuries\nTreatment options and recovery information available for your coach and athletic trainer\nOpen to every school and athletic program\n\nThere are three convenient locations for you to choose from! All locations are available from 9:00AM to 10:00AM for evaluations. \n\nBrooks Rehabilitation CST\n\n10423 Centurion Parkway North\, Jacksonville\, FL 32256 (Inside the YMCA)\n\n\nPreferred Physical Therapy Fleming Island\n\n1835 Eastwest Parkway\, Suite 16\, Fleming Island\, FL 32003\n\n\nAtlas Physical Therapy and Sports Medicine St. Johns\n\n165 Hampton Point Drive\, Suite 3\, St. Augustine\, FL 32092\n\n\n\n 
URL:https://se-ortho.com/event/bumps-n-bruises-injury-evaluation-clinic-2-2/
END:VEVENT
BEGIN:VEVENT
DTSTART;TZID=America/New_York:20210904T090000
DTEND;TZID=America/New_York:20210904T100000
DTSTAMP:20260421T215927
CREATED:20210826T161431Z
LAST-MODIFIED:20210826T161431Z
UID:41626-1630746000-1630749600@se-ortho.com
SUMMARY:Bumps n' Bruises | Injury Evaluation Clinic
DESCRIPTION:Bumps n’ Bruises is back starting Saturday\, August 28th! \nOur sports medicine physicians will be available every Saturday morning through November for – \n\nFree injury assessment by an expert orthopedic specialist and physical therapist\nRecommended home treatment for simple injuries\nTreatment options and recovery information available for your coach and athletic trainer\nOpen to every school and athletic program\n\nThere are three convenient locations for you to choose from! All locations are available from 9:00AM to 10:00AM for evaluations. \n\nBrooks Rehabilitation CST\n\n10423 Centurion Parkway North\, Jacksonville\, FL 32256 (Inside the YMCA)\n\n\nPreferred Physical Therapy Fleming Island\n\n1835 Eastwest Parkway\, Suite 16\, Fleming Island\, FL 32003\n\n\nAtlas Physical Therapy and Sports Medicine St. Johns\n\n165 Hampton Point Drive\, Suite 3\, St. Augustine\, FL 32092\n\n\n\n 
URL:https://se-ortho.com/event/bumps-n-bruises-injury-evaluation-clinic-2/
END:VEVENT
BEGIN:VEVENT
DTSTART;TZID=America/New_York:20210831T183000
DTEND;TZID=America/New_York:20210831T190000
DTSTAMP:20260421T215927
CREATED:20210803T153858Z
LAST-MODIFIED:20210803T153858Z
UID:40574-1630434600-1630436400@se-ortho.com
SUMMARY:Virtual Introduction with Dr. Bryan Boerjan
DESCRIPTION:Meet our newest physician\, Dr. Bryan Boerjan\, chiropractic medicine specialist\, during this virtual introduction. Dr. Boerjan joins Southeast Orthopedic Specialists with years of experience treating patients. He offers spinal manipulations\, motor vehicle accident treatment\, performance rehabilitation and much more. There will be a Q&A session following the seminar. Attendance is limited\, sign up today! \nREGISTER HERE
URL:https://se-ortho.com/event/virtual-introduction-with-dr-bryan-boerjan/
END:VEVENT
BEGIN:VEVENT
DTSTART;TZID=America/New_York:20210831T183000
DTEND;TZID=America/New_York:20210831T190000
DTSTAMP:20260421T215927
CREATED:20210803T153858Z
LAST-MODIFIED:20210803T153858Z
UID:67063-1630434600-1630436400@se-ortho.com
SUMMARY:Virtual Introduction with Dr. Bryan Boerjan
DESCRIPTION:Meet our newest physician\, Dr. Bryan Boerjan\, chiropractic medicine specialist\, during this virtual introduction. Dr. Boerjan joins Southeast Orthopedic Specialists with years of experience treating patients. He offers spinal manipulations\, motor vehicle accident treatment\, performance rehabilitation and much more. There will be a Q&A session following the seminar. Attendance is limited\, sign up today! \nREGISTER HERE
URL:https://se-ortho.com/event/virtual-introduction-with-dr-bryan-boerjan-2/
END:VEVENT
BEGIN:VEVENT
DTSTART;TZID=America/New_York:20210828T090000
DTEND;TZID=America/New_York:20210828T100000
DTSTAMP:20260421T215927
CREATED:20210826T161313Z
LAST-MODIFIED:20210826T161313Z
UID:67064-1630141200-1630144800@se-ortho.com
SUMMARY:Bumps n' Bruises | Injury Evaluation Clinic
DESCRIPTION:Bumps n’ Bruises is back starting Saturday\, August 28th! \nOur sports medicine physicians will be available every Saturday morning through November for – \n\nFree injury assessment by an expert orthopedic specialist and physical therapist\nRecommended home treatment for simple injuries\nTreatment options and recovery information available for your coach and athletic trainer\nOpen to every school and athletic program\n\nThere are three convenient locations for you to choose from! All locations are available from 9:00AM to 10:00AM for evaluations. \n\nBrooks Rehabilitation CST\n\n10423 Centurion Parkway North\, Jacksonville\, FL 32256 (Inside the YMCA)\n\n\nPreferred Physical Therapy Fleming Island\n\n1835 Eastwest Parkway\, Suite 16\, Fleming Island\, FL 32003\n\n\nAtlas Physical Therapy and Sports Medicine St. Johns\n\n165 Hampton Point Drive\, Suite 3\, St. Augustine\, FL 32092\n\n\n\n 
URL:https://se-ortho.com/event/bumps-n-bruises-injury-evaluation-clinic-22/
CATEGORIES:Bumps n' Bruises
END:VEVENT
BEGIN:VEVENT
DTSTART;TZID=America/New_York:20210828T090000
DTEND;TZID=America/New_York:20210828T100000
DTSTAMP:20260421T215927
CREATED:20210826T161313Z
LAST-MODIFIED:20210826T161313Z
UID:41616-1630141200-1630144800@se-ortho.com
SUMMARY:Bumps n' Bruises | Injury Evaluation Clinic
DESCRIPTION:Bumps n’ Bruises is back starting Saturday\, August 28th! \nOur sports medicine physicians will be available every Saturday morning through November for – \n\nFree injury assessment by an expert orthopedic specialist and physical therapist\nRecommended home treatment for simple injuries\nTreatment options and recovery information available for your coach and athletic trainer\nOpen to every school and athletic program\n\nThere are three convenient locations for you to choose from! All locations are available from 9:00AM to 10:00AM for evaluations. \n\nBrooks Rehabilitation CST\n\n10423 Centurion Parkway North\, Jacksonville\, FL 32256 (Inside the YMCA)\n\n\nPreferred Physical Therapy Fleming Island\n\n1835 Eastwest Parkway\, Suite 16\, Fleming Island\, FL 32003\n\n\nAtlas Physical Therapy and Sports Medicine St. Johns\n\n165 Hampton Point Drive\, Suite 3\, St. Augustine\, FL 32092\n\n\n\n 
URL:https://se-ortho.com/event/bumps-n-bruises-injury-evaluation-clinic/
CATEGORIES:Bumps n' Bruises
END:VEVENT
BEGIN:VEVENT
DTSTART;TZID=America/New_York:20210825T183000
DTEND;TZID=America/New_York:20210825T193000
DTSTAMP:20260421T215927
CREATED:20210803T153219Z
LAST-MODIFIED:20210803T153219Z
UID:40571-1629916200-1629919800@se-ortho.com
SUMMARY:Virtual Seminar with Dr. Brett Puckett
DESCRIPTION:Join Dr. Brett Puckett\, board-certified fellowship-trained hand\, wrist and elbow specialist\, for a virtual seminar on “My Elbow Hurts! Understanding Common Causes of Elbow Pain”. There will be a Q&A session following the seminar. Attendance is limited\, sign up today! \nREGISTER HERE: \nTo learn more about Dr. Brett Puckett\, click HERE
URL:https://se-ortho.com/event/virtual-seminar-with-dr-brett-puckett-2/
CATEGORIES:Virtual Seminar
END:VEVENT
BEGIN:VEVENT
DTSTART;TZID=America/New_York:20210825T183000
DTEND;TZID=America/New_York:20210825T193000
DTSTAMP:20260421T215927
CREATED:20210803T153219Z
LAST-MODIFIED:20210803T153219Z
UID:67062-1629916200-1629919800@se-ortho.com
SUMMARY:Virtual Seminar with Dr. Brett Puckett
DESCRIPTION:Join Dr. Brett Puckett\, board-certified fellowship-trained hand\, wrist and elbow specialist\, for a virtual seminar on “My Elbow Hurts! Understanding Common Causes of Elbow Pain”. There will be a Q&A session following the seminar. Attendance is limited\, sign up today! \nREGISTER HERE: \nTo learn more about Dr. Brett Puckett\, click HERE
URL:https://se-ortho.com/event/virtual-seminar-with-dr-brett-puckett-2-2/
CATEGORIES:Virtual Seminar
END:VEVENT
BEGIN:VEVENT
DTSTART;TZID=America/New_York:20210812T183000
DTEND;TZID=America/New_York:20210812T193000
DTSTAMP:20260421T215927
CREATED:20210726T110618Z
LAST-MODIFIED:20210726T110618Z
UID:67061-1628793000-1628796600@se-ortho.com
SUMMARY:Virtual Seminar with Dr. Aaron Bates
DESCRIPTION:Join Dr. Aaron Bates\, board-certified fellowship-trained sports medicine specialist\, for a virtual seminar on “Knee Preservation Procedures- Meniscus and Cartilage Injuries”. There will be a Q&A session following the seminar. Attendance is limited\, sign up today! \nREGISTER HERE: \nTo learn more about Dr. Aaron Bates\, click HERE
URL:https://se-ortho.com/event/virtual-seminar-with-dr-aaron-bates-2/
CATEGORIES:Virtual Seminar
END:VEVENT
BEGIN:VEVENT
DTSTART;TZID=America/New_York:20210812T183000
DTEND;TZID=America/New_York:20210812T193000
DTSTAMP:20260421T215927
CREATED:20210726T110618Z
LAST-MODIFIED:20210726T110618Z
UID:39626-1628793000-1628796600@se-ortho.com
SUMMARY:Virtual Seminar with Dr. Aaron Bates
DESCRIPTION:Join Dr. Aaron Bates\, board-certified fellowship-trained sports medicine specialist\, for a virtual seminar on “Knee Preservation Procedures- Meniscus and Cartilage Injuries”. There will be a Q&A session following the seminar. Attendance is limited\, sign up today! \nREGISTER HERE: \nTo learn more about Dr. Aaron Bates\, click HERE
URL:https://se-ortho.com/event/virtual-seminar-with-dr-aaron-bates/
CATEGORIES:Virtual Seminar
END:VEVENT
BEGIN:VEVENT
DTSTART;TZID=America/New_York:20210728T183000
DTEND;TZID=America/New_York:20210728T193000
DTSTAMP:20260421T215927
CREATED:20210622T142518Z
LAST-MODIFIED:20210622T142518Z
UID:67060-1627497000-1627500600@se-ortho.com
SUMMARY:Virtual Introduction with Dr. David Remias
DESCRIPTION:Please join our newest physician\, Dr. David Remias for a virtual introduction. Dr. Remias is a board-certified fellowship-trained Non-Operative Sports Medicine physician. He will discuss his background and education\, specialty and treatment options for his patients. There will be a Q&A session at the end of this seminar. \nREGISTER HERE \nTo learn more about Dr. Remias\, click HERE \n 
URL:https://se-ortho.com/event/virtual-introduction-with-dr-david-remias-2/
END:VEVENT
BEGIN:VEVENT
DTSTART;TZID=America/New_York:20210728T183000
DTEND;TZID=America/New_York:20210728T193000
DTSTAMP:20260421T215927
CREATED:20210622T142518Z
LAST-MODIFIED:20210622T142518Z
UID:38439-1627497000-1627500600@se-ortho.com
SUMMARY:Virtual Introduction with Dr. David Remias
DESCRIPTION:Please join our newest physician\, Dr. David Remias for a virtual introduction. Dr. Remias is a board-certified fellowship-trained Non-Operative Sports Medicine physician. He will discuss his background and education\, specialty and treatment options for his patients. There will be a Q&A session at the end of this seminar. \nREGISTER HERE \nTo learn more about Dr. Remias\, click HERE \n 
URL:https://se-ortho.com/event/virtual-introduction-with-dr-david-remias/
END:VEVENT
BEGIN:VEVENT
DTSTART;TZID=America/New_York:20210713T183000
DTEND;TZID=America/New_York:20210713T193000
DTSTAMP:20260421T215927
CREATED:20210622T142201Z
LAST-MODIFIED:20210622T142201Z
UID:67059-1626201000-1626204600@se-ortho.com
SUMMARY:Virtual Seminar with Dr. Frank Collier\, Jr.
DESCRIPTION:Please join Dr. Frank Collier. Jr. as he discusses “What In Tarnation Is An Ablation? Back Pain and Ablation Therapy”. Dr. Collier is a board-certified Interventional Spine and Pain Management physician. There will be a Q&A session at the end of this seminar. \nREGISTER HERE \nTo learn more about Dr. Collier\, click HERE \n  \n 
URL:https://se-ortho.com/event/virtual-seminar-with-dr-frank-collier-jr-2/
CATEGORIES:Virtual Seminar
END:VEVENT
BEGIN:VEVENT
DTSTART;TZID=America/New_York:20210713T183000
DTEND;TZID=America/New_York:20210713T193000
DTSTAMP:20260421T215927
CREATED:20210622T142201Z
LAST-MODIFIED:20210622T142201Z
UID:38437-1626201000-1626204600@se-ortho.com
SUMMARY:Virtual Seminar with Dr. Frank Collier\, Jr.
DESCRIPTION:Please join Dr. Frank Collier. Jr. as he discusses “What In Tarnation Is An Ablation? Back Pain and Ablation Therapy”. Dr. Collier is a board-certified Interventional Spine and Pain Management physician. There will be a Q&A session at the end of this seminar. \nREGISTER HERE \nTo learn more about Dr. Collier\, click HERE \n  \n 
URL:https://se-ortho.com/event/virtual-seminar-with-dr-frank-collier-jr/
CATEGORIES:Virtual Seminar
END:VEVENT
BEGIN:VEVENT
DTSTART;TZID=America/New_York:20210629T183000
DTEND;TZID=America/New_York:20210629T193000
DTSTAMP:20260421T215927
CREATED:20210510T092847Z
LAST-MODIFIED:20210510T092847Z
UID:67056-1624991400-1624995000@se-ortho.com
SUMMARY:Virtual Seminar with Dr. Stephan Esser
DESCRIPTION:Join Non-Operative Sports Medicine and Spine Specialist\, Dr. Stephan Esser\, on Tuesday\, June 29th\, 2021 at 6:30 PM EST for a live virtual seminar where he will present on “Healing Naturally: The Science of Stem Cells and PRP”. Attendance is limited\, reserve your spot today! \nREGISTER HERE \nAfter registering\, you will receive a confirmation email containing information about joining the webinar.
URL:https://se-ortho.com/event/virtual-seminar-with-dr-stephan-esser-2-2/
CATEGORIES:Virtual Seminar
END:VEVENT
BEGIN:VEVENT
DTSTART;TZID=America/New_York:20210629T183000
DTEND;TZID=America/New_York:20210629T193000
DTSTAMP:20260421T215927
CREATED:20210510T092847Z
LAST-MODIFIED:20210510T092847Z
UID:34135-1624991400-1624995000@se-ortho.com
SUMMARY:Virtual Seminar with Dr. Stephan Esser
DESCRIPTION:Join Non-Operative Sports Medicine and Spine Specialist\, Dr. Stephan Esser\, on Tuesday\, June 29th\, 2021 at 6:30 PM EST for a live virtual seminar where he will present on “Healing Naturally: The Science of Stem Cells and PRP”. Attendance is limited\, reserve your spot today! \nREGISTER HERE \nAfter registering\, you will receive a confirmation email containing information about joining the webinar.
URL:https://se-ortho.com/event/virtual-seminar-with-dr-stephan-esser-2/
CATEGORIES:Virtual Seminar
END:VEVENT
BEGIN:VEVENT
DTSTART;TZID=America/New_York:20210623T183000
DTEND;TZID=America/New_York:20210623T193000
DTSTAMP:20260421T215927
CREATED:20210622T140737Z
LAST-MODIFIED:20210622T140737Z
UID:38434-1624473000-1624476600@se-ortho.com
SUMMARY:Virtual Introduction with Dr. Pavel Balduyeu
DESCRIPTION:Please join our newest physician\, Dr. Pavel Balduyeu\, for a virtual introduction on June 23rd\, 2021 at 6:30 pm.  Dr. Balduyeu is a board-certified\, fellowship-trained Interventional Spine and Pain Management physician. Dr. Balduyeu will introduce himself\, shares his specialty and many other details and conclude with a Q&A session at the end of this seminar. \nREGISTER HERE \n\n 
URL:https://se-ortho.com/event/virtual-introduction-with-dr-pavel-balduyeu/
END:VEVENT
BEGIN:VEVENT
DTSTART;TZID=America/New_York:20210623T183000
DTEND;TZID=America/New_York:20210623T193000
DTSTAMP:20260421T215927
CREATED:20210622T140737Z
LAST-MODIFIED:20210622T140737Z
UID:67058-1624473000-1624476600@se-ortho.com
SUMMARY:Virtual Introduction with Dr. Pavel Balduyeu
DESCRIPTION:Please join our newest physician\, Dr. Pavel Balduyeu\, for a virtual introduction on June 23rd\, 2021 at 6:30 pm.  Dr. Balduyeu is a board-certified\, fellowship-trained Interventional Spine and Pain Management physician. Dr. Balduyeu will introduce himself\, shares his specialty and many other details and conclude with a Q&A session at the end of this seminar. \nREGISTER HERE \n\n 
URL:https://se-ortho.com/event/virtual-introduction-with-dr-pavel-balduyeu-2/
END:VEVENT
BEGIN:VEVENT
DTSTART;TZID=America/New_York:20210612T090000
DTEND;TZID=America/New_York:20210612T120000
DTSTAMP:20260421T215927
CREATED:20210603T124215Z
LAST-MODIFIED:20210603T124215Z
UID:37337-1623488400-1623499200@se-ortho.com
SUMMARY:Southeast Orthopedic Specialists Job Fair
DESCRIPTION:Are you interested in a career in the healthcare industry? \nCome check out Southeast Orthopedic Specialists’ onsite job fair at our Central Business Office on Saturday\, June 12th\, 2021 from 9 am- 12 pm. \nWe are currently hiring for the following positions:\nAuthorizations\nBilling\nBack Office (Scribe\, Orthotech\, Facilitator)\nFront Office (Check-in\, Check-out)\nMedical Office Scheduler \nPlease be prepared for an on the spot interview\, and have your resume handy. \nTo learn more about our open positions\, follow the link below:\nhttps://lnkd.in/eUacQBs \nTo learn more about Southeast Orthopedic Specialists\, call us at 904.634.0640 and visit our website at se-ortho.com.
URL:https://se-ortho.com/event/southeast-orthopedic-specialists-job-fair/
END:VEVENT
BEGIN:VEVENT
DTSTART;TZID=America/New_York:20210612T090000
DTEND;TZID=America/New_York:20210612T120000
DTSTAMP:20260421T215927
CREATED:20210603T124215Z
LAST-MODIFIED:20210603T124215Z
UID:67057-1623488400-1623499200@se-ortho.com
SUMMARY:Southeast Orthopedic Specialists Job Fair
DESCRIPTION:Are you interested in a career in the healthcare industry? \nCome check out Southeast Orthopedic Specialists’ onsite job fair at our Central Business Office on Saturday\, June 12th\, 2021 from 9 am- 12 pm. \nWe are currently hiring for the following positions:\nAuthorizations\nBilling\nBack Office (Scribe\, Orthotech\, Facilitator)\nFront Office (Check-in\, Check-out)\nMedical Office Scheduler \nPlease be prepared for an on the spot interview\, and have your resume handy. \nTo learn more about our open positions\, follow the link below:\nhttps://lnkd.in/eUacQBs \nTo learn more about Southeast Orthopedic Specialists\, call us at 904.634.0640 and visit our website at se-ortho.com.
URL:https://se-ortho.com/event/southeast-orthopedic-specialists-job-fair-2/
END:VEVENT
BEGIN:VEVENT
DTSTART;TZID=America/New_York:20210610T183000
DTEND;TZID=America/New_York:20210610T193000
DTSTAMP:20260421T215927
CREATED:20210602T142430Z
LAST-MODIFIED:20210602T142430Z
UID:67055-1623349800-1623353400@se-ortho.com
SUMMARY:Virtual Seminar with Dr. Gabriel Galan
DESCRIPTION:Join Dr. Gabriel Galan on Thursday\, June 10th\, 2021 at 6:30 PM EST for a live virtual seminar where he will present on Hammertoes: Deformity and Correction. Attendance is limited\, reserve your spot today! \nREGISTER HERE \nAfter registering\, you will receive a confirmation email containing information about joining the webinar.
URL:https://se-ortho.com/event/virtual-seminar-with-dr-gabriel-galan-2/
CATEGORIES:Virtual Seminar
END:VEVENT
BEGIN:VEVENT
DTSTART;TZID=America/New_York:20210610T183000
DTEND;TZID=America/New_York:20210610T193000
DTSTAMP:20260421T215927
CREATED:20210602T142430Z
LAST-MODIFIED:20210602T142430Z
UID:33231-1623349800-1623353400@se-ortho.com
SUMMARY:Virtual Seminar with Dr. Gabriel Galan
DESCRIPTION:Join Dr. Gabriel Galan on Thursday\, June 10th\, 2021 at 6:30 PM EST for a live virtual seminar where he will present on Hammertoes: Deformity and Correction. Attendance is limited\, reserve your spot today! \nREGISTER HERE \nAfter registering\, you will receive a confirmation email containing information about joining the webinar.
URL:https://se-ortho.com/event/virtual-seminar-with-dr-gabriel-galan/
CATEGORIES:Virtual Seminar
END:VEVENT
BEGIN:VEVENT
DTSTART;TZID=America/New_York:20210506T183000
DTEND;TZID=America/New_York:20210506T193000
DTSTAMP:20260421T215927
CREATED:20210413T101845Z
LAST-MODIFIED:20210413T101845Z
UID:67054-1620325800-1620329400@se-ortho.com
SUMMARY:Virtual Seminar with Dr. Christopher Goll
DESCRIPTION:Join Dr. Christopher Goll on Thursday\, May 6th\, 2021 at 6:30 PM EST for a live virtual seminar where he will present on Treatment Options for Thumb Pain and Arthritis. Attendance is limited\, reserve your spot today! \nREGISTER HERE \nAfter registering\, you will receive a confirmation email containing information about joining the webinar.
URL:https://se-ortho.com/event/virtual-seminar-with-dr-christopher-goll-2/
CATEGORIES:Virtual Seminar
END:VEVENT
BEGIN:VEVENT
DTSTART;TZID=America/New_York:20210506T183000
DTEND;TZID=America/New_York:20210506T193000
DTSTAMP:20260421T215927
CREATED:20210413T101845Z
LAST-MODIFIED:20210413T101845Z
UID:33222-1620325800-1620329400@se-ortho.com
SUMMARY:Virtual Seminar with Dr. Christopher Goll
DESCRIPTION:Join Dr. Christopher Goll on Thursday\, May 6th\, 2021 at 6:30 PM EST for a live virtual seminar where he will present on Treatment Options for Thumb Pain and Arthritis. Attendance is limited\, reserve your spot today! \nREGISTER HERE \nAfter registering\, you will receive a confirmation email containing information about joining the webinar.
URL:https://se-ortho.com/event/virtual-seminar-with-dr-christopher-goll/
CATEGORIES:Virtual Seminar
END:VEVENT
BEGIN:VEVENT
DTSTART;TZID=America/New_York:20210422T183000
DTEND;TZID=America/New_York:20210422T193000
DTSTAMP:20260421T215927
CREATED:20210301T162213Z
LAST-MODIFIED:20210301T162213Z
UID:67053-1619116200-1619119800@se-ortho.com
SUMMARY:Virtual Seminar with Dr. Michael Robinson
DESCRIPTION:Join Dr. Michael Robinson on Thursday\, April 22nd\, 2021 at 6:30 PM EST for a live virtual seminar where he will present on Joint Replacements of the Hip and Knee. Attendance is limited\, reserve your spot today! \nREGISTER HERE \nAfter registering\, you will receive a confirmation email containing information about joining the webinar.
URL:https://se-ortho.com/event/virtual-seminar-with-dr-michael-robinson-2/
CATEGORIES:Virtual Seminar
END:VEVENT
BEGIN:VEVENT
DTSTART;TZID=America/New_York:20210422T183000
DTEND;TZID=America/New_York:20210422T193000
DTSTAMP:20260421T215927
CREATED:20210301T162213Z
LAST-MODIFIED:20210301T162213Z
UID:30957-1619116200-1619119800@se-ortho.com
SUMMARY:Virtual Seminar with Dr. Michael Robinson
DESCRIPTION:Join Dr. Michael Robinson on Thursday\, April 22nd\, 2021 at 6:30 PM EST for a live virtual seminar where he will present on Joint Replacements of the Hip and Knee. Attendance is limited\, reserve your spot today! \nREGISTER HERE \nAfter registering\, you will receive a confirmation email containing information about joining the webinar.
URL:https://se-ortho.com/event/virtual-seminar-with-dr-michael-robinson/
CATEGORIES:Virtual Seminar
END:VEVENT
END:VCALENDAR