BEGIN:VCALENDAR
VERSION:2.0
PRODID:-//Southeast Orthopedic Specialists - ECPv6.15.20//NONSGML v1.0//EN
CALSCALE:GREGORIAN
METHOD:PUBLISH
X-ORIGINAL-URL:https://se-ortho.com
X-WR-CALDESC:Events for Southeast Orthopedic Specialists
REFRESH-INTERVAL;VALUE=DURATION:PT1H
X-Robots-Tag:noindex
X-PUBLISHED-TTL:PT1H
BEGIN:VTIMEZONE
TZID:America/New_York
BEGIN:DAYLIGHT
TZOFFSETFROM:-0500
TZOFFSETTO:-0400
TZNAME:EDT
DTSTART:20200308T070000
END:DAYLIGHT
BEGIN:STANDARD
TZOFFSETFROM:-0400
TZOFFSETTO:-0500
TZNAME:EST
DTSTART:20201101T060000
END:STANDARD
BEGIN:DAYLIGHT
TZOFFSETFROM:-0500
TZOFFSETTO:-0400
TZNAME:EDT
DTSTART:20210314T070000
END:DAYLIGHT
BEGIN:STANDARD
TZOFFSETFROM:-0400
TZOFFSETTO:-0500
TZNAME:EST
DTSTART:20211107T060000
END:STANDARD
BEGIN:DAYLIGHT
TZOFFSETFROM:-0500
TZOFFSETTO:-0400
TZNAME:EDT
DTSTART:20220313T070000
END:DAYLIGHT
BEGIN:STANDARD
TZOFFSETFROM:-0400
TZOFFSETTO:-0500
TZNAME:EST
DTSTART:20221106T060000
END:STANDARD
BEGIN:DAYLIGHT
TZOFFSETFROM:-0500
TZOFFSETTO:-0400
TZNAME:EDT
DTSTART:20230312T070000
END:DAYLIGHT
BEGIN:STANDARD
TZOFFSETFROM:-0400
TZOFFSETTO:-0500
TZNAME:EST
DTSTART:20231105T060000
END:STANDARD
END:VTIMEZONE
BEGIN:VEVENT
DTSTART;TZID=America/New_York:20220223T183000
DTEND;TZID=America/New_York:20220223T183000
DTSTAMP:20260425T115108
CREATED:20220118T113356Z
LAST-MODIFIED:20220118T113356Z
UID:48321-1645641000-1645641000@se-ortho.com
SUMMARY:Virtual Seminar | Dupuytren's Contracture
DESCRIPTION:Join Dr. Guilherme Giusti on Wednesday\, February 23\, 2022 at 6:30 PM EST for a live virtual seminar where he will present on Dupuytren’s Contracture Hand Deformity: Symptoms and Treatment Options. Attendance is limited\, reserve your spot today! \nDupuytren’s Contracture is a hand deformity that typically develops over time. If you are unable to straighten your fingers completely or have noticed a thickening of the skin on your palm you may be experiencing symptoms of Dupuytren’s. Join Dr. Giusti as he dives into causes\, symptoms and various treatment options.  \nREGISTER HERE \nAfter registering\, you will receive a confirmation email containing information about joining the webinar.
URL:https://se-ortho.com/event/virtual-seminar-dupuytrens-contracture/
CATEGORIES:Virtual Seminar
END:VEVENT
BEGIN:VEVENT
DTSTART;TZID=America/New_York:20220223T183000
DTEND;TZID=America/New_York:20220223T183000
DTSTAMP:20260425T115108
CREATED:20220118T113356Z
LAST-MODIFIED:20220118T113356Z
UID:67089-1645641000-1645641000@se-ortho.com
SUMMARY:Virtual Seminar | Dupuytren's Contracture
DESCRIPTION:Join Dr. Guilherme Giusti on Wednesday\, February 23\, 2022 at 6:30 PM EST for a live virtual seminar where he will present on Dupuytren’s Contracture Hand Deformity: Symptoms and Treatment Options. Attendance is limited\, reserve your spot today! \nDupuytren’s Contracture is a hand deformity that typically develops over time. If you are unable to straighten your fingers completely or have noticed a thickening of the skin on your palm you may be experiencing symptoms of Dupuytren’s. Join Dr. Giusti as he dives into causes\, symptoms and various treatment options.  \nREGISTER HERE \nAfter registering\, you will receive a confirmation email containing information about joining the webinar.
URL:https://se-ortho.com/event/virtual-seminar-dupuytrens-contracture-2/
CATEGORIES:Virtual Seminar
END:VEVENT
BEGIN:VEVENT
DTSTART;TZID=America/New_York:20220209T183000
DTEND;TZID=America/New_York:20220209T183000
DTSTAMP:20260425T115108
CREATED:20220118T104329Z
LAST-MODIFIED:20220118T104329Z
UID:48314-1644431400-1644431400@se-ortho.com
SUMMARY:Virtual Seminar | All About Bunions
DESCRIPTION:Join Dr. Gabriel Galan on Wednesday\, February 9th\, 2022 at 6:30 PM EST for a live virtual seminar where he will present on All About Bunions . Attendance is limited\, reserve your spot today! \nREGISTER HERE \nAfter registering\, you will receive a confirmation email containing information about joining the webinar.
URL:https://se-ortho.com/event/virtual-seminar-all-about-bunions/
CATEGORIES:Virtual Seminar
END:VEVENT
BEGIN:VEVENT
DTSTART;TZID=America/New_York:20220209T183000
DTEND;TZID=America/New_York:20220209T183000
DTSTAMP:20260425T115108
CREATED:20220118T104329Z
LAST-MODIFIED:20220118T104329Z
UID:67088-1644431400-1644431400@se-ortho.com
SUMMARY:Virtual Seminar | All About Bunions
DESCRIPTION:Join Dr. Gabriel Galan on Wednesday\, February 9th\, 2022 at 6:30 PM EST for a live virtual seminar where he will present on All About Bunions . Attendance is limited\, reserve your spot today! \nREGISTER HERE \nAfter registering\, you will receive a confirmation email containing information about joining the webinar.
URL:https://se-ortho.com/event/virtual-seminar-all-about-bunions-2/
CATEGORIES:Virtual Seminar
END:VEVENT
BEGIN:VEVENT
DTSTART;TZID=America/New_York:20220125T183000
DTEND;TZID=America/New_York:20220125T183000
DTSTAMP:20260425T115108
CREATED:20220118T093900Z
LAST-MODIFIED:20220118T093900Z
UID:48306-1643135400-1643135400@se-ortho.com
SUMMARY:Virtual Seminar | Shoulder Arthritis
DESCRIPTION:Join Dr. Christopher Swanson on Tuesday\, January 25th\, 2022 at 6:30 PM EST for a live virtual seminar where he will present on Shoulder Arthritis: from resurfacing to reverse replacements. Attendance is limited\, reserve your spot today! \nREGISTER HERE \nAfter registering\, you will receive a confirmation email containing information about joining the webinar.
URL:https://se-ortho.com/event/48306/
CATEGORIES:Virtual Seminar
END:VEVENT
BEGIN:VEVENT
DTSTART;TZID=America/New_York:20220125T183000
DTEND;TZID=America/New_York:20220125T183000
DTSTAMP:20260425T115108
CREATED:20220118T093900Z
LAST-MODIFIED:20220118T093900Z
UID:67087-1643135400-1643135400@se-ortho.com
SUMMARY:Virtual Seminar | Shoulder Arthritis
DESCRIPTION:Join Dr. Christopher Swanson on Tuesday\, January 25th\, 2022 at 6:30 PM EST for a live virtual seminar where he will present on Shoulder Arthritis: from resurfacing to reverse replacements. Attendance is limited\, reserve your spot today! \nREGISTER HERE \nAfter registering\, you will receive a confirmation email containing information about joining the webinar.
URL:https://se-ortho.com/event/48306-2/
CATEGORIES:Virtual Seminar
END:VEVENT
BEGIN:VEVENT
DTSTART;TZID=America/New_York:20220120T183000
DTEND;TZID=America/New_York:20220120T183000
DTSTAMP:20260425T115108
CREATED:20220110T170348Z
LAST-MODIFIED:20220110T170348Z
UID:47678-1642703400-1642703400@se-ortho.com
SUMMARY:Virtual Seminar | Back Pain and Treatment
DESCRIPTION:Join Dr. Frederick Moore on Wednesday\, January 20th\, 2022 at 6:30 PM EST for a live virtual seminar where he will present on Kyphoplasty:  for the management of painful Vertebral Compression Fractures (VCFs) . Attendance is limited\, reserve your spot today! \nREGISTER HERE \nAfter registering\, you will receive a confirmation email containing information about joining the webinar.
URL:https://se-ortho.com/event/virtual-seminar-with-dr-frederick-moore-2/
CATEGORIES:Virtual Seminar
ATTACH;FMTTYPE=image/png:https://se-ortho.com/wp-content/uploads/2022/01/SOS-Kyphoplasty.png
END:VEVENT
BEGIN:VEVENT
DTSTART;TZID=America/New_York:20220120T183000
DTEND;TZID=America/New_York:20220120T183000
DTSTAMP:20260425T115108
CREATED:20220110T170348Z
LAST-MODIFIED:20220110T170348Z
UID:67086-1642703400-1642703400@se-ortho.com
SUMMARY:Virtual Seminar | Back Pain and Treatment
DESCRIPTION:Join Dr. Frederick Moore on Wednesday\, January 20th\, 2022 at 6:30 PM EST for a live virtual seminar where he will present on Kyphoplasty:  for the management of painful Vertebral Compression Fractures (VCFs) . Attendance is limited\, reserve your spot today! \nREGISTER HERE \nAfter registering\, you will receive a confirmation email containing information about joining the webinar.
URL:https://se-ortho.com/event/virtual-seminar-with-dr-frederick-moore-2-2/
CATEGORIES:Virtual Seminar
ATTACH;FMTTYPE=image/png:https://se-ortho.com/wp-content/uploads/2022/01/SOS-Kyphoplasty.png
END:VEVENT
BEGIN:VEVENT
DTSTART;TZID=America/New_York:20211208T183000
DTEND;TZID=America/New_York:20211208T183000
DTSTAMP:20260425T115108
CREATED:20211028T155726Z
LAST-MODIFIED:20211028T155726Z
UID:44526-1638988200-1638988200@se-ortho.com
SUMMARY:Virtual Seminar with Dr. Stephen Arndt
DESCRIPTION:Join orthopedic foot and ankle surgeon\, Dr. Stephen Arndt for a virtual seminar on Wednesday\, December 8th. \n“Topics I am commonly asked about: Lapiplasty & Lapidus Bunions\, and Minimally Invasive Achilles Reconstruction” \nIf you are interested in attending the seminar\, you can REGISTER HERE! \nTo learn more about Dr. Arndt\, visit his website page here.
URL:https://se-ortho.com/event/virtual-seminar-with-dr-stephen-arndt-2/
CATEGORIES:Virtual Seminar
END:VEVENT
BEGIN:VEVENT
DTSTART;TZID=America/New_York:20211208T183000
DTEND;TZID=America/New_York:20211208T183000
DTSTAMP:20260425T115108
CREATED:20211028T155726Z
LAST-MODIFIED:20211028T155726Z
UID:67084-1638988200-1638988200@se-ortho.com
SUMMARY:Virtual Seminar with Dr. Stephen Arndt
DESCRIPTION:Join orthopedic foot and ankle surgeon\, Dr. Stephen Arndt for a virtual seminar on Wednesday\, December 8th. \n“Topics I am commonly asked about: Lapiplasty & Lapidus Bunions\, and Minimally Invasive Achilles Reconstruction” \nIf you are interested in attending the seminar\, you can REGISTER HERE! \nTo learn more about Dr. Arndt\, visit his website page here.
URL:https://se-ortho.com/event/virtual-seminar-with-dr-stephen-arndt-2-2/
CATEGORIES:Virtual Seminar
END:VEVENT
BEGIN:VEVENT
DTSTART;TZID=America/New_York:20211117T183000
DTEND;TZID=America/New_York:20211117T183000
DTSTAMP:20260425T115108
CREATED:20211028T155352Z
LAST-MODIFIED:20211028T155352Z
UID:44524-1637173800-1637173800@se-ortho.com
SUMMARY:Let's Talk About Hip Replacements with Dr. Jeffrey Burnette
DESCRIPTION:Join orthopedic hip and knee surgeon Dr. Burnette for a virtual seminar on “Let’s Talk About Total Hip Replacements” on Wednesday\, November 17th. \nIf you are interested in attending the event you can REGISTER HERE! \nIf you would like to learn more about Dr. Burnette\, visit his website page here. \n 
URL:https://se-ortho.com/event/lets-talk-about-hip-replacements-with-dr-jeffrey-burnette/
CATEGORIES:Virtual Seminar
END:VEVENT
BEGIN:VEVENT
DTSTART;TZID=America/New_York:20211117T183000
DTEND;TZID=America/New_York:20211117T183000
DTSTAMP:20260425T115108
CREATED:20211028T155352Z
LAST-MODIFIED:20211028T155352Z
UID:67083-1637173800-1637173800@se-ortho.com
SUMMARY:Let's Talk About Hip Replacements with Dr. Jeffrey Burnette
DESCRIPTION:Join orthopedic hip and knee surgeon Dr. Burnette for a virtual seminar on “Let’s Talk About Total Hip Replacements” on Wednesday\, November 17th. \nIf you are interested in attending the event you can REGISTER HERE! \nIf you would like to learn more about Dr. Burnette\, visit his website page here. \n 
URL:https://se-ortho.com/event/lets-talk-about-hip-replacements-with-dr-jeffrey-burnette-2/
CATEGORIES:Virtual Seminar
END:VEVENT
BEGIN:VEVENT
DTSTART;TZID=America/New_York:20211020T183000
DTEND;TZID=America/New_York:20211020T193000
DTSTAMP:20260425T115108
CREATED:20211012T103641Z
LAST-MODIFIED:20211012T103641Z
UID:43799-1634754600-1634758200@se-ortho.com
SUMMARY:A Closer Look Into Hip Fractures with Dr. Militano
DESCRIPTION:Over 300\,000 people over the age of 65 years old are hospitalized for hip fractures each year in the United States according to the CDC. \nJoin orthopedic traumatologist\, Dr. Ulises Militano\, for a virtual seminar on “A Closer Look Into Hip Fractures”. He will discuss ways to avoid these falls\, what to do if it happens to you and what you can expect following a hip fracture. \nDr. Militano will also be answering your questions live following the seminar. Attendance is limited\, so follow the link below and sign up today! \nLearn more about Dr. Militano and our Fracture Care Program here. \nRegister here!
URL:https://se-ortho.com/event/a-closer-look-into-hip-fractures-with-dr-militano/
CATEGORIES:Virtual Seminar
END:VEVENT
BEGIN:VEVENT
DTSTART;TZID=America/New_York:20211020T183000
DTEND;TZID=America/New_York:20211020T193000
DTSTAMP:20260425T115108
CREATED:20211012T103641Z
LAST-MODIFIED:20211012T103641Z
UID:67081-1634754600-1634758200@se-ortho.com
SUMMARY:A Closer Look Into Hip Fractures with Dr. Militano
DESCRIPTION:Over 300\,000 people over the age of 65 years old are hospitalized for hip fractures each year in the United States according to the CDC. \nJoin orthopedic traumatologist\, Dr. Ulises Militano\, for a virtual seminar on “A Closer Look Into Hip Fractures”. He will discuss ways to avoid these falls\, what to do if it happens to you and what you can expect following a hip fracture. \nDr. Militano will also be answering your questions live following the seminar. Attendance is limited\, so follow the link below and sign up today! \nLearn more about Dr. Militano and our Fracture Care Program here. \nRegister here!
URL:https://se-ortho.com/event/a-closer-look-into-hip-fractures-with-dr-militano-2/
CATEGORIES:Virtual Seminar
END:VEVENT
BEGIN:VEVENT
DTSTART;TZID=America/New_York:20211007T183000
DTEND;TZID=America/New_York:20211007T193000
DTSTAMP:20260425T115108
CREATED:20210923T090259Z
LAST-MODIFIED:20210923T090259Z
UID:42967-1633631400-1633635000@se-ortho.com
SUMMARY:Virtual Seminar | Cervical Disc Replacement with Dr. Hurford
DESCRIPTION:Over 1 million people each year in the United States suffer from symptomatic cervical disc disease\, are you one of them? \nIf your cervical disc pain is preventing you from doing your daily functions\, this seminar is for you. \nJoin Dr. Robert Hurford\, board-certified\, fellowship-trained\, orthopedic spine surgeon for a virtual seminar on “Cervical Disc Replacement”. \nHe will be going into detail on the various symptoms\, methods of conservative care and minimally invasive surgical techniques that are available today. Dr. Hurford will also be answering your questions live following the seminar. Attendance is limited\, so follow the link below and sign up today! \n\nREGISTER HERE! \nLearn more about Dr. Hurford here.
URL:https://se-ortho.com/event/virtual-seminar-cervical-disc-replacement-with-dr-hurford/
CATEGORIES:Virtual Seminar
END:VEVENT
BEGIN:VEVENT
DTSTART;TZID=America/New_York:20211007T183000
DTEND;TZID=America/New_York:20211007T193000
DTSTAMP:20260425T115108
CREATED:20210923T090259Z
LAST-MODIFIED:20210923T090259Z
UID:67079-1633631400-1633635000@se-ortho.com
SUMMARY:Virtual Seminar | Cervical Disc Replacement with Dr. Hurford
DESCRIPTION:Over 1 million people each year in the United States suffer from symptomatic cervical disc disease\, are you one of them? \nIf your cervical disc pain is preventing you from doing your daily functions\, this seminar is for you. \nJoin Dr. Robert Hurford\, board-certified\, fellowship-trained\, orthopedic spine surgeon for a virtual seminar on “Cervical Disc Replacement”. \nHe will be going into detail on the various symptoms\, methods of conservative care and minimally invasive surgical techniques that are available today. Dr. Hurford will also be answering your questions live following the seminar. Attendance is limited\, so follow the link below and sign up today! \n\nREGISTER HERE! \nLearn more about Dr. Hurford here.
URL:https://se-ortho.com/event/virtual-seminar-cervical-disc-replacement-with-dr-hurford-2/
CATEGORIES:Virtual Seminar
END:VEVENT
BEGIN:VEVENT
DTSTART;TZID=America/New_York:20210915T183000
DTEND;TZID=America/New_York:20210915T193000
DTSTAMP:20260425T115108
CREATED:20210910T162720Z
LAST-MODIFIED:20210910T162720Z
UID:42386-1631730600-1631734200@se-ortho.com
SUMMARY:Top Ten Questions In Total Knee Replacements Virtual Seminar with Dr. Gavan Duffy
DESCRIPTION:How many questions do you have regarding total knee replacements? Well Dr. Duffy is going to dive deep into the “Top Ten Questions In Total Knee Replacements” just for you!\nJoin Dr. Gavan Duffy\, board-certified\, fellowship-trained\, orthopedic surgeon specializing in hip and knee replacements\, for a virtual seminar.\n\nHe will be answering your questions live following the seminar. Attendance is limited\, so follow the link below and sign up today.\n\nREGISTER HERE!
URL:https://se-ortho.com/event/top-ten-questions-in-total-knee-replacements-virtual-seminar-with-dr-gavan-duffy/
CATEGORIES:Virtual Seminar
END:VEVENT
BEGIN:VEVENT
DTSTART;TZID=America/New_York:20210915T183000
DTEND;TZID=America/New_York:20210915T193000
DTSTAMP:20260425T115108
CREATED:20210910T162720Z
LAST-MODIFIED:20210910T162720Z
UID:67078-1631730600-1631734200@se-ortho.com
SUMMARY:Top Ten Questions In Total Knee Replacements Virtual Seminar with Dr. Gavan Duffy
DESCRIPTION:How many questions do you have regarding total knee replacements? Well Dr. Duffy is going to dive deep into the “Top Ten Questions In Total Knee Replacements” just for you!\nJoin Dr. Gavan Duffy\, board-certified\, fellowship-trained\, orthopedic surgeon specializing in hip and knee replacements\, for a virtual seminar.\n\nHe will be answering your questions live following the seminar. Attendance is limited\, so follow the link below and sign up today.\n\nREGISTER HERE!
URL:https://se-ortho.com/event/top-ten-questions-in-total-knee-replacements-virtual-seminar-with-dr-gavan-duffy-2/
CATEGORIES:Virtual Seminar
END:VEVENT
BEGIN:VEVENT
DTSTART;TZID=America/New_York:20210909T183000
DTEND;TZID=America/New_York:20210909T193000
DTSTAMP:20260425T115108
CREATED:20210903T164257Z
LAST-MODIFIED:20210903T164257Z
UID:42034-1631212200-1631215800@se-ortho.com
SUMMARY:Minimally Invasive Bunion Repair Virtual Seminar
DESCRIPTION:Minimally invasive bunion repair – yes you read that right\, it can be minimally invasive!\nJoin Dr. Jorge Acevedo\, board-certified\, fellowship-trained orthopedic surgeon specializing in the area of foot and ankle for a virtual seminar on “Minimally Invasive Bunion Repair”.\nHe will be answering your questions live following the seminar. Attendance is limited\, so follow the link below and sign up today!\n\nWhen: Thursday\, September 9\, 2021\nWhere: Zoom (there is no excuse not to sign up!)\nTime: 6:30PM\n\nREGISTER HERE!\n\nAfter registering\, you will receive a confirmation email containing information about joining the webinar.\n\n\nIf you would like more information\, please visit our website at www.se-ortho.com or call us at (904) 634-0640 to schedule an evaluation with Dr. Acevedo today!\nLearn more about Dr. Acevedo here.
URL:https://se-ortho.com/event/minimally-invasive-bunion-repair-virtual-seminar/
CATEGORIES:Virtual Seminar
END:VEVENT
BEGIN:VEVENT
DTSTART;TZID=America/New_York:20210909T183000
DTEND;TZID=America/New_York:20210909T193000
DTSTAMP:20260425T115108
CREATED:20210903T164257Z
LAST-MODIFIED:20210903T164257Z
UID:67077-1631212200-1631215800@se-ortho.com
SUMMARY:Minimally Invasive Bunion Repair Virtual Seminar
DESCRIPTION:Minimally invasive bunion repair – yes you read that right\, it can be minimally invasive!\nJoin Dr. Jorge Acevedo\, board-certified\, fellowship-trained orthopedic surgeon specializing in the area of foot and ankle for a virtual seminar on “Minimally Invasive Bunion Repair”.\nHe will be answering your questions live following the seminar. Attendance is limited\, so follow the link below and sign up today!\n\nWhen: Thursday\, September 9\, 2021\nWhere: Zoom (there is no excuse not to sign up!)\nTime: 6:30PM\n\nREGISTER HERE!\n\nAfter registering\, you will receive a confirmation email containing information about joining the webinar.\n\n\nIf you would like more information\, please visit our website at www.se-ortho.com or call us at (904) 634-0640 to schedule an evaluation with Dr. Acevedo today!\nLearn more about Dr. Acevedo here.
URL:https://se-ortho.com/event/minimally-invasive-bunion-repair-virtual-seminar-2/
CATEGORIES:Virtual Seminar
END:VEVENT
BEGIN:VEVENT
DTSTART;TZID=America/New_York:20210825T183000
DTEND;TZID=America/New_York:20210825T193000
DTSTAMP:20260425T115108
CREATED:20210803T153219Z
LAST-MODIFIED:20210803T153219Z
UID:67062-1629916200-1629919800@se-ortho.com
SUMMARY:Virtual Seminar with Dr. Brett Puckett
DESCRIPTION:Join Dr. Brett Puckett\, board-certified fellowship-trained hand\, wrist and elbow specialist\, for a virtual seminar on “My Elbow Hurts! Understanding Common Causes of Elbow Pain”. There will be a Q&A session following the seminar. Attendance is limited\, sign up today! \nREGISTER HERE: \nTo learn more about Dr. Brett Puckett\, click HERE
URL:https://se-ortho.com/event/virtual-seminar-with-dr-brett-puckett-2-2/
CATEGORIES:Virtual Seminar
END:VEVENT
BEGIN:VEVENT
DTSTART;TZID=America/New_York:20210825T183000
DTEND;TZID=America/New_York:20210825T193000
DTSTAMP:20260425T115108
CREATED:20210803T153219Z
LAST-MODIFIED:20210803T153219Z
UID:40571-1629916200-1629919800@se-ortho.com
SUMMARY:Virtual Seminar with Dr. Brett Puckett
DESCRIPTION:Join Dr. Brett Puckett\, board-certified fellowship-trained hand\, wrist and elbow specialist\, for a virtual seminar on “My Elbow Hurts! Understanding Common Causes of Elbow Pain”. There will be a Q&A session following the seminar. Attendance is limited\, sign up today! \nREGISTER HERE: \nTo learn more about Dr. Brett Puckett\, click HERE
URL:https://se-ortho.com/event/virtual-seminar-with-dr-brett-puckett-2/
CATEGORIES:Virtual Seminar
END:VEVENT
BEGIN:VEVENT
DTSTART;TZID=America/New_York:20210812T183000
DTEND;TZID=America/New_York:20210812T193000
DTSTAMP:20260425T115108
CREATED:20210726T110618Z
LAST-MODIFIED:20210726T110618Z
UID:39626-1628793000-1628796600@se-ortho.com
SUMMARY:Virtual Seminar with Dr. Aaron Bates
DESCRIPTION:Join Dr. Aaron Bates\, board-certified fellowship-trained sports medicine specialist\, for a virtual seminar on “Knee Preservation Procedures- Meniscus and Cartilage Injuries”. There will be a Q&A session following the seminar. Attendance is limited\, sign up today! \nREGISTER HERE: \nTo learn more about Dr. Aaron Bates\, click HERE
URL:https://se-ortho.com/event/virtual-seminar-with-dr-aaron-bates/
CATEGORIES:Virtual Seminar
END:VEVENT
BEGIN:VEVENT
DTSTART;TZID=America/New_York:20210812T183000
DTEND;TZID=America/New_York:20210812T193000
DTSTAMP:20260425T115108
CREATED:20210726T110618Z
LAST-MODIFIED:20210726T110618Z
UID:67061-1628793000-1628796600@se-ortho.com
SUMMARY:Virtual Seminar with Dr. Aaron Bates
DESCRIPTION:Join Dr. Aaron Bates\, board-certified fellowship-trained sports medicine specialist\, for a virtual seminar on “Knee Preservation Procedures- Meniscus and Cartilage Injuries”. There will be a Q&A session following the seminar. Attendance is limited\, sign up today! \nREGISTER HERE: \nTo learn more about Dr. Aaron Bates\, click HERE
URL:https://se-ortho.com/event/virtual-seminar-with-dr-aaron-bates-2/
CATEGORIES:Virtual Seminar
END:VEVENT
BEGIN:VEVENT
DTSTART;TZID=America/New_York:20210713T183000
DTEND;TZID=America/New_York:20210713T193000
DTSTAMP:20260425T115108
CREATED:20210622T142201Z
LAST-MODIFIED:20210622T142201Z
UID:38437-1626201000-1626204600@se-ortho.com
SUMMARY:Virtual Seminar with Dr. Frank Collier\, Jr.
DESCRIPTION:Please join Dr. Frank Collier. Jr. as he discusses “What In Tarnation Is An Ablation? Back Pain and Ablation Therapy”. Dr. Collier is a board-certified Interventional Spine and Pain Management physician. There will be a Q&A session at the end of this seminar. \nREGISTER HERE \nTo learn more about Dr. Collier\, click HERE \n  \n 
URL:https://se-ortho.com/event/virtual-seminar-with-dr-frank-collier-jr/
CATEGORIES:Virtual Seminar
END:VEVENT
BEGIN:VEVENT
DTSTART;TZID=America/New_York:20210713T183000
DTEND;TZID=America/New_York:20210713T193000
DTSTAMP:20260425T115108
CREATED:20210622T142201Z
LAST-MODIFIED:20210622T142201Z
UID:67059-1626201000-1626204600@se-ortho.com
SUMMARY:Virtual Seminar with Dr. Frank Collier\, Jr.
DESCRIPTION:Please join Dr. Frank Collier. Jr. as he discusses “What In Tarnation Is An Ablation? Back Pain and Ablation Therapy”. Dr. Collier is a board-certified Interventional Spine and Pain Management physician. There will be a Q&A session at the end of this seminar. \nREGISTER HERE \nTo learn more about Dr. Collier\, click HERE \n  \n 
URL:https://se-ortho.com/event/virtual-seminar-with-dr-frank-collier-jr-2/
CATEGORIES:Virtual Seminar
END:VEVENT
BEGIN:VEVENT
DTSTART;TZID=America/New_York:20210629T183000
DTEND;TZID=America/New_York:20210629T193000
DTSTAMP:20260425T115108
CREATED:20210510T092847Z
LAST-MODIFIED:20210510T092847Z
UID:34135-1624991400-1624995000@se-ortho.com
SUMMARY:Virtual Seminar with Dr. Stephan Esser
DESCRIPTION:Join Non-Operative Sports Medicine and Spine Specialist\, Dr. Stephan Esser\, on Tuesday\, June 29th\, 2021 at 6:30 PM EST for a live virtual seminar where he will present on “Healing Naturally: The Science of Stem Cells and PRP”. Attendance is limited\, reserve your spot today! \nREGISTER HERE \nAfter registering\, you will receive a confirmation email containing information about joining the webinar.
URL:https://se-ortho.com/event/virtual-seminar-with-dr-stephan-esser-2/
CATEGORIES:Virtual Seminar
END:VEVENT
BEGIN:VEVENT
DTSTART;TZID=America/New_York:20210629T183000
DTEND;TZID=America/New_York:20210629T193000
DTSTAMP:20260425T115108
CREATED:20210510T092847Z
LAST-MODIFIED:20210510T092847Z
UID:67056-1624991400-1624995000@se-ortho.com
SUMMARY:Virtual Seminar with Dr. Stephan Esser
DESCRIPTION:Join Non-Operative Sports Medicine and Spine Specialist\, Dr. Stephan Esser\, on Tuesday\, June 29th\, 2021 at 6:30 PM EST for a live virtual seminar where he will present on “Healing Naturally: The Science of Stem Cells and PRP”. Attendance is limited\, reserve your spot today! \nREGISTER HERE \nAfter registering\, you will receive a confirmation email containing information about joining the webinar.
URL:https://se-ortho.com/event/virtual-seminar-with-dr-stephan-esser-2-2/
CATEGORIES:Virtual Seminar
END:VEVENT
BEGIN:VEVENT
DTSTART;TZID=America/New_York:20210610T183000
DTEND;TZID=America/New_York:20210610T193000
DTSTAMP:20260425T115108
CREATED:20210602T142430Z
LAST-MODIFIED:20210602T142430Z
UID:33231-1623349800-1623353400@se-ortho.com
SUMMARY:Virtual Seminar with Dr. Gabriel Galan
DESCRIPTION:Join Dr. Gabriel Galan on Thursday\, June 10th\, 2021 at 6:30 PM EST for a live virtual seminar where he will present on Hammertoes: Deformity and Correction. Attendance is limited\, reserve your spot today! \nREGISTER HERE \nAfter registering\, you will receive a confirmation email containing information about joining the webinar.
URL:https://se-ortho.com/event/virtual-seminar-with-dr-gabriel-galan/
CATEGORIES:Virtual Seminar
END:VEVENT
BEGIN:VEVENT
DTSTART;TZID=America/New_York:20210610T183000
DTEND;TZID=America/New_York:20210610T193000
DTSTAMP:20260425T115108
CREATED:20210602T142430Z
LAST-MODIFIED:20210602T142430Z
UID:67055-1623349800-1623353400@se-ortho.com
SUMMARY:Virtual Seminar with Dr. Gabriel Galan
DESCRIPTION:Join Dr. Gabriel Galan on Thursday\, June 10th\, 2021 at 6:30 PM EST for a live virtual seminar where he will present on Hammertoes: Deformity and Correction. Attendance is limited\, reserve your spot today! \nREGISTER HERE \nAfter registering\, you will receive a confirmation email containing information about joining the webinar.
URL:https://se-ortho.com/event/virtual-seminar-with-dr-gabriel-galan-2/
CATEGORIES:Virtual Seminar
END:VEVENT
END:VCALENDAR